Index of /checkResults/3.13/bioc-LATEST/CNORode/raw-results/nebbiolo1

[ICO]NameLast modifiedSizeDescription

[DIR]Parent Directory  -  
[TXT]buildsrc-out.txt16-Oct-2021 04:05 899  
[   ]buildsrc-summary.dcf16-Oct-2021 04:05 417  
[TXT]checksrc-out.txt16-Oct-2021 04:05 7.0K 
[   ]checksrc-summary.dcf16-Oct-2021 04:05 429  
[TXT]install-out.txt16-Oct-2021 04:05 12K 
[   ]install-summary.dcf16-Oct-2021 04:05 259