Index of /checkResults/3.13/bioc-LATEST/CNORode/raw-results/machv2

[ICO]NameLast modifiedSizeDescription

[DIR]Parent Directory  -  
[TXT]buildbin-out.txt16-Oct-2021 04:06 13K 
[   ]buildbin-summary.dcf16-Oct-2021 04:06 547  
[TXT]buildsrc-out.txt16-Oct-2021 04:06 926  
[   ]buildsrc-summary.dcf16-Oct-2021 04:06 444  
[TXT]checksrc-out.txt16-Oct-2021 04:06 7.2K 
[   ]checksrc-summary.dcf16-Oct-2021 04:06 484  
[TXT]install-out.txt16-Oct-2021 04:06 12K 
[   ]install-summary.dcf16-Oct-2021 04:06 286