Index of /checkResults/3.13/bioc-LATEST/CNORode/raw-results

[ICO]NameLast modifiedSizeDescription

[DIR]Parent Directory  -  
[   ]info.dcf16-Oct-2021 04:06 271  
[DIR]machv2/16-Oct-2021 04:06 -  
[DIR]nebbiolo1/16-Oct-2021 04:05 -  
[DIR]tokay2/16-Oct-2021 04:06 -