Back to Multiple platform build/check report for BioC 3.13
AB[C]DEFGHIJKLMNOPQRSTUVWXYZ

This page was generated on 2021-07-23 15:05:59 -0400 (Fri, 23 Jul 2021).

BUILD BIN results for CNORfuzzy on tokay2

To the developers/maintainers of the CNORfuzzy package:
- Please allow up to 24 hours (and sometimes 48 hours) for your latest push to git@git.bioconductor.org:packages/CNORfuzzy.git to
reflect on this report. See How and When does the builder pull? When will my changes propagate? here for more information.
- Make sure to use the following settings in order to reproduce any error or warning you see on this page.

raw results

Package 345/2041HostnameOS / ArchINSTALLBUILDCHECKBUILD BIN
CNORfuzzy 1.34.0  (landing page)
T. Cokelaer
Snapshot Date: 2021-07-22 04:50:13 -0400 (Thu, 22 Jul 2021)
URL: https://git.bioconductor.org/packages/CNORfuzzy
Branch: RELEASE_3_13
Last Commit: 0e3dc04
Last Changed Date: 2021-05-19 11:53:34 -0400 (Wed, 19 May 2021)
nebbiolo1Linux (Ubuntu 20.04.2 LTS) / x86_64  OK    OK    OK  UNNEEDED, same version is already published
tokay2Windows Server 2012 R2 Standard / x64  OK    OK    OK    OK  UNNEEDED, same version is already published
machv2macOS 10.14.6 Mojave / x86_64  OK    OK    OK    OK  UNNEEDED, same version is already published

Summary

Package: CNORfuzzy
Version: 1.34.0
Command: rm -rf CNORfuzzy.buildbin-libdir && mkdir CNORfuzzy.buildbin-libdir && C:\Users\biocbuild\bbs-3.13-bioc\R\bin\R.exe CMD INSTALL --merge-multiarch --build --library=CNORfuzzy.buildbin-libdir CNORfuzzy_1.34.0.tar.gz
StartedAt: 2021-07-23 08:56:54 -0400 (Fri, 23 Jul 2021)
EndedAt: 2021-07-23 08:58:07 -0400 (Fri, 23 Jul 2021)
EllapsedTime: 72.8 seconds
RetCode: 0
Status:   OK  
PackageFile: CNORfuzzy_1.34.0.zip
PackageFileSize: 742.8 KiB

Command output

##############################################################################
##############################################################################
###
### Running command:
###
###   rm -rf CNORfuzzy.buildbin-libdir && mkdir CNORfuzzy.buildbin-libdir && C:\Users\biocbuild\bbs-3.13-bioc\R\bin\R.exe CMD INSTALL --merge-multiarch --build --library=CNORfuzzy.buildbin-libdir CNORfuzzy_1.34.0.tar.gz
###
##############################################################################
##############################################################################



install for i386

* installing *source* package 'CNORfuzzy' ...
** using staged installation
** libs
"C:/rtools40/mingw32/bin/"gcc  -I"C:/Users/BIOCBU~1/BBS-3~1.13-/R/include" -DNDEBUG     -I"C:/extsoft/include"     -O2 -Wall  -std=gnu99 -mfpmath=sse -msse2 -mstackrealign  -c simulatorT1.c -o simulatorT1.o
C:/rtools40/mingw32/bin/gcc -shared -s -static-libgcc -o CNORfuzzy.dll tmp.def simulatorT1.o -LC:/extsoft/lib/i386 -LC:/extsoft/lib -LC:/Users/BIOCBU~1/BBS-3~1.13-/R/bin/i386 -lR
installing to C:/Users/biocbuild/bbs-3.13-bioc/meat/CNORfuzzy.buildbin-libdir/00LOCK-CNORfuzzy/00new/CNORfuzzy/libs/i386
** R
** inst
** byte-compile and prepare package for lazy loading
** help
*** installing help indices
  converting help for package 'CNORfuzzy'
    finding HTML links ... done
    CNORfuzzy-package                       html  
    finding level-2 HTML links ... done

    CNORwrapFuzzy                           html  
    compileMultiRes                         html  
    computeScoreFuzzy                       html  
    defaultParametersFuzzy                  html  
    gaDiscreteT1                            html  
    getRefinedModel                         html  
    interpretDiscreteGA                     html  
    plotMeanFuzzyFit                        html  
    prep4simFuzzy                           html  
    reduceFuzzy                             html  
    simFuzzyT1                              html  
    writeFuzzyNetwork                       html  
** building package indices
** installing vignettes
** testing if installed package can be loaded from temporary location
** testing if installed package can be loaded from final location
** testing if installed package keeps a record of temporary installation path

install for x64

* installing *source* package 'CNORfuzzy' ...
** libs
"C:/rtools40/mingw64/bin/"gcc  -I"C:/Users/BIOCBU~1/BBS-3~1.13-/R/include" -DNDEBUG     -I"C:/extsoft/include"     -O2 -Wall  -std=gnu99 -mfpmath=sse -msse2 -mstackrealign  -c simulatorT1.c -o simulatorT1.o
C:/rtools40/mingw64/bin/gcc -shared -s -static-libgcc -o CNORfuzzy.dll tmp.def simulatorT1.o -LC:/extsoft/lib/x64 -LC:/extsoft/lib -LC:/Users/BIOCBU~1/BBS-3~1.13-/R/bin/x64 -lR
installing to C:/Users/biocbuild/bbs-3.13-bioc/meat/CNORfuzzy.buildbin-libdir/CNORfuzzy/libs/x64
** testing if installed package can be loaded
* MD5 sums
packaged installation of 'CNORfuzzy' as CNORfuzzy_1.34.0.zip
* DONE (CNORfuzzy)