Back to Multiple platform build/check report for BioC 3.13
AB[C]DEFGHIJKLMNOPQRSTUVWXYZ

This page was generated on 2021-06-23 15:04:34 -0400 (Wed, 23 Jun 2021).

All results for package CNORfeeder

To the developers/maintainers of the CNORfeeder package:
- Please allow up to 24 hours (and sometimes 48 hours) for your latest push to git@git.bioconductor.org:packages/CNORfeeder.git to
reflect on this report. See How and When does the builder pull? When will my changes propagate? here for more information.
- Make sure to use the following settings in order to reproduce any error or warning you see on this page.

raw results

Package 344/2041HostnameOS / ArchINSTALLBUILDCHECKBUILD BIN
CNORfeeder 1.32.0  (landing page)
E.Gjerga
Snapshot Date: 2021-06-22 04:50:12 -0400 (Tue, 22 Jun 2021)
URL: https://git.bioconductor.org/packages/CNORfeeder
Branch: RELEASE_3_13
Last Commit: 297743c
Last Changed Date: 2021-05-19 11:58:14 -0400 (Wed, 19 May 2021)
nebbiolo1Linux (Ubuntu 20.04.2 LTS) / x86_64  OK    OK    OK  UNNEEDED, same version is already published
tokay2Windows Server 2012 R2 Standard / x64  OK    OK    OK    OK  UNNEEDED, same version is already published
machv2macOS 10.14.6 Mojave / x86_64  OK    OK    OK    OK  UNNEEDED, same version is already published