Back to Multiple platform build/check report for BioC 3.13
AB[C]DEFGHIJKLMNOPQRSTUVWXYZ

INSTALL results for CEMiTool on nebbiolo1

This page was generated on 2021-06-14 14:04:47 -0400 (Mon, 14 Jun 2021).

Package 271/2041HostnameOS / ArchINSTALLBUILDCHECKBUILD BIN
CEMiTool 1.16.0  (landing page)
Helder Nakaya
Snapshot Date: 2021-06-13 06:50:09 -0400 (Sun, 13 Jun 2021)
URL: https://git.bioconductor.org/packages/CEMiTool
Branch: RELEASE_3_13
Last Commit: 6cf15bd
Last Changed Date: 2021-05-19 12:29:22 -0400 (Wed, 19 May 2021)
nebbiolo1Linux (Ubuntu 20.04.2 LTS) / x86_64  OK    OK    OK  UNNEEDED, same version is already published
tokay2Windows Server 2012 R2 Standard / x64  OK    OK    OK    OK  UNNEEDED, same version is already published
machv2macOS 10.14.6 Mojave / x86_64  OK    OK    OK    OK  UNNEEDED, same version is already published
To the developers/maintainers of the CEMiTool package:
- Please allow up to 24 hours (and sometimes 48 hours) for your latest push to git@git.bioconductor.org:packages/CEMiTool.git to
reflect on this report. See How and When does the builder pull? When will my changes propagate? here for more information.
- Make sure to use the following settings in order to reproduce any error or warning you see on this page.

Summary

Package: CEMiTool
Version: 1.16.0
Command: /home/biocbuild/bbs-3.13-bioc/R/bin/R CMD INSTALL CEMiTool
StartedAt: 2021-06-13 08:26:46 -0400 (Sun, 13 Jun 2021)
EndedAt: 2021-06-13 08:27:11 -0400 (Sun, 13 Jun 2021)
EllapsedTime: 25.2 seconds
RetCode: 0
Status:   OK  

Command output

##############################################################################
##############################################################################
###
### Running command:
###
###   /home/biocbuild/bbs-3.13-bioc/R/bin/R CMD INSTALL CEMiTool
###
##############################################################################
##############################################################################


* installing to library ‘/home/biocbuild/bbs-3.13-bioc/R/library’
* installing *source* package ‘CEMiTool’ ...
** using staged installation
** R
** data
*** moving datasets to lazyload DB
** exec
** inst
** byte-compile and prepare package for lazy loading
** help
*** installing help indices
** building package indices
** installing vignettes
** testing if installed package can be loaded from temporary location
** testing if installed package can be loaded from final location
** testing if installed package keeps a record of temporary installation path
* DONE (CEMiTool)