Index of /checkResults/3.13/bioc-LATEST/CAMERA/raw-results/nebbiolo1

[ICO]NameLast modifiedSizeDescription

[DIR]Parent Directory  -  
[   ]checksrc-summary.dcf16-Oct-2021 04:05 420  
[TXT]checksrc-out.txt16-Oct-2021 04:05 8.9K 
[   ]buildsrc-summary.dcf16-Oct-2021 04:05 414  
[TXT]buildsrc-out.txt16-Oct-2021 04:05 895  
[   ]install-summary.dcf16-Oct-2021 04:05 257  
[TXT]install-out.txt16-Oct-2021 04:05 1.3K