Back to Multiple platform build/check report for BioC 3.13
AB[C]DEFGHIJKLMNOPQRSTUVWXYZ

This page was generated on 2021-06-17 02:38:15 -0400 (Thu, 17 Jun 2021).

BUILD results for CAMERA on nebbiolo1

To the developers/maintainers of the CAMERA package:
- Please allow up to 24 hours (and sometimes 48 hours) for your latest push to git@git.bioconductor.org:packages/CAMERA.git to
reflect on this report. See How and When does the builder pull? When will my changes propagate? here for more information.
- Make sure to use the following settings in order to reproduce any error or warning you see on this page.

raw results

Package 233/2041HostnameOS / ArchINSTALLBUILDCHECKBUILD BIN
CAMERA 1.48.0  (landing page)
Steffen Neumann
Snapshot Date: 2021-06-15 06:50:12 -0400 (Tue, 15 Jun 2021)
URL: https://git.bioconductor.org/packages/CAMERA
Branch: RELEASE_3_13
Last Commit: 5ad3135
Last Changed Date: 2021-05-19 11:42:44 -0400 (Wed, 19 May 2021)
nebbiolo1Linux (Ubuntu 20.04.2 LTS) / x86_64  OK    OK    OK  UNNEEDED, same version is already published
tokay2Windows Server 2012 R2 Standard / x64  OK    OK    OK    OK  UNNEEDED, same version is already published
machv2macOS 10.14.6 Mojave / x86_64  OK    OK    OK    OK  UNNEEDED, same version is already published

Summary

Package: CAMERA
Version: 1.48.0
Command: /home/biocbuild/bbs-3.13-bioc/R/bin/R CMD build --keep-empty-dirs --no-resave-data CAMERA
StartedAt: 2021-06-15 08:50:40 -0400 (Tue, 15 Jun 2021)
EndedAt: 2021-06-15 08:51:46 -0400 (Tue, 15 Jun 2021)
EllapsedTime: 66.0 seconds
RetCode: 0
Status:   OK  
PackageFile: CAMERA_1.48.0.tar.gz
PackageFileSize: 2.074 MiB

Command output

##############################################################################
##############################################################################
###
### Running command:
###
###   /home/biocbuild/bbs-3.13-bioc/R/bin/R CMD build --keep-empty-dirs --no-resave-data CAMERA
###
##############################################################################
##############################################################################


* checking for file ‘CAMERA/DESCRIPTION’ ... OK
* preparing ‘CAMERA’:
* checking DESCRIPTION meta-information ... OK
* cleaning src
* installing the package to build vignettes
* creating vignettes ... OK
* cleaning src
* checking for LF line-endings in source and make files and shell scripts
* checking for empty or unneeded directories
* looking to see if a ‘data/datalist’ file should be added
* building ‘CAMERA_1.48.0.tar.gz’