Back to Multiple platform build/check report for BioC 3.13
A[B]CDEFGHIJKLMNOPQRSTUVWXYZ

This page was generated on 2021-08-02 15:05:05 -0400 (Mon, 02 Aug 2021).

INSTALL results for BiocPkgTools on tokay2

To the developers/maintainers of the BiocPkgTools package:
- Please allow up to 24 hours (and sometimes 48 hours) for your latest push to git@git.bioconductor.org:packages/BiocPkgTools.git to
reflect on this report. See How and When does the builder pull? When will my changes propagate? here for more information.
- Make sure to use the following settings in order to reproduce any error or warning you see on this page.

raw results

Package 169/2041HostnameOS / ArchINSTALLBUILDCHECKBUILD BIN
BiocPkgTools 1.10.1  (landing page)
Sean Davis
Snapshot Date: 2021-08-01 04:50:10 -0400 (Sun, 01 Aug 2021)
URL: https://git.bioconductor.org/packages/BiocPkgTools
Branch: RELEASE_3_13
Last Commit: bba81c9
Last Changed Date: 2021-05-22 15:29:12 -0400 (Sat, 22 May 2021)
nebbiolo1Linux (Ubuntu 20.04.2 LTS) / x86_64  OK    OK    OK  UNNEEDED, same version is already published
tokay2Windows Server 2012 R2 Standard / x64  OK    OK    OK    OK  UNNEEDED, same version is already published
machv2macOS 10.14.6 Mojave / x86_64  OK    OK    OK    OK  UNNEEDED, same version is already published

Summary

Package: BiocPkgTools
Version: 1.10.1
Command: C:\cygwin\bin\curl.exe -O http://155.52.207.165/BBS/3.13/bioc/src/contrib/BiocPkgTools_1.10.1.tar.gz && rm -rf BiocPkgTools.buildbin-libdir && mkdir BiocPkgTools.buildbin-libdir && C:\Users\biocbuild\bbs-3.13-bioc\R\bin\R.exe CMD INSTALL --merge-multiarch --build --library=BiocPkgTools.buildbin-libdir BiocPkgTools_1.10.1.tar.gz && C:\Users\biocbuild\bbs-3.13-bioc\R\bin\R.exe CMD INSTALL BiocPkgTools_1.10.1.zip && rm BiocPkgTools_1.10.1.tar.gz BiocPkgTools_1.10.1.zip
StartedAt: 2021-08-01 10:11:47 -0400 (Sun, 01 Aug 2021)
EndedAt: 2021-08-01 10:12:32 -0400 (Sun, 01 Aug 2021)
EllapsedTime: 45.2 seconds
RetCode: 0
Status:   OK  

Command output

##############################################################################
##############################################################################
###
### Running command:
###
###   C:\cygwin\bin\curl.exe -O http://155.52.207.165/BBS/3.13/bioc/src/contrib/BiocPkgTools_1.10.1.tar.gz && rm -rf BiocPkgTools.buildbin-libdir && mkdir BiocPkgTools.buildbin-libdir && C:\Users\biocbuild\bbs-3.13-bioc\R\bin\R.exe CMD INSTALL --merge-multiarch --build --library=BiocPkgTools.buildbin-libdir BiocPkgTools_1.10.1.tar.gz && C:\Users\biocbuild\bbs-3.13-bioc\R\bin\R.exe CMD INSTALL BiocPkgTools_1.10.1.zip && rm BiocPkgTools_1.10.1.tar.gz BiocPkgTools_1.10.1.zip
###
##############################################################################
##############################################################################


  % Total    % Received % Xferd  Average Speed   Time    Time     Time  Current
                                 Dload  Upload   Total   Spent    Left  Speed

  0     0    0     0    0     0      0      0 --:--:-- --:--:-- --:--:--     0
100  278k  100  278k    0     0  1661k      0 --:--:-- --:--:-- --:--:-- 1667k

install for i386

* installing *source* package 'BiocPkgTools' ...
** using staged installation
** R
** inst
** byte-compile and prepare package for lazy loading
** help
*** installing help indices
  converting help for package 'BiocPkgTools'
    finding HTML links ... done
    BiocPkgTools-cache                      html  
    BiocPkgTools                            html  
    CRANstatus                              html  
    anacondaDownloadStats                   html  
    biocBuildEmail                          html  
    biocBuildReport                         html  
    biocDownloadStats                       html  
    biocExplore                             html  
    biocPkgList                             html  
    biocPkgRanges                           html  
    buildPkgDependencyDataFrame             html  
    buildPkgDependencyIgraph                html  
    class-dependencies                      html  
    dataciteXMLGenerate                     html  
    dot-getDepGain                          html  
    firstInBioc                             html  
    generateBiocPkgDOI                      html  
    getBiocVignette                         html  
    getPackageInfo                          html  
    get_bioc_data                           html  
    githubDetails                           html  
    githubURLParts                          html  
    inducedSubgraphByPkgs                   html  
    pkgCombDependencyGain                   html  
    pkgDepImports                           html  
    pkgDepMetrics                           html  
    problemPage                             html  
    subgraphByDegree                        html  
** building package indices
** installing vignettes
** testing if installed package can be loaded from temporary location
** testing if installed package can be loaded from final location
** testing if installed package keeps a record of temporary installation path

install for x64

* installing *source* package 'BiocPkgTools' ...
** testing if installed package can be loaded
* MD5 sums
packaged installation of 'BiocPkgTools' as BiocPkgTools_1.10.1.zip
* DONE (BiocPkgTools)
* installing to library 'C:/Users/biocbuild/bbs-3.13-bioc/R/library'
package 'BiocPkgTools' successfully unpacked and MD5 sums checked