Back to Multiple platform build/check report for BioC 3.13
A[B]CDEFGHIJKLMNOPQRSTUVWXYZ

This page was generated on 2021-06-18 14:06:37 -0400 (Fri, 18 Jun 2021).

BUILD results for BiocPkgTools on machv2

To the developers/maintainers of the BiocPkgTools package:
- Please allow up to 24 hours (and sometimes 48 hours) for your latest push to git@git.bioconductor.org:packages/BiocPkgTools.git to
reflect on this report. See How and When does the builder pull? When will my changes propagate? here for more information.
- Make sure to use the following settings in order to reproduce any error or warning you see on this page.

raw results

Package 169/2041HostnameOS / ArchINSTALLBUILDCHECKBUILD BIN
BiocPkgTools 1.10.1  (landing page)
Sean Davis
Snapshot Date: 2021-06-17 06:50:12 -0400 (Thu, 17 Jun 2021)
URL: https://git.bioconductor.org/packages/BiocPkgTools
Branch: RELEASE_3_13
Last Commit: bba81c9
Last Changed Date: 2021-05-22 15:29:12 -0400 (Sat, 22 May 2021)
nebbiolo1Linux (Ubuntu 20.04.2 LTS) / x86_64  OK    OK    OK  UNNEEDED, same version is already published
tokay2Windows Server 2012 R2 Standard / x64  OK    OK    OK    OK  UNNEEDED, same version is already published
machv2macOS 10.14.6 Mojave / x86_64  OK    OK    OK    OK  UNNEEDED, same version is already published

Summary

Package: BiocPkgTools
Version: 1.10.1
Command: /Library/Frameworks/R.framework/Versions/Current/Resources/bin/R CMD build --keep-empty-dirs --no-resave-data BiocPkgTools
StartedAt: 2021-06-17 10:35:40 -0400 (Thu, 17 Jun 2021)
EndedAt: 2021-06-17 10:37:01 -0400 (Thu, 17 Jun 2021)
EllapsedTime: 81.4 seconds
RetCode: 0
Status:   OK  
PackageFile: BiocPkgTools_1.10.1.tar.gz
PackageFileSize: 1.38 MiB

Command output

##############################################################################
##############################################################################
###
### Running command:
###
###   /Library/Frameworks/R.framework/Versions/Current/Resources/bin/R CMD build --keep-empty-dirs --no-resave-data BiocPkgTools
###
##############################################################################
##############################################################################


* checking for file ‘BiocPkgTools/DESCRIPTION’ ... OK
* preparing ‘BiocPkgTools’:
* checking DESCRIPTION meta-information ... OK
* installing the package to build vignettes
* creating vignettes ... OK
* checking for LF line-endings in source and make files and shell scripts
* checking for empty or unneeded directories
* building ‘BiocPkgTools_1.10.1.tar.gz’