Back to Multiple platform build/check report for BioC 3.13
A[B]CDEFGHIJKLMNOPQRSTUVWXYZ

This page was generated on 2021-08-02 15:05:36 -0400 (Mon, 02 Aug 2021).

BUILD BIN results for BiocPkgTools on machv2

To the developers/maintainers of the BiocPkgTools package:
- Please allow up to 24 hours (and sometimes 48 hours) for your latest push to git@git.bioconductor.org:packages/BiocPkgTools.git to
reflect on this report. See How and When does the builder pull? When will my changes propagate? here for more information.
- Make sure to use the following settings in order to reproduce any error or warning you see on this page.

raw results

Package 169/2041HostnameOS / ArchINSTALLBUILDCHECKBUILD BIN
BiocPkgTools 1.10.1  (landing page)
Sean Davis
Snapshot Date: 2021-08-01 04:50:10 -0400 (Sun, 01 Aug 2021)
URL: https://git.bioconductor.org/packages/BiocPkgTools
Branch: RELEASE_3_13
Last Commit: bba81c9
Last Changed Date: 2021-05-22 15:29:12 -0400 (Sat, 22 May 2021)
nebbiolo1Linux (Ubuntu 20.04.2 LTS) / x86_64  OK    OK    OK  UNNEEDED, same version is already published
tokay2Windows Server 2012 R2 Standard / x64  OK    OK    OK    OK  UNNEEDED, same version is already published
machv2macOS 10.14.6 Mojave / x86_64  OK    OK    OK    OK  UNNEEDED, same version is already published

Summary

Package: BiocPkgTools
Version: 1.10.1
Command: rm -rf BiocPkgTools.buildbin-libdir && mkdir BiocPkgTools.buildbin-libdir && /Users/biocbuild/BBS/utils/build-universal.sh BiocPkgTools_1.10.1.tar.gz /Library/Frameworks/R.framework/Versions/Current/Resources/bin/R BiocPkgTools.buildbin-libdir
StartedAt: 2021-08-02 01:18:14 -0400 (Mon, 02 Aug 2021)
EndedAt: 2021-08-02 01:19:00 -0400 (Mon, 02 Aug 2021)
EllapsedTime: 45.7 seconds
RetCode: 0
Status:   OK  
PackageFile: BiocPkgTools_1.10.1.tgz
PackageFileSize: 1.49 MiB

Command output

##############################################################################
##############################################################################
###
### Running command:
###
###   rm -rf BiocPkgTools.buildbin-libdir && mkdir BiocPkgTools.buildbin-libdir && /Users/biocbuild/BBS/utils/build-universal.sh BiocPkgTools_1.10.1.tar.gz /Library/Frameworks/R.framework/Versions/Current/Resources/bin/R BiocPkgTools.buildbin-libdir
###
##############################################################################
##############################################################################


>>>>>>> 
>>>>>>> INSTALLATION WITH 'R CMD INSTALL --preclean --no-multiarch --library=BiocPkgTools.buildbin-libdir BiocPkgTools_1.10.1.tar.gz'
>>>>>>> 

* installing *source* package ‘BiocPkgTools’ ...
** using staged installation
** R
** inst
** byte-compile and prepare package for lazy loading
** help
*** installing help indices
** building package indices
** installing vignettes
** testing if installed package can be loaded from temporary location
** testing if installed package can be loaded from final location
** testing if installed package keeps a record of temporary installation path
* DONE (BiocPkgTools)