Index of /checkResults/3.13/bioc-LATEST/BiocOncoTK/raw-results/machv2

[ICO]NameLast modifiedSizeDescription

[DIR]Parent Directory  -  
[TXT]buildbin-out.txt23-Sep-2021 04:05 1.2K 
[   ]buildbin-summary.dcf23-Sep-2021 04:05 565  
[TXT]buildsrc-out.txt23-Sep-2021 04:05 845  
[   ]buildsrc-summary.dcf23-Sep-2021 04:05 454  
[TXT]checksrc-out.txt23-Sep-2021 04:05 6.4K 
[   ]checksrc-summary.dcf23-Sep-2021 04:05 490  
[TXT]install-out.txt23-Sep-2021 04:05 1.0K 
[   ]install-summary.dcf23-Sep-2021 04:05 292