Back to Multiple platform build/check report for BioC 3.13
A[B]CDEFGHIJKLMNOPQRSTUVWXYZ

This page was generated on 2021-06-21 14:05:40 -0400 (Mon, 21 Jun 2021).

BUILD results for BiocCheck on machv2

To the developers/maintainers of the BiocCheck package:
- Please allow up to 24 hours (and sometimes 48 hours) for your latest push to git@git.bioconductor.org:packages/BiocCheck.git to
reflect on this report. See How and When does the builder pull? When will my changes propagate? here for more information.
- Make sure to use the following settings in order to reproduce any error or warning you see on this page.

raw results

Package 159/2041HostnameOS / ArchINSTALLBUILDCHECKBUILD BIN
BiocCheck 1.28.0  (landing page)
Bioconductor Package Maintainer
Snapshot Date: 2021-06-20 06:50:09 -0400 (Sun, 20 Jun 2021)
URL: https://git.bioconductor.org/packages/BiocCheck
Branch: RELEASE_3_13
Last Commit: 5fcd8f9
Last Changed Date: 2021-05-19 12:04:16 -0400 (Wed, 19 May 2021)
nebbiolo1Linux (Ubuntu 20.04.2 LTS) / x86_64  OK    OK    OK  UNNEEDED, same version is already published
tokay2Windows Server 2012 R2 Standard / x64  OK    OK    OK    OK  UNNEEDED, same version is already published
machv2macOS 10.14.6 Mojave / x86_64  OK    OK    OK    OK  UNNEEDED, same version is already published

Summary

Package: BiocCheck
Version: 1.28.0
Command: /Library/Frameworks/R.framework/Versions/Current/Resources/bin/R CMD build --keep-empty-dirs --no-resave-data BiocCheck
StartedAt: 2021-06-20 10:29:52 -0400 (Sun, 20 Jun 2021)
EndedAt: 2021-06-20 10:30:12 -0400 (Sun, 20 Jun 2021)
EllapsedTime: 19.6 seconds
RetCode: 0
Status:   OK  
PackageFile: BiocCheck_1.28.0.tar.gz
PackageFileSize: 4.158 MiB

Command output

##############################################################################
##############################################################################
###
### Running command:
###
###   /Library/Frameworks/R.framework/Versions/Current/Resources/bin/R CMD build --keep-empty-dirs --no-resave-data BiocCheck
###
##############################################################################
##############################################################################


* checking for file ‘BiocCheck/DESCRIPTION’ ... OK
* preparing ‘BiocCheck’:
* checking DESCRIPTION meta-information ... OK
* installing the package to build vignettes
* creating vignettes ... OK
* checking for LF line-endings in source and make files and shell scripts
* checking for empty or unneeded directories
* building ‘BiocCheck_1.28.0.tar.gz’