Back to Multiple platform build/check report for BioC 3.13
A[B]CDEFGHIJKLMNOPQRSTUVWXYZ

This page was generated on 2021-08-02 15:05:05 -0400 (Mon, 02 Aug 2021).

INSTALL results for BioMVCClass on tokay2

To the developers/maintainers of the BioMVCClass package:
- Please allow up to 24 hours (and sometimes 48 hours) for your latest push to git@git.bioconductor.org:packages/BioMVCClass.git to
reflect on this report. See How and When does the builder pull? When will my changes propagate? here for more information.
- Make sure to use the following settings in order to reproduce any error or warning you see on this page.

raw results

Package 183/2041HostnameOS / ArchINSTALLBUILDCHECKBUILD BIN
BioMVCClass 1.60.0  (landing page)
Elizabeth Whalen
Snapshot Date: 2021-08-01 04:50:10 -0400 (Sun, 01 Aug 2021)
URL: https://git.bioconductor.org/packages/BioMVCClass
Branch: RELEASE_3_13
Last Commit: b626fb8
Last Changed Date: 2021-05-19 11:37:57 -0400 (Wed, 19 May 2021)
nebbiolo1Linux (Ubuntu 20.04.2 LTS) / x86_64  OK    OK    OK  UNNEEDED, same version is already published
tokay2Windows Server 2012 R2 Standard / x64  OK    OK    OK    OK  UNNEEDED, same version is already published
machv2macOS 10.14.6 Mojave / x86_64  OK    OK    OK    OK  UNNEEDED, same version is already published

Summary

Package: BioMVCClass
Version: 1.60.0
Command: C:\cygwin\bin\curl.exe -O http://155.52.207.165/BBS/3.13/bioc/src/contrib/BioMVCClass_1.60.0.tar.gz && rm -rf BioMVCClass.buildbin-libdir && mkdir BioMVCClass.buildbin-libdir && C:\Users\biocbuild\bbs-3.13-bioc\R\bin\R.exe CMD INSTALL --merge-multiarch --build --library=BioMVCClass.buildbin-libdir BioMVCClass_1.60.0.tar.gz && C:\Users\biocbuild\bbs-3.13-bioc\R\bin\R.exe CMD INSTALL BioMVCClass_1.60.0.zip && rm BioMVCClass_1.60.0.tar.gz BioMVCClass_1.60.0.zip
StartedAt: 2021-08-01 07:49:52 -0400 (Sun, 01 Aug 2021)
EndedAt: 2021-08-01 07:53:34 -0400 (Sun, 01 Aug 2021)
EllapsedTime: 221.8 seconds
RetCode: 0
Status:   OK  

Command output

##############################################################################
##############################################################################
###
### Running command:
###
###   C:\cygwin\bin\curl.exe -O http://155.52.207.165/BBS/3.13/bioc/src/contrib/BioMVCClass_1.60.0.tar.gz && rm -rf BioMVCClass.buildbin-libdir && mkdir BioMVCClass.buildbin-libdir && C:\Users\biocbuild\bbs-3.13-bioc\R\bin\R.exe CMD INSTALL --merge-multiarch --build --library=BioMVCClass.buildbin-libdir BioMVCClass_1.60.0.tar.gz && C:\Users\biocbuild\bbs-3.13-bioc\R\bin\R.exe CMD INSTALL BioMVCClass_1.60.0.zip && rm BioMVCClass_1.60.0.tar.gz BioMVCClass_1.60.0.zip
###
##############################################################################
##############################################################################


  % Total    % Received % Xferd  Average Speed   Time    Time     Time  Current
                                 Dload  Upload   Total   Spent    Left  Speed

  0     0    0     0    0     0      0      0 --:--:-- --:--:-- --:--:--     0
100 39808  100 39808    0     0   388k      0 --:--:-- --:--:-- --:--:--  392k

install for i386

* installing *source* package 'BioMVCClass' ...
** using staged installation
** R
** byte-compile and prepare package for lazy loading
** help
*** installing help indices
  converting help for package 'BioMVCClass'
    finding HTML links ... done
    GSE-class                               html  
REDIRECT:topic	 incidMat<-,GSE-method -> GSE-class.html [ FAIL ]
REDIRECT:topic	 incidMat<- -> GSE-class.html [ FAIL ]
REDIRECT:topic	 gTestStat<-,GSE-method -> GSE-class.html [ FAIL ]
REDIRECT:topic	 gTestStat<- -> GSE-class.html [ FAIL ]
REDIRECT:topic	 gsTestStat<-,GSE-method -> GSE-class.html [ FAIL ]
REDIRECT:topic	 gsTestStat<- -> GSE-class.html [ FAIL ]
REDIRECT:topic	 expData<-,GSE-method -> GSE-class.html [ FAIL ]
REDIRECT:topic	 expData<- -> GSE-class.html [ FAIL ]
REDIRECT:topic	 descr<-,GSE-method -> GSE-class.html [ FAIL ]
REDIRECT:topic	 descr<- -> GSE-class.html [ FAIL ]
    exprModel-class                         html  
    graphModel-class                        html  
    graphView-class                         html  
REDIRECT:topic	 grLayout<-,graphView-method -> graphView-class.html [ FAIL ]
REDIRECT:topic	 grLayout<- -> graphView-class.html [ FAIL ]
    gseModel-class                          html  
    heatmapView-class                       html  
REDIRECT:topic	 ordering<-,heatmapView-method -> heatmapView-class.html [ FAIL ]
REDIRECT:topic	 ordering<- -> heatmapView-class.html [ FAIL ]
REDIRECT:topic	 rNames<-,heatmapView-method -> heatmapView-class.html [ FAIL ]
REDIRECT:topic	 rNames<- -> heatmapView-class.html [ FAIL ]
** building package indices
** installing vignettes
** testing if installed package can be loaded from temporary location
** testing if installed package can be loaded from final location
** testing if installed package keeps a record of temporary installation path

install for x64

* installing *source* package 'BioMVCClass' ...
** testing if installed package can be loaded
* MD5 sums
packaged installation of 'BioMVCClass' as BioMVCClass_1.60.0.zip
* DONE (BioMVCClass)
* installing to library 'C:/Users/biocbuild/bbs-3.13-bioc/R/library'
package 'BioMVCClass' successfully unpacked and MD5 sums checked