Back to Multiple platform build/check report for BioC 3.13
A[B]CDEFGHIJKLMNOPQRSTUVWXYZ

BUILD results for BioMM on nebbiolo1

This page was generated on 2021-06-14 14:04:46 -0400 (Mon, 14 Jun 2021).

Package 182/2041HostnameOS / ArchINSTALLBUILDCHECKBUILD BIN
BioMM 1.8.0  (landing page)
Junfang Chen
Snapshot Date: 2021-06-13 06:50:09 -0400 (Sun, 13 Jun 2021)
URL: https://git.bioconductor.org/packages/BioMM
Branch: RELEASE_3_13
Last Commit: 765ffb7
Last Changed Date: 2021-05-19 12:41:03 -0400 (Wed, 19 May 2021)
nebbiolo1Linux (Ubuntu 20.04.2 LTS) / x86_64  OK    OK    OK  UNNEEDED, same version is already published
tokay2Windows Server 2012 R2 Standard / x64  OK    OK    OK    OK  UNNEEDED, same version is already published
machv2macOS 10.14.6 Mojave / x86_64  OK    OK    OK    OK  UNNEEDED, same version is already published
To the developers/maintainers of the BioMM package:
- Please allow up to 24 hours (and sometimes 48 hours) for your latest push to git@git.bioconductor.org:packages/BioMM.git to
reflect on this report. See How and When does the builder pull? When will my changes propagate? here for more information.
- Make sure to use the following settings in order to reproduce any error or warning you see on this page.

Summary

Package: BioMM
Version: 1.8.0
Command: /home/biocbuild/bbs-3.13-bioc/R/bin/R CMD build --keep-empty-dirs --no-resave-data BioMM
StartedAt: 2021-06-13 08:50:16 -0400 (Sun, 13 Jun 2021)
EndedAt: 2021-06-13 08:52:00 -0400 (Sun, 13 Jun 2021)
EllapsedTime: 103.4 seconds
RetCode: 0
Status:   OK  
PackageFile: BioMM_1.8.0.tar.gz
PackageFileSize: 2.847 MiB

Command output

##############################################################################
##############################################################################
###
### Running command:
###
###   /home/biocbuild/bbs-3.13-bioc/R/bin/R CMD build --keep-empty-dirs --no-resave-data BioMM
###
##############################################################################
##############################################################################


* checking for file ‘BioMM/DESCRIPTION’ ... OK
* preparing ‘BioMM’:
* checking DESCRIPTION meta-information ... OK
* installing the package to build vignettes
* creating vignettes ... OK
* checking for LF line-endings in source and make files and shell scripts
* checking for empty or unneeded directories
Omitted ‘LazyData’ from DESCRIPTION
* building ‘BioMM_1.8.0.tar.gz’