Back to Multiple platform build/check report for BioC 3.13
A[B]CDEFGHIJKLMNOPQRSTUVWXYZ

This page was generated on 2021-07-30 15:05:46 -0400 (Fri, 30 Jul 2021).

CHECK results for BiGGR on tokay2

To the developers/maintainers of the BiGGR package:
- Please allow up to 24 hours (and sometimes 48 hours) for your latest push to git@git.bioconductor.org:packages/BiGGR.git to
reflect on this report. See How and When does the builder pull? When will my changes propagate? here for more information.
- Make sure to use the following settings in order to reproduce any error or warning you see on this page.

raw results

Package 149/2041HostnameOS / ArchINSTALLBUILDCHECKBUILD BIN
BiGGR 1.28.0  (landing page)
Anand K. Gavai
Snapshot Date: 2021-07-29 04:50:02 -0400 (Thu, 29 Jul 2021)
URL: https://git.bioconductor.org/packages/BiGGR
Branch: RELEASE_3_13
Last Commit: 1736ee9
Last Changed Date: 2021-05-19 12:00:29 -0400 (Wed, 19 May 2021)
nebbiolo1Linux (Ubuntu 20.04.2 LTS) / x86_64  OK    OK    OK  UNNEEDED, same version is already published
tokay2Windows Server 2012 R2 Standard / x64  OK    OK    OK    OK  UNNEEDED, same version is already published
machv2macOS 10.14.6 Mojave / x86_64... NOT SUPPORTED ...

Summary

Package: BiGGR
Version: 1.28.0
Command: C:\Users\biocbuild\bbs-3.13-bioc\R\bin\R.exe --arch x64 CMD check --no-multiarch --install=check:BiGGR.install-out.txt --library=C:\Users\biocbuild\bbs-3.13-bioc\R\library --no-vignettes --timings BiGGR_1.28.0.tar.gz
StartedAt: 2021-07-29 20:23:02 -0400 (Thu, 29 Jul 2021)
EndedAt: 2021-07-29 20:28:23 -0400 (Thu, 29 Jul 2021)
EllapsedTime: 321.0 seconds
RetCode: 0
Status:   OK  
CheckDir: BiGGR.Rcheck
Warnings: 0

Command output

##############################################################################
##############################################################################
###
### Running command:
###
###   C:\Users\biocbuild\bbs-3.13-bioc\R\bin\R.exe --arch x64 CMD check --no-multiarch --install=check:BiGGR.install-out.txt --library=C:\Users\biocbuild\bbs-3.13-bioc\R\library --no-vignettes --timings BiGGR_1.28.0.tar.gz
###
##############################################################################
##############################################################################


* using log directory 'C:/Users/biocbuild/bbs-3.13-bioc/meat/BiGGR.Rcheck'
* using R version 4.1.0 (2021-05-18)
* using platform: x86_64-w64-mingw32 (64-bit)
* using session charset: ISO8859-1
* using option '--no-vignettes'
* checking for file 'BiGGR/DESCRIPTION' ... OK
* checking extension type ... Package
* this is package 'BiGGR' version '1.28.0'
* checking package namespace information ... OK
* checking package dependencies ... OK
* checking if this is a source package ... OK
* checking if there is a namespace ... OK
* checking for hidden files and directories ... NOTE
Found the following hidden files and directories:
  .BBSoptions
These were most likely included in error. See section 'Package
structure' in the 'Writing R Extensions' manual.
* checking for portable file names ... OK
* checking whether package 'BiGGR' can be installed ... OK
* checking installed package size ... NOTE
  installed size is  5.1Mb
  sub-directories of 1Mb or more:
    data   3.8Mb
* checking package directory ... OK
* checking 'build' directory ... OK
* checking DESCRIPTION meta-information ... OK
* checking top-level files ... OK
* checking for left-over files ... OK
* checking index information ... OK
* checking package subdirectories ... OK
* checking R files for non-ASCII characters ... OK
* checking R files for syntax errors ... OK
* checking whether the package can be loaded ... OK
* checking whether the package can be loaded with stated dependencies ... OK
* checking whether the package can be unloaded cleanly ... OK
* checking whether the namespace can be loaded with stated dependencies ... OK
* checking whether the namespace can be unloaded cleanly ... OK
* checking dependencies in R code ... NOTE
Package in Depends field not imported from: 'stringr'
  These packages need to be imported from (in the NAMESPACE file)
  for when this namespace is loaded but not attached.
* checking S3 generic/method consistency ... OK
* checking replacement functions ... OK
* checking foreign function calls ... OK
* checking R code for possible problems ... NOTE
.buildSubModel: no visible global function definition for 'new'
buildSBMLFromBiGG: no visible global function definition for
  'read.delim'
buildSBMLFromBiGG : <anonymous>: no visible global function definition
  for 'new'
buildSBMLFromBiGG: no visible global function definition for 'new'
createLIMFromSBML: no visible global function definition for 'hasArg'
gprMapping: no visible global function definition for 'str_detect'
gprMapping: no visible global function definition for 'na.omit'
gprMappingAvg: no visible global function definition for 'na.omit'
sampleFluxEnsemble: no visible global function definition for 'Xsample'
sbml2hyperdraw : <anonymous>: no visible binding for global variable
  'species'
sbml2hyperdraw: no visible global function definition for 'hasArg'
sbml2hyperdraw: no visible global function definition for 'graphLayout'
sbml2hyperdraw: no visible global function definition for
  'nodeDataDefaults<-'
sbml2hyperdraw: no visible global function definition for
  'edgeDataDefaults<-'
sbml2hyperdraw: no visible global function definition for
  'graphDataDefaults<-'
sbml2hyperdraw : <anonymous>: no visible global function definition for
  'edgeData<-'
Undefined global functions or variables:
  Xsample edgeData<- edgeDataDefaults<- graphDataDefaults<- graphLayout
  hasArg na.omit new nodeDataDefaults<- read.delim species str_detect
Consider adding
  importFrom("methods", "hasArg", "new")
  importFrom("stats", "na.omit")
  importFrom("utils", "read.delim")
to your NAMESPACE file (and ensure that your DESCRIPTION Imports field
contains 'methods').
* checking Rd files ... OK
* checking Rd metadata ... OK
* checking Rd cross-references ... OK
* checking for missing documentation entries ... OK
* checking for code/documentation mismatches ... OK
* checking Rd \usage sections ... OK
* checking Rd contents ... OK
* checking for unstated dependencies in examples ... OK
* checking contents of 'data' directory ... OK
* checking data for non-ASCII characters ... OK
* checking data for ASCII and uncompressed saves ... OK
* checking installed files from 'inst/doc' ... OK
* checking files in 'vignettes' ... OK
* checking examples ... OK
Examples with CPU (user + system) or elapsed time > 5s
                     user system elapsed
gprMapping         159.81   0.01  159.86
gprMappingAvg       14.62   0.00   14.63
buildSBMLFromGenes   5.53   0.28    5.81
* checking for unstated dependencies in vignettes ... OK
* checking package vignettes in 'inst/doc' ... OK
* checking running R code from vignettes ... SKIPPED
* checking re-building of vignette outputs ... SKIPPED
* checking PDF version of manual ... OK
* DONE

Status: 4 NOTEs
See
  'C:/Users/biocbuild/bbs-3.13-bioc/meat/BiGGR.Rcheck/00check.log'
for details.



Installation output

BiGGR.Rcheck/00install.out

##############################################################################
##############################################################################
###
### Running command:
###
###   C:\Users\biocbuild\bbs-3.13-bioc\R\bin\R.exe --arch x64 CMD INSTALL --no-multiarch BiGGR
###
##############################################################################
##############################################################################


* installing to library 'C:/Users/biocbuild/bbs-3.13-bioc/R/library'
* installing *source* package 'BiGGR' ...
** using staged installation
** R
** data
** inst
** byte-compile and prepare package for lazy loading
** help
*** installing help indices
  converting help for package 'BiGGR'
    finding HTML links ... done
    BiGGR-internal                          html  
    BiGGR-package                           html  
    E.coli_iAF1260                          html  
    E.coli_iJR904                           html  
    E.coli_textbook                         html  
    Glycolysis                              html  
    H.pylori_ilT341                         html  
    H.sapiens_Recon1                        html  
    M.barkeri_iAF692                        html  
    M.tuberculosis_iNJ661                   html  
    P.putida_iJN746                         html  
    Recon2                                  html  
    S.aureus_iSB619                         html  
    S.cerevisiae_iND750                     html  
    buildSBMLFromBiGG                       html  
    buildSBMLFromGenes                      html  
    finding level-2 HTML links ... done

    buildSBMLFromPathways                   html  
    buildSBMLFromReactionIDs                html  
    createLIMFromBiGG                       html  
    createLIMFromSBML                       html  
    extractGeneAssociations                 html  
    extractPathways                         html  
    getPathwaysForSBML                      html  
    getRates                                html  
    gprMapping                              html  
    gprMappingAvg                           html  
    lying.tunell.data                       html  
    rmvSpliceVariant                        html  
    sampleFluxEnsemble                      html  
    sbml2hyperdraw                          html  
** building package indices
** installing vignettes
** testing if installed package can be loaded from temporary location
** testing if installed package can be loaded from final location
** testing if installed package keeps a record of temporary installation path
* DONE (BiGGR)
Making 'packages.html' ... done

Tests output


Example timings

BiGGR.Rcheck/BiGGR-Ex.timings

nameusersystemelapsed
BiGGR-package2.230.072.30
E.coli_iAF12600.750.120.87
E.coli_iJR9040.540.020.54
E.coli_textbook0.030.060.10
H.pylori_ilT3410.220.060.28
H.sapiens_Recon11.140.081.22
M.barkeri_iAF6920.370.160.53
M.tuberculosis_iNJ6610.470.080.54
P.putida_iJN7460.550.040.60
Recon22.060.052.11
S.aureus_iSB6190.280.030.31
S.cerevisiae_iND7500.410.050.45
buildSBMLFromBiGG0.090.000.10
buildSBMLFromGenes5.530.285.81
buildSBMLFromPathways4.170.064.23
buildSBMLFromReactionIDs1.60.01.6
createLIMFromBiGG0.090.000.17
createLIMFromSBML1.390.061.45
extractGeneAssociations2.160.002.16
extractPathways2.080.022.10
getPathwaysForSBML3.200.003.21
getRates000
gprMapping159.81 0.01159.86
gprMappingAvg14.62 0.0014.63
lying.tunell.data000
rmvSpliceVariant2.240.022.25
sampleFluxEnsemble2.400.332.73
sbml2hyperdraw2.110.002.11