Back to Multiple platform build/check report for BioC 3.13
A[B]CDEFGHIJKLMNOPQRSTUVWXYZ

This page was generated on 2021-09-27 15:05:53 -0400 (Mon, 27 Sep 2021).

CHECK results for BgeeDB on nebbiolo1

To the developers/maintainers of the BgeeDB package:
- Please allow up to 24 hours (and sometimes 48 hours) for your latest push to git@git.bioconductor.org:packages/BgeeDB.git to
reflect on this report. See How and When does the builder pull? When will my changes propagate? here for more information.
- Make sure to use the following settings in order to reproduce any error or warning you see on this page.

raw results

Package 143/2041HostnameOS / ArchINSTALLBUILDCHECKBUILD BIN
BgeeDB 2.18.1  (landing page)
Julien Wollbrett , Julien Roux , Andrea Komljenovic , Frederic Bastian
Snapshot Date: 2021-09-26 04:50:10 -0400 (Sun, 26 Sep 2021)
git_url: https://git.bioconductor.org/packages/BgeeDB
git_branch: RELEASE_3_13
git_last_commit: 6e3f28d
git_last_commit_date: 2021-06-15 22:49:49 -0400 (Tue, 15 Jun 2021)
nebbiolo1Linux (Ubuntu 20.04.2 LTS) / x86_64  OK    OK    OK  UNNEEDED, same version is already published
tokay2Windows Server 2012 R2 Standard / x64  OK    OK    OK    OK  UNNEEDED, same version is already published
machv2macOS 10.14.6 Mojave / x86_64  OK    OK    OK    OK  UNNEEDED, same version is already published

Summary

Package: BgeeDB
Version: 2.18.1
Command: /home/biocbuild/bbs-3.13-bioc/R/bin/R CMD check --install=check:BgeeDB.install-out.txt --library=/home/biocbuild/bbs-3.13-bioc/R/library --no-vignettes --timings BgeeDB_2.18.1.tar.gz
StartedAt: 2021-09-26 08:58:12 -0400 (Sun, 26 Sep 2021)
EndedAt: 2021-09-26 09:08:54 -0400 (Sun, 26 Sep 2021)
EllapsedTime: 642.5 seconds
RetCode: 0
Status:   OK  
CheckDir: BgeeDB.Rcheck
Warnings: 0

Command output

##############################################################################
##############################################################################
###
### Running command:
###
###   /home/biocbuild/bbs-3.13-bioc/R/bin/R CMD check --install=check:BgeeDB.install-out.txt --library=/home/biocbuild/bbs-3.13-bioc/R/library --no-vignettes --timings BgeeDB_2.18.1.tar.gz
###
##############################################################################
##############################################################################


* using log directory ‘/home/biocbuild/bbs-3.13-bioc/meat/BgeeDB.Rcheck’
* using R version 4.1.1 (2021-08-10)
* using platform: x86_64-pc-linux-gnu (64-bit)
* using session charset: UTF-8
* using option ‘--no-vignettes’
* checking for file ‘BgeeDB/DESCRIPTION’ ... OK
* checking extension type ... Package
* this is package ‘BgeeDB’ version ‘2.18.1’
* checking package namespace information ... OK
* checking package dependencies ... OK
* checking if this is a source package ... OK
* checking if there is a namespace ... OK
* checking for hidden files and directories ... OK
* checking for portable file names ... OK
* checking for sufficient/correct file permissions ... OK
* checking whether package ‘BgeeDB’ can be installed ... OK
* checking installed package size ... OK
* checking package directory ... OK
* checking ‘build’ directory ... OK
* checking DESCRIPTION meta-information ... OK
* checking top-level files ... OK
* checking for left-over files ... OK
* checking index information ... OK
* checking package subdirectories ... OK
* checking R files for non-ASCII characters ... OK
* checking R files for syntax errors ... OK
* checking whether the package can be loaded ... OK
* checking whether the package can be loaded with stated dependencies ... OK
* checking whether the package can be unloaded cleanly ... OK
* checking whether the namespace can be loaded with stated dependencies ... OK
* checking whether the namespace can be unloaded cleanly ... OK
* checking dependencies in R code ... OK
* checking S3 generic/method consistency ... OK
* checking replacement functions ... OK
* checking foreign function calls ... OK
* checking R code for possible problems ... OK
* checking Rd files ... OK
* checking Rd metadata ... OK
* checking Rd cross-references ... OK
* checking for missing documentation entries ... OK
* checking for code/documentation mismatches ... OK
* checking Rd \usage sections ... OK
* checking Rd contents ... OK
* checking for unstated dependencies in examples ... OK
* checking contents of ‘data’ directory ... OK
* checking data for non-ASCII characters ... OK
* checking data for ASCII and uncompressed saves ... OK
* checking files in ‘vignettes’ ... OK
* checking examples ... OK
Examples with CPU (user + system) or elapsed time > 5s
                  user system elapsed
geneList        11.138  0.334  71.993
makeTable       10.154  0.837  97.410
loadTopAnatData  7.373  0.667 150.749
topAnat          5.332  0.336   7.059
formatData       4.317  1.206  10.748
* checking for unstated dependencies in ‘tests’ ... OK
* checking tests ...
  Running ‘testthat.R’
 OK
* checking for unstated dependencies in vignettes ... OK
* checking package vignettes in ‘inst/doc’ ... OK
* checking running R code from vignettes ... SKIPPED
* checking re-building of vignette outputs ... SKIPPED
* checking PDF version of manual ... OK
* DONE

Status: OK


Installation output

BgeeDB.Rcheck/00install.out

##############################################################################
##############################################################################
###
### Running command:
###
###   /home/biocbuild/bbs-3.13-bioc/R/bin/R CMD INSTALL BgeeDB
###
##############################################################################
##############################################################################


* installing to library ‘/home/biocbuild/bbs-3.13-bioc/R/library’
* installing *source* package ‘BgeeDB’ ...
** using staged installation
** R
** data
** inst
** byte-compile and prepare package for lazy loading

groupGOTerms: 	GOBPTerm, GOMFTerm, GOCCTerm environments built.
** help
*** installing help indices
** building package indices
** installing vignettes
** testing if installed package can be loaded from temporary location

groupGOTerms: 	GOBPTerm, GOMFTerm, GOCCTerm environments built.
** testing if installed package can be loaded from final location

groupGOTerms: 	GOBPTerm, GOMFTerm, GOCCTerm environments built.
** testing if installed package keeps a record of temporary installation path
* DONE (BgeeDB)

Tests output

BgeeDB.Rcheck/tests/testthat.Rout


R version 4.1.1 (2021-08-10) -- "Kick Things"
Copyright (C) 2021 The R Foundation for Statistical Computing
Platform: x86_64-pc-linux-gnu (64-bit)

R is free software and comes with ABSOLUTELY NO WARRANTY.
You are welcome to redistribute it under certain conditions.
Type 'license()' or 'licence()' for distribution details.

R is a collaborative project with many contributors.
Type 'contributors()' for more information and
'citation()' on how to cite R or R packages in publications.

Type 'demo()' for some demos, 'help()' for on-line help, or
'help.start()' for an HTML browser interface to help.
Type 'q()' to quit R.

> library(testthat)
> library(BgeeDB)
Loading required package: topGO
Loading required package: BiocGenerics
Loading required package: parallel

Attaching package: 'BiocGenerics'

The following objects are masked from 'package:parallel':

    clusterApply, clusterApplyLB, clusterCall, clusterEvalQ,
    clusterExport, clusterMap, parApply, parCapply, parLapply,
    parLapplyLB, parRapply, parSapply, parSapplyLB

The following objects are masked from 'package:stats':

    IQR, mad, sd, var, xtabs

The following objects are masked from 'package:base':

    Filter, Find, Map, Position, Reduce, anyDuplicated, append,
    as.data.frame, basename, cbind, colnames, dirname, do.call,
    duplicated, eval, evalq, get, grep, grepl, intersect, is.unsorted,
    lapply, mapply, match, mget, order, paste, pmax, pmax.int, pmin,
    pmin.int, rank, rbind, rownames, sapply, setdiff, sort, table,
    tapply, union, unique, unsplit, which.max, which.min

Loading required package: graph
Loading required package: Biobase
Welcome to Bioconductor

    Vignettes contain introductory material; view with
    'browseVignettes()'. To cite Bioconductor, see
    'citation("Biobase")', and for packages 'citation("pkgname")'.

Loading required package: GO.db
Loading required package: AnnotationDbi
Loading required package: stats4
Loading required package: IRanges
Loading required package: S4Vectors

Attaching package: 'S4Vectors'

The following objects are masked from 'package:base':

    I, expand.grid, unname


Loading required package: SparseM

Attaching package: 'SparseM'

The following object is masked from 'package:base':

    backsolve


groupGOTerms: 	GOBPTerm, GOMFTerm, GOCCTerm environments built.

Attaching package: 'topGO'

The following object is masked from 'package:IRanges':

    members

Loading required package: tidyr

Attaching package: 'tidyr'

The following object is masked from 'package:S4Vectors':

    expand

The following object is masked from 'package:testthat':

    matches

> 
> Sys.setenv("R_TESTS" = "")
> test_check("BgeeDB")

Querying Bgee to get release information...

Building URL to query species in Bgee release 15_0...

Submitting URL to Bgee webservice... (https://bgee.org/bgee15_0/?page=r_package&action=get_all_species&display_type=tsv&source=BgeeDB_R_package&source_version=2.18.1)

Query to Bgee webservice successful!

API key built: 17c5b6de37acaae27a4d1486bac55941e143bffc098b21cc5068ab7a39b7ac97117cc45e247a3e6a7b6f1a7fa9f606eb4442edd6241e701e60056f81a7a4d6ab

Saved annotation files in /home/biocbuild/bbs-3.13-bioc/meat/BgeeDB.Rcheck/tests/testthat/Mus_musculus_Bgee_15_0 folder.

Extracting expression data matrix...
  Keeping only present genes.

Extracting features information...

Extracting samples information...

Extracting expression data matrix...
  Keeping only present genes.

Extracting features information...

Extracting samples information...

Extracting expression data matrix...
  Keeping only present genes.

Extracting features information...

Extracting samples information...

Querying Bgee to get release information...

Building URL to query species in Bgee release 13_2...

Submitting URL to Bgee webservice... (https://r.bgee.org/bgee13/?page=species&display_type=tsv&source=BgeeDB_R_package&source_version=2.18.1)

Query to Bgee webservice successful!

API key built: 17c5b6de37acaae27a4d1486bac55941e143bffc098b21cc5068ab7a39b7ac97117cc45e247a3e6a7b6f1a7fa9f606eb4442edd6241e701e60056f81a7a4d6ab

IMPORTANT INFORMATION: Be careful! You are not using the last release of the Bgee database! If it is not intentional you should update to the last version of Bioconductor and of the BgeeDB package. To update Bioconductor, see https://www.bioconductor.org/install/

Saved annotation files in /home/biocbuild/bbs-3.13-bioc/meat/BgeeDB.Rcheck/tests/testthat/Mus_musculus_Bgee_13_2 folder.

Extracting expression data matrix...
  Keeping only present genes.

Extracting features information...

Extracting samples information...

Extracting expression data matrix...
  Keeping only present genes.

Extracting features information...

Extracting samples information...

Querying Bgee to get release information...

NOTE: the file describing Bgee species information for release 15_0 was found in the download directory /home/biocbuild/bbs-3.13-bioc/meat/BgeeDB.Rcheck/tests/testthat. Data will not be redownloaded.

API key built: 17c5b6de37acaae27a4d1486bac55941e143bffc098b21cc5068ab7a39b7ac97117cc45e247a3e6a7b6f1a7fa9f606eb4442edd6241e701e60056f81a7a4d6ab

NOTE: annotation files for this species were found in the download directory /home/biocbuild/bbs-3.13-bioc/meat/BgeeDB.Rcheck/tests/testthat/Mus_musculus_Bgee_15_0. Data will not be redownloaded.

Querying Bgee to get release information...

NOTE: the file describing Bgee species information for release 15_0 was found in the download directory /home/biocbuild/bbs-3.13-bioc/meat/BgeeDB.Rcheck/tests/testthat. Data will not be redownloaded.

API key built: 17c5b6de37acaae27a4d1486bac55941e143bffc098b21cc5068ab7a39b7ac97117cc45e247a3e6a7b6f1a7fa9f606eb4442edd6241e701e60056f81a7a4d6ab

Saved annotation files in /home/biocbuild/bbs-3.13-bioc/meat/BgeeDB.Rcheck/tests/testthat/Mus_musculus_Bgee_15_0 folder.

Querying Bgee to get release information...

NOTE: the file describing Bgee species information for release 13_2 was found in the download directory /home/biocbuild/bbs-3.13-bioc/meat/BgeeDB.Rcheck/tests/testthat. Data will not be redownloaded.

API key built: 17c5b6de37acaae27a4d1486bac55941e143bffc098b21cc5068ab7a39b7ac97117cc45e247a3e6a7b6f1a7fa9f606eb4442edd6241e701e60056f81a7a4d6ab

IMPORTANT INFORMATION: Be careful! You are not using the last release of the Bgee database! If it is not intentional you should update to the last version of Bioconductor and of the BgeeDB package. To update Bioconductor, see https://www.bioconductor.org/install/

NOTE: annotation files for this species were found in the download directory /home/biocbuild/bbs-3.13-bioc/meat/BgeeDB.Rcheck/tests/testthat/Mus_musculus_Bgee_13_2. Data will not be redownloaded.

Querying Bgee to get release information...

NOTE: the file describing Bgee species information for release 13_2 was found in the download directory /home/biocbuild/bbs-3.13-bioc/meat/BgeeDB.Rcheck/tests/testthat. Data will not be redownloaded.

API key built: 17c5b6de37acaae27a4d1486bac55941e143bffc098b21cc5068ab7a39b7ac97117cc45e247a3e6a7b6f1a7fa9f606eb4442edd6241e701e60056f81a7a4d6ab

IMPORTANT INFORMATION: Be careful! You are not using the last release of the Bgee database! If it is not intentional you should update to the last version of Bioconductor and of the BgeeDB package. To update Bioconductor, see https://www.bioconductor.org/install/

Saved annotation files in /home/biocbuild/bbs-3.13-bioc/meat/BgeeDB.Rcheck/tests/testthat/Mus_musculus_Bgee_13_2 folder.

Querying Bgee to get release information...

Building URL to query species in Bgee release 14_2...

Submitting URL to Bgee webservice... (https://r.bgee.org/bgee14_2/?page=r_package&action=get_all_species&display_type=tsv&source=BgeeDB_R_package&source_version=2.18.1)

Query to Bgee webservice successful!

Querying Bgee to get release information...

NOTE: the file describing Bgee species information for release 15_0 was found in the download directory /home/biocbuild/bbs-3.13-bioc/meat/BgeeDB.Rcheck/tests/testthat. Data will not be redownloaded.

API key built: 17c5b6de37acaae27a4d1486bac55941e143bffc098b21cc5068ab7a39b7ac97117cc45e247a3e6a7b6f1a7fa9f606eb4442edd6241e701e60056f81a7a4d6ab

Building URLs to retrieve organ relationships from Bgee.........
   URL successfully built (https://bgee.org/bgee15_0/?page=r_package&action=get_anat_entity_relations&display_type=tsv&species_list=9913&attr_list=SOURCE_ID&attr_list=TARGET_ID&api_key=17c5b6de37acaae27a4d1486bac55941e143bffc098b21cc5068ab7a39b7ac97117cc45e247a3e6a7b6f1a7fa9f606eb4442edd6241e701e60056f81a7a4d6ab&source=BgeeDB_R_package&source_version=2.18.1)
   Submitting URL to Bgee webservice (can be long)
   Got results from Bgee webservice. Files are written in "/home/biocbuild/bbs-3.13-bioc/meat/BgeeDB.Rcheck/tests/testthat/Bos_taurus_Bgee_15_0"

Building URLs to retrieve organ names from Bgee.................
   URL successfully built (https://bgee.org/bgee15_0/?page=r_package&action=get_anat_entities&display_type=tsv&species_list=9913&attr_list=ID&attr_list=NAME&api_key=17c5b6de37acaae27a4d1486bac55941e143bffc098b21cc5068ab7a39b7ac97117cc45e247a3e6a7b6f1a7fa9f606eb4442edd6241e701e60056f81a7a4d6ab&source=BgeeDB_R_package&source_version=2.18.1)
   Submitting URL to Bgee webservice (can be long)
   Got results from Bgee webservice. Files are written in "/home/biocbuild/bbs-3.13-bioc/meat/BgeeDB.Rcheck/tests/testthat/Bos_taurus_Bgee_15_0"

Building URLs to retrieve mapping of gene to organs from Bgee...
   URL successfully built (https://bgee.org/bgee15_0/?page=r_package&action=get_expression_calls&display_type=tsv&species_list=9913&attr_list=GENE_ID&attr_list=ANAT_ENTITY_ID&api_key=17c5b6de37acaae27a4d1486bac55941e143bffc098b21cc5068ab7a39b7ac97117cc45e247a3e6a7b6f1a7fa9f606eb4442edd6241e701e60056f81a7a4d6ab&source=BgeeDB_R_package&source_version=2.18.1&data_type=RNA_SEQ&data_qual=SILVER&stage_id=UBERON:0000092)
   Submitting URL to Bgee webservice (can be long)
   Got results from Bgee webservice. Files are written in "/home/biocbuild/bbs-3.13-bioc/meat/BgeeDB.Rcheck/tests/testthat/Bos_taurus_Bgee_15_0"

Parsing the results.............................................

Adding BGEE:0 as unique root of all terms of the ontology.......

Done.

Querying Bgee to get release information...

NOTE: the file describing Bgee species information for release 15_0 was found in the download directory /home/biocbuild/bbs-3.13-bioc/meat/BgeeDB.Rcheck/tests/testthat. Data will not be redownloaded.

API key built: 17c5b6de37acaae27a4d1486bac55941e143bffc098b21cc5068ab7a39b7ac97117cc45e247a3e6a7b6f1a7fa9f606eb4442edd6241e701e60056f81a7a4d6ab

Saved annotation files in /home/biocbuild/bbs-3.13-bioc/meat/BgeeDB.Rcheck/tests/testthat/Drosophila_simulans_Bgee_15_0 folder.

Querying Bgee to get release information...

NOTE: the file describing Bgee species information for release 15_0 was found in the download directory /home/biocbuild/bbs-3.13-bioc/meat/BgeeDB.Rcheck/tests/testthat. Data will not be redownloaded.

API key built: 17c5b6de37acaae27a4d1486bac55941e143bffc098b21cc5068ab7a39b7ac97117cc45e247a3e6a7b6f1a7fa9f606eb4442edd6241e701e60056f81a7a4d6ab

NOTE: annotation files for this species were found in the download directory /home/biocbuild/bbs-3.13-bioc/meat/BgeeDB.Rcheck/tests/testthat/Mus_musculus_Bgee_15_0. Data will not be redownloaded.

Querying Bgee to get release information...

NOTE: the file describing Bgee species information for release 15_0 was found in the download directory /home/biocbuild/bbs-3.13-bioc/meat/BgeeDB.Rcheck/tests/testthat. Data will not be redownloaded.

API key built: 17c5b6de37acaae27a4d1486bac55941e143bffc098b21cc5068ab7a39b7ac97117cc45e247a3e6a7b6f1a7fa9f606eb4442edd6241e701e60056f81a7a4d6ab

NOTE: an organ relationships file was found in the download directory /home/biocbuild/bbs-3.13-bioc/meat/BgeeDB.Rcheck/tests/testthat/Bos_taurus_Bgee_15_0. Data will not be redownloaded.

NOTE: an organ names file was found in the download directory /home/biocbuild/bbs-3.13-bioc/meat/BgeeDB.Rcheck/tests/testthat/Bos_taurus_Bgee_15_0. Data will not be redownloaded.

NOTE: a gene to organs mapping file was found in the download directory /home/biocbuild/bbs-3.13-bioc/meat/BgeeDB.Rcheck/tests/testthat/Bos_taurus_Bgee_15_0. Data will not be redownloaded.

Parsing the results.............................................

Adding BGEE:0 as unique root of all terms of the ontology.......

Done.

Checking topAnatData object.............

Checking gene list......................

WARNING: Some genes in your gene list have no expression data in Bgee, and will not be included in the analysis. 98 genes in background will be kept.

Building most specific Ontology terms...  (  111  Ontology terms found. )

Building DAG topology...................  (  551  Ontology terms and  996  relations. )

Annotating nodes (Can be long)..........  (  95  genes annotated to the Ontology terms. )
[ FAIL 0 | WARN 0 | SKIP 0 | PASS 32 ]
Warning message:
call dbDisconnect() when finished working with a connection 
> 
> proc.time()
   user  system elapsed 
 29.394   4.096 178.750 

Example timings

BgeeDB.Rcheck/BgeeDB-Ex.timings

nameusersystemelapsed
Bgee-class0.1060.0013.273
deleteLocalData0.0160.0001.134
deleteOldData0.0150.0001.133
formatData 4.317 1.20610.748
geneList11.138 0.33471.993
getAnnotation0.0190.0041.144
getData1.3800.2082.707
listBgeeRelease0.0140.0001.090
listBgeeSpecies0.1060.0134.839
loadTopAnatData 7.373 0.667150.749
makeTable10.154 0.83797.410
topAnat5.3320.3367.059