Back to Multiple platform build/check report for BioC 3.13
A[B]CDEFGHIJKLMNOPQRSTUVWXYZ

This page was generated on 2021-06-21 14:04:47 -0400 (Mon, 21 Jun 2021).

BUILD results for BgeeDB on nebbiolo1

To the developers/maintainers of the BgeeDB package:
- Please allow up to 24 hours (and sometimes 48 hours) for your latest push to git@git.bioconductor.org:packages/BgeeDB.git to
reflect on this report. See How and When does the builder pull? When will my changes propagate? here for more information.
- Make sure to use the following settings in order to reproduce any error or warning you see on this page.

raw results

Package 143/2041HostnameOS / ArchINSTALLBUILDCHECKBUILD BIN
BgeeDB 2.18.1  (landing page)
Julien Wollbrett , Julien Roux , Andrea Komljenovic , Frederic Bastian
Snapshot Date: 2021-06-20 06:50:09 -0400 (Sun, 20 Jun 2021)
URL: https://git.bioconductor.org/packages/BgeeDB
Branch: RELEASE_3_13
Last Commit: 6e3f28d
Last Changed Date: 2021-06-15 22:49:49 -0400 (Tue, 15 Jun 2021)
nebbiolo1Linux (Ubuntu 20.04.2 LTS) / x86_64  OK    OK    OK  UNNEEDED, same version is already published
tokay2Windows Server 2012 R2 Standard / x64  OK    OK    OK    OK  YES
machv2macOS 10.14.6 Mojave / x86_64  OK    OK    OK    OK  YES

Summary

Package: BgeeDB
Version: 2.18.1
Command: /home/biocbuild/bbs-3.13-bioc/R/bin/R CMD build --keep-empty-dirs --no-resave-data BgeeDB
StartedAt: 2021-06-20 08:49:35 -0400 (Sun, 20 Jun 2021)
EndedAt: 2021-06-20 09:01:50 -0400 (Sun, 20 Jun 2021)
EllapsedTime: 735.1 seconds
RetCode: 0
Status:   OK  
PackageFile: BgeeDB_2.18.1.tar.gz
PackageFileSize: 95.24 KiB

Command output

##############################################################################
##############################################################################
###
### Running command:
###
###   /home/biocbuild/bbs-3.13-bioc/R/bin/R CMD build --keep-empty-dirs --no-resave-data BgeeDB
###
##############################################################################
##############################################################################


* checking for file ‘BgeeDB/DESCRIPTION’ ... OK
* preparing ‘BgeeDB’:
* checking DESCRIPTION meta-information ... OK
* installing the package to build vignettes
* creating vignettes ... OK
* checking for LF line-endings in source and make files and shell scripts
* checking for empty or unneeded directories
* looking to see if a ‘data/datalist’ file should be added
* building ‘BgeeDB_2.18.1.tar.gz’