Back to Multiple platform build/check report for BioC 3.13
A[B]CDEFGHIJKLMNOPQRSTUVWXYZ

This page was generated on 2021-09-24 15:06:02 -0400 (Fri, 24 Sep 2021).

INSTALL results for BaalChIP on tokay2

To the developers/maintainers of the BaalChIP package:
- Please allow up to 24 hours (and sometimes 48 hours) for your latest push to git@git.bioconductor.org:packages/BaalChIP.git to
reflect on this report. See How and When does the builder pull? When will my changes propagate? here for more information.
- Make sure to use the following settings in order to reproduce any error or warning you see on this page.

raw results

Package 106/2041HostnameOS / ArchINSTALLBUILDCHECKBUILD BIN
BaalChIP 1.18.0  (landing page)
Ines de Santiago
Snapshot Date: 2021-09-23 04:50:12 -0400 (Thu, 23 Sep 2021)
git_url: https://git.bioconductor.org/packages/BaalChIP
git_branch: RELEASE_3_13
git_last_commit: 49e2ae7
git_last_commit_date: 2021-05-19 12:22:59 -0400 (Wed, 19 May 2021)
nebbiolo1Linux (Ubuntu 20.04.2 LTS) / x86_64  OK    OK    WARNINGS  UNNEEDED, same version is already published
tokay2Windows Server 2012 R2 Standard / x64  OK    OK    WARNINGS    OK  UNNEEDED, same version is already published
machv2macOS 10.14.6 Mojave / x86_64  OK    OK    WARNINGS    OK  UNNEEDED, same version is already published

Summary

Package: BaalChIP
Version: 1.18.0
Command: C:\cygwin\bin\curl.exe -O http://155.52.207.165/BBS/3.13/bioc/src/contrib/BaalChIP_1.18.0.tar.gz && rm -rf BaalChIP.buildbin-libdir && mkdir BaalChIP.buildbin-libdir && C:\Users\biocbuild\bbs-3.13-bioc\R\bin\R.exe CMD INSTALL --merge-multiarch --build --library=BaalChIP.buildbin-libdir BaalChIP_1.18.0.tar.gz && C:\Users\biocbuild\bbs-3.13-bioc\R\bin\R.exe CMD INSTALL BaalChIP_1.18.0.zip && rm BaalChIP_1.18.0.tar.gz BaalChIP_1.18.0.zip
StartedAt: 2021-09-23 09:29:11 -0400 (Thu, 23 Sep 2021)
EndedAt: 2021-09-23 09:33:01 -0400 (Thu, 23 Sep 2021)
EllapsedTime: 230.0 seconds
RetCode: 0
Status:   OK  

Command output

##############################################################################
##############################################################################
###
### Running command:
###
###   C:\cygwin\bin\curl.exe -O http://155.52.207.165/BBS/3.13/bioc/src/contrib/BaalChIP_1.18.0.tar.gz && rm -rf BaalChIP.buildbin-libdir && mkdir BaalChIP.buildbin-libdir && C:\Users\biocbuild\bbs-3.13-bioc\R\bin\R.exe CMD INSTALL --merge-multiarch --build --library=BaalChIP.buildbin-libdir BaalChIP_1.18.0.tar.gz && C:\Users\biocbuild\bbs-3.13-bioc\R\bin\R.exe CMD INSTALL BaalChIP_1.18.0.zip && rm BaalChIP_1.18.0.tar.gz BaalChIP_1.18.0.zip
###
##############################################################################
##############################################################################


  % Total    % Received % Xferd  Average Speed   Time    Time     Time  Current
                                 Dload  Upload   Total   Spent    Left  Speed

  0     0    0     0    0     0      0      0 --:--:-- --:--:-- --:--:--     0
  1 44.3M    1  695k    0     0   978k      0  0:00:46 --:--:--  0:00:46  978k
  5 44.3M    5 2299k    0     0  1362k      0  0:00:33  0:00:01  0:00:32 1362k
 10 44.3M   10 4587k    0     0  1695k      0  0:00:26  0:00:02  0:00:24 1695k
 16 44.3M   16 7524k    0     0  2037k      0  0:00:22  0:00:03  0:00:19 2037k
 24 44.3M   24 10.9M    0     0  2361k      0  0:00:19  0:00:04  0:00:15 2361k
 34 44.3M   34 15.2M    0     0  2730k      0  0:00:16  0:00:05  0:00:11 2978k
 46 44.3M   46 20.8M    0     0  3183k      0  0:00:14  0:00:06  0:00:08 3797k
 60 44.3M   60 26.9M    0     0  3579k      0  0:00:12  0:00:07  0:00:05 4596k
 76 44.3M   76 33.9M    0     0  3996k      0  0:00:11  0:00:08  0:00:03 5445k
 95 44.3M   95 42.2M    0     0  4462k      0  0:00:10  0:00:09  0:00:01 6471k
100 44.3M  100 44.3M    0     0  4568k      0  0:00:09  0:00:09 --:--:-- 7072k

install for i386

* installing *source* package 'BaalChIP' ...
** using staged installation
** R
** data
*** moving datasets to lazyload DB
** inst
** byte-compile and prepare package for lazy loading
** help
*** installing help indices
  converting help for package 'BaalChIP'
    finding HTML links ... done
    BaalChIP                                html  
    BaalChIP.get                            html  
    BaalChIP.report                         html  
    BaalChIP.run                            html  
    BaalObject                              html  
    ENCODEexample                           html  
    FAIREexample                            html  
    QCfilter                                html  
    UniqueMappability50bp_hg19              html  
    adjustmentBaalPlot                      html  
    alleleCounts                            html  
    blacklist_hg19                          html  
    filter1allele                           html  
    filterIntbias                           html  
    getASB                                  html  
    mergePerGroup                           html  
    pickrell2011cov1_hg19                   html  
    plotQC                                  html  
    plotSimul                               html  
    summaryASB                              html  
    summaryQC                               html  
** building package indices
** installing vignettes
** testing if installed package can be loaded from temporary location
** testing if installed package can be loaded from final location
** testing if installed package keeps a record of temporary installation path

install for x64

* installing *source* package 'BaalChIP' ...
** testing if installed package can be loaded
* MD5 sums
packaged installation of 'BaalChIP' as BaalChIP_1.18.0.zip
* DONE (BaalChIP)
* installing to library 'C:/Users/biocbuild/bbs-3.13-bioc/R/library'
package 'BaalChIP' successfully unpacked and MD5 sums checked