Back to Multiple platform build/check report for BioC 3.13
A[B]CDEFGHIJKLMNOPQRSTUVWXYZ

This page was generated on 2021-07-30 15:05:47 -0400 (Fri, 30 Jul 2021).

INSTALL results for BLMA on tokay2

To the developers/maintainers of the BLMA package:
- Please allow up to 24 hours (and sometimes 48 hours) for your latest push to git@git.bioconductor.org:packages/BLMA.git to
reflect on this report. See How and When does the builder pull? When will my changes propagate? here for more information.
- Make sure to use the following settings in order to reproduce any error or warning you see on this page.

raw results

Package 200/2041HostnameOS / ArchINSTALLBUILDCHECKBUILD BIN
BLMA 1.16.0  (landing page)
Hung Nguyen
Snapshot Date: 2021-07-29 04:50:02 -0400 (Thu, 29 Jul 2021)
URL: https://git.bioconductor.org/packages/BLMA
Branch: RELEASE_3_13
Last Commit: 9b4e0e3
Last Changed Date: 2021-05-19 12:27:28 -0400 (Wed, 19 May 2021)
nebbiolo1Linux (Ubuntu 20.04.2 LTS) / x86_64  OK    OK    OK  UNNEEDED, same version is already published
tokay2Windows Server 2012 R2 Standard / x64  OK    OK    OK    OK  UNNEEDED, same version is already published
machv2macOS 10.14.6 Mojave / x86_64  OK    OK    OK    OK  UNNEEDED, same version is already published

Summary

Package: BLMA
Version: 1.16.0
Command: C:\cygwin\bin\curl.exe -O http://155.52.207.165/BBS/3.13/bioc/src/contrib/BLMA_1.16.0.tar.gz && rm -rf BLMA.buildbin-libdir && mkdir BLMA.buildbin-libdir && C:\Users\biocbuild\bbs-3.13-bioc\R\bin\R.exe CMD INSTALL --merge-multiarch --build --library=BLMA.buildbin-libdir BLMA_1.16.0.tar.gz && C:\Users\biocbuild\bbs-3.13-bioc\R\bin\R.exe CMD INSTALL BLMA_1.16.0.zip && rm BLMA_1.16.0.tar.gz BLMA_1.16.0.zip
StartedAt: 2021-07-29 08:35:22 -0400 (Thu, 29 Jul 2021)
EndedAt: 2021-07-29 08:36:19 -0400 (Thu, 29 Jul 2021)
EllapsedTime: 56.8 seconds
RetCode: 0
Status:   OK  

Command output

##############################################################################
##############################################################################
###
### Running command:
###
###   C:\cygwin\bin\curl.exe -O http://155.52.207.165/BBS/3.13/bioc/src/contrib/BLMA_1.16.0.tar.gz && rm -rf BLMA.buildbin-libdir && mkdir BLMA.buildbin-libdir && C:\Users\biocbuild\bbs-3.13-bioc\R\bin\R.exe CMD INSTALL --merge-multiarch --build --library=BLMA.buildbin-libdir BLMA_1.16.0.tar.gz && C:\Users\biocbuild\bbs-3.13-bioc\R\bin\R.exe CMD INSTALL BLMA_1.16.0.zip && rm BLMA_1.16.0.tar.gz BLMA_1.16.0.zip
###
##############################################################################
##############################################################################


  % Total    % Received % Xferd  Average Speed   Time    Time     Time  Current
                                 Dload  Upload   Total   Spent    Left  Speed

  0     0    0     0    0     0      0      0 --:--:-- --:--:-- --:--:--     0
 74 2574k   74 1929k    0     0  3239k      0 --:--:-- --:--:-- --:--:-- 3238k
100 2574k  100 2574k    0     0  3596k      0 --:--:-- --:--:-- --:--:-- 3595k

install for i386

* installing *source* package 'BLMA' ...
** using staged installation
** R
** data
** inst
** byte-compile and prepare package for lazy loading
** help
*** installing help indices
  converting help for package 'BLMA'
    finding HTML links ... done
    GSE17054                                html  
    GSE33223                                html  
    GSE42140                                html  
    GSE57194                                html  
    addCLT                                  html  
    bilevelAnalysisClassic                  html  
    bilevelAnalysisGene                     html  
    bilevelAnalysisGeneset                  html  
    finding level-2 HTML links ... done

    bilevelAnalysisPathway                  html  
    fisherMethod                            html  
    getStatistics                           html  
    intraAnalysisClassic                    html  
    intraAnalysisGene                       html  
    loadKEGGPathways                        html  
    pORACalc                                html  
    stoufferMethod                          html  
** building package indices
** installing vignettes
** testing if installed package can be loaded from temporary location
** testing if installed package can be loaded from final location
** testing if installed package keeps a record of temporary installation path

install for x64

* installing *source* package 'BLMA' ...
** testing if installed package can be loaded
* MD5 sums
packaged installation of 'BLMA' as BLMA_1.16.0.zip
* DONE (BLMA)
* installing to library 'C:/Users/biocbuild/bbs-3.13-bioc/R/library'
package 'BLMA' successfully unpacked and MD5 sums checked