Back to Multiple platform build/check report for BioC 3.13
A[B]CDEFGHIJKLMNOPQRSTUVWXYZ

This page was generated on 2021-09-15 15:05:54 -0400 (Wed, 15 Sep 2021).

BUILD results for BLMA on machv2

To the developers/maintainers of the BLMA package:
- Please allow up to 24 hours (and sometimes 48 hours) for your latest push to git@git.bioconductor.org:packages/BLMA.git to
reflect on this report. See How and When does the builder pull? When will my changes propagate? here for more information.
- Make sure to use the following settings in order to reproduce any error or warning you see on this page.

raw results

Package 200/2041HostnameOS / ArchINSTALLBUILDCHECKBUILD BIN
BLMA 1.16.0  (landing page)
Hung Nguyen
Snapshot Date: 2021-09-14 04:50:06 -0400 (Tue, 14 Sep 2021)
git_url: https://git.bioconductor.org/packages/BLMA
git_branch: RELEASE_3_13
git_last_commit: 9b4e0e3
git_last_commit_date: 2021-05-19 12:27:28 -0400 (Wed, 19 May 2021)
nebbiolo1Linux (Ubuntu 20.04.2 LTS) / x86_64  OK    OK    OK  UNNEEDED, same version is already published
tokay2Windows Server 2012 R2 Standard / x64  OK    OK    OK    OK  UNNEEDED, same version is already published
machv2macOS 10.14.6 Mojave / x86_64  OK    OK    OK    OK  UNNEEDED, same version is already published

Summary

Package: BLMA
Version: 1.16.0
Command: /Library/Frameworks/R.framework/Versions/Current/Resources/bin/R CMD build --keep-empty-dirs --no-resave-data BLMA
StartedAt: 2021-09-14 10:53:29 -0400 (Tue, 14 Sep 2021)
EndedAt: 2021-09-14 10:58:58 -0400 (Tue, 14 Sep 2021)
EllapsedTime: 329.5 seconds
RetCode: 0
Status:   OK  
PackageFile: BLMA_1.16.0.tar.gz
PackageFileSize: 2.703 MiB

Command output

##############################################################################
##############################################################################
###
### Running command:
###
###   /Library/Frameworks/R.framework/Versions/Current/Resources/bin/R CMD build --keep-empty-dirs --no-resave-data BLMA
###
##############################################################################
##############################################################################


* checking for file ‘BLMA/DESCRIPTION’ ... OK
* preparing ‘BLMA’:
* checking DESCRIPTION meta-information ... OK
* installing the package to build vignettes
* creating vignettes ... OK
* checking for LF line-endings in source and make files and shell scripts
* checking for empty or unneeded directories
* looking to see if a ‘data/datalist’ file should be added
* building ‘BLMA_1.16.0.tar.gz’