Back to Multiple platform build/check report for BioC 3.13
A[B]CDEFGHIJKLMNOPQRSTUVWXYZ

Multiple platform build/check report for BioC 3.13

All results for package BBCAnalyzer

This page was generated on 2021-05-10 12:13:14 -0400 (Mon, 10 May 2021).

Package 131/2016HostnameOS / ArchINSTALLBUILDCHECKBUILD BIN
BBCAnalyzer 1.21.0  (landing page)
Sarah Sandmann
Snapshot Date: 2021-05-09 14:50:05 -0400 (Sun, 09 May 2021)
URL: https://git.bioconductor.org/packages/BBCAnalyzer
Branch: master
Last Commit: 24a6c8d
Last Changed Date: 2020-10-27 11:07:22 -0400 (Tue, 27 Oct 2020)
nebbiolo1Linux (Ubuntu 20.04.2 LTS) / x86_64  OK    OK    OK  UNNEEDED, same version exists in internal repository
riesling1Windows Server 2019 Standard / x64  OK    OK    WARNINGS    OK  UNNEEDED, same version exists in internal repository
machv2macOS 10.14.6 Mojave / x86_64  OK    OK    OK    OK  UNNEEDED, same version exists in internal repository