Back to Multiple platform build/check report for BioC 3.13
[A]BCDEFGHIJKLMNOPQRSTUVWXYZ

This page was generated on 2021-09-24 15:06:02 -0400 (Fri, 24 Sep 2021).

BUILD BIN results for ATACseqQC on tokay2

To the developers/maintainers of the ATACseqQC package:
- Please allow up to 24 hours (and sometimes 48 hours) for your latest push to git@git.bioconductor.org:packages/ATACseqQC.git to
reflect on this report. See How and When does the builder pull? When will my changes propagate? here for more information.
- Make sure to use the following settings in order to reproduce any error or warning you see on this page.

raw results

Package 98/2041HostnameOS / ArchINSTALLBUILDCHECKBUILD BIN
ATACseqQC 1.16.0  (landing page)
Jianhong Ou
Snapshot Date: 2021-09-23 04:50:12 -0400 (Thu, 23 Sep 2021)
git_url: https://git.bioconductor.org/packages/ATACseqQC
git_branch: RELEASE_3_13
git_last_commit: e345154
git_last_commit_date: 2021-05-19 12:27:43 -0400 (Wed, 19 May 2021)
nebbiolo1Linux (Ubuntu 20.04.2 LTS) / x86_64  OK    OK    OK  UNNEEDED, same version is already published
tokay2Windows Server 2012 R2 Standard / x64  OK    OK    OK    OK  UNNEEDED, same version is already published
machv2macOS 10.14.6 Mojave / x86_64  OK    OK    OK    OK  UNNEEDED, same version is already published

Summary

Package: ATACseqQC
Version: 1.16.0
Command: rm -rf ATACseqQC.buildbin-libdir && mkdir ATACseqQC.buildbin-libdir && C:\Users\biocbuild\bbs-3.13-bioc\R\bin\R.exe CMD INSTALL --merge-multiarch --build --library=ATACseqQC.buildbin-libdir ATACseqQC_1.16.0.tar.gz
StartedAt: 2021-09-24 07:13:19 -0400 (Fri, 24 Sep 2021)
EndedAt: 2021-09-24 07:14:59 -0400 (Fri, 24 Sep 2021)
EllapsedTime: 99.3 seconds
RetCode: 0
Status:   OK  
PackageFile: ATACseqQC_1.16.0.zip
PackageFileSize: 11.96 MiB

Command output

##############################################################################
##############################################################################
###
### Running command:
###
###   rm -rf ATACseqQC.buildbin-libdir && mkdir ATACseqQC.buildbin-libdir && C:\Users\biocbuild\bbs-3.13-bioc\R\bin\R.exe CMD INSTALL --merge-multiarch --build --library=ATACseqQC.buildbin-libdir ATACseqQC_1.16.0.tar.gz
###
##############################################################################
##############################################################################



install for i386

* installing *source* package 'ATACseqQC' ...
** using staged installation
** R
** inst
** byte-compile and prepare package for lazy loading
** help
*** installing help indices
  converting help for package 'ATACseqQC'
    finding HTML links ... done
    ATACseqQC-package                       html  
    DB                                      html  
    NFRscore                                html  
    PTscore                                 html  
    TSSEscore                               html  
    bamQC                                   html  
    distanceDyad                            html  
    enrichedFragments                       html  
    estimateLibComplexity                   html  
    factorFootprints                        html  
    footprintsScanner                       html  
    fragSizeDist                            html  
    peakdet                                 html  
    plotCorrelation                         html  
    plotFootprints                          html  
    pwmscores                               html  
    readBamFile                             html  
    finding level-2 HTML links ... done

    readsDupFreq                            html  
    saturationPlot                          html  
    shiftGAlignments                        html  
    shiftGAlignmentsList                    html  
    shiftReads                              html  
    splitBam                                html  
    splitGAlignmentsByCut                   html  
    vPlot                                   html  
    writeListOfGAlignments                  html  
** building package indices
** installing vignettes
** testing if installed package can be loaded from temporary location
** testing if installed package can be loaded from final location
** testing if installed package keeps a record of temporary installation path

install for x64

* installing *source* package 'ATACseqQC' ...
** testing if installed package can be loaded
* MD5 sums
packaged installation of 'ATACseqQC' as ATACseqQC_1.16.0.zip
* DONE (ATACseqQC)