Build/check report for BioC 3.12 experimental data

This page was generated on 2021-05-06 14:10:16 -0400 (Thu, 06 May 2021).

Approx. Package Snapshot Date (git pull): 2021-05-06 09:00:13 -0400 (Thu, 06 May 2021)

HostnameOSArch (*)Platform label (**)R versionInstalled pkgs
malbec1Linux (Ubuntu 18.04.5 LTS)x86_64x86_64-linux-gnu4.0.5 (2021-03-31) -- "Shake and Throw" 4017
Click on any hostname to see more info about the system (e.g. compilers)      (*) as reported by 'uname -p', except on Windows and Mac OS X      (**) as reported by 'gcc -v'

Package status is indicated by one of the following glyphs
  TIMEOUT  
INSTALL, BUILD, CHECK or BUILD BIN of package took more than 40, 80, 80 or 40 minutes, respectively
  ERROR  
Bad DESCRIPTION file or INSTALL, BUILD or BUILD BIN of package failed, or CHECK produced errors
  WARNINGS  
CHECK of package produced warnings
  OK  
INSTALL, BUILD, CHECK or BUILD BIN of package was OK
skipped
CHECK or BUILD BIN of package was skipped because the BUILD step failed
  NA  
BUILD, CHECK or BUILD BIN result is not available because of an anomaly in the Build System
Click on any glyph in the report below to access the detailed report.
Package propagation status is indicated by one of the following LEDs
YES YES: Package was propagated because it didn't previously exist or version was bumped
NO NO: Package was not propagated because of a problem (impossible dependencies, or version lower than what is already propagated)
UNNEEDED UNNEEDED: Package was not propagated because it is already in the repository with this version. A version bump is required in order to propagate it

A crossed-out package name indicates the package is deprecated


QUICK STATSOS / ArchINSTALLBUILDCHECK
malbec1Linux (Ubuntu 18.04.5 LTS) / x86_64
03395
05393
0296295
A
ABCDEFGHIJKLMNOPQRSTUVWXYZ
PackageMaintainerINSTALLBUILDCHECK
1/398ABAData 1.20.0  (landing page)Steffi Grote  OK    OK    OK  UNNEEDED, same version exists in internal repository
2/398adductData 1.6.0  (landing page)Josie Hayes  OK    OK    OK  UNNEEDED, same version exists in internal repository
3/398affycompData 1.28.0  (landing page)Harris Jaffee  OK    OK    OK  UNNEEDED, same version exists in internal repository
4/398affydata 1.38.0  (landing page)Harris Jaffee  OK    OK    WARNINGS  UNNEEDED, same version exists in internal repository
5/398Affyhgu133A2Expr 1.26.0  (landing page)Zhicheng Ji  OK    OK    OK  UNNEEDED, same version exists in internal repository
6/398Affyhgu133aExpr 1.28.0  (landing page)Zhicheng Ji  OK    OK    OK  UNNEEDED, same version exists in internal repository
7/398Affyhgu133Plus2Expr 1.24.0  (landing page)Zhicheng Ji  OK    OK    OK  UNNEEDED, same version exists in internal repository
8/398AffymetrixDataTestFiles 0.28.0  (landing page)Henrik Bengtsson  OK    OK    OK  UNNEEDED, same version exists in internal repository
9/398Affymoe4302Expr 1.28.0  (landing page)Zhicheng Ji  OK    OK    OK  UNNEEDED, same version exists in internal repository
10/398airway 1.10.0  (landing page)Michael Love  OK    OK    WARNINGS  UNNEEDED, same version exists in internal repository
11/398ALL 1.32.0  (landing page)Robert Gentleman  OK    OK    OK  UNNEEDED, same version exists in internal repository
12/398ALLMLL 1.30.0  (landing page)B. M. Bolstad  OK    OK    OK  UNNEEDED, same version exists in internal repository
13/398alpineData 1.16.0  (landing page)Michael Love  OK    OK    OK  UNNEEDED, same version exists in internal repository
14/398AmpAffyExample 1.30.0  (landing page)Rafael A. Irizarry  OK    OK    WARNINGS  UNNEEDED, same version exists in internal repository
15/398AneuFinderData 1.18.0  (landing page)Aaron Taudt  OK    OK    WARNINGS  UNNEEDED, same version exists in internal repository
16/398antiProfilesData 1.26.0  (landing page)Hector Corrada Bravo  OK    OK    OK  UNNEEDED, same version exists in internal repository
17/398aracne.networks 1.16.0  (landing page)Federico M. Giorgi , Mariano Alvarez  OK    OK    WARNINGS  UNNEEDED, same version exists in internal repository
18/398ARRmData 1.26.0  (landing page)Jean-Philippe Fortin  OK    OK    OK  UNNEEDED, same version exists in internal repository
19/398AshkenazimSonChr21 1.20.0  (landing page)Who to complain to  OK    OK    OK  UNNEEDED, same version exists in internal repository
20/398ASICSdata 1.10.0  (landing page)Gaëlle Lefort  OK    OK    OK  UNNEEDED, same version exists in internal repository
21/398AssessORFData 1.8.0  (landing page)Deepank Korandla  OK    OK    OK  UNNEEDED, same version exists in internal repository
B
ABCDEFGHIJKLMNOPQRSTUVWXYZ
PackageMaintainerINSTALLBUILDCHECK
22/398bcellViper 1.26.0  (landing page)Mariano Javier Alvarez  OK    OK    OK  UNNEEDED, same version exists in internal repository
23/398beadarrayExampleData 1.28.0  (landing page)Mark Dunning  OK    OK    OK  UNNEEDED, same version exists in internal repository
24/398BeadArrayUseCases 1.28.0  (landing page)Mike Smith  OK    OK    OK  UNNEEDED, same version exists in internal repository
25/398benchmarkfdrData2019 1.4.0  (landing page)Stephanie Hicks  OK    OK    OK  UNNEEDED, same version exists in internal repository
26/398beta7 1.28.0  (landing page)Jean Yang  OK    OK    WARNINGS  UNNEEDED, same version exists in internal repository
27/398biotmleData 1.14.0  (landing page)Nima Hejazi  OK    OK    OK  UNNEEDED, same version exists in internal repository
28/398biscuiteerData 1.4.0  (landing page)"Jacob Morrison"  OK    OK    OK  UNNEEDED, same version exists in internal repository
29/398bladderbatch 1.28.0  (landing page)Jeffrey T. Leek  OK    OK    WARNINGS  UNNEEDED, same version exists in internal repository
30/398blimaTestingData 1.10.0  (landing page)Vojtech Kulvait  OK    OK    OK  UNNEEDED, same version exists in internal repository
31/398BloodCancerMultiOmics2017 1.10.0  (landing page)Malgorzata Oles  OK    OK    OK  UNNEEDED, same version exists in internal repository
32/398bodymapRat 1.6.0  (landing page)Stephanie Hicks  OK    OK    OK  UNNEEDED, same version exists in internal repository
33/398brainImageRdata 1.8.0  (landing page)Sara Linker  OK    OK    OK  UNNEEDED, same version exists in internal repository
34/398breakpointRdata 1.8.0  (landing page)David Porubsky  OK    OK    OK  UNNEEDED, same version exists in internal repository
35/398breastCancerMAINZ 1.28.0  (landing page)Markus Schroeder , Benjamin Haibe-Kains  OK    OK    WARNINGS  UNNEEDED, same version exists in internal repository
36/398breastCancerNKI 1.28.0  (landing page)Markus Schroeder , Benjamin Haibe-Kains  OK    OK    WARNINGS  UNNEEDED, same version exists in internal repository
37/398breastCancerTRANSBIG 1.28.0  (landing page)Markus Schroeder , Benjamin Haibe-Kains  OK    OK    WARNINGS  UNNEEDED, same version exists in internal repository
38/398breastCancerUNT 1.28.0  (landing page)Markus Schroeder , Benjamin Haibe-Kains  OK    OK    WARNINGS  UNNEEDED, same version exists in internal repository
39/398breastCancerUPP 1.28.0  (landing page)Markus Schroeder , Benjamin Haibe-Kains  OK    OK    WARNINGS  UNNEEDED, same version exists in internal repository
40/398breastCancerVDX 1.28.0  (landing page)Markus Schroeder , Benjamin Haibe-Kains  OK    OK    WARNINGS  UNNEEDED, same version exists in internal repository
41/398brgedata 1.12.0  (landing page)Carlos Ruiz-Arenas  OK    OK    WARNINGS  UNNEEDED, same version exists in internal repository
42/398bronchialIL13 1.28.0  (landing page)Vince Carey  OK    OK    OK  UNNEEDED, same version exists in internal repository
43/398bsseqData 0.28.0  (landing page)Kasper Daniel Hansen  OK    OK    OK  UNNEEDED, same version exists in internal repository
C
ABCDEFGHIJKLMNOPQRSTUVWXYZ
PackageMaintainerINSTALLBUILDCHECK
44/398cancerdata 1.28.0  (landing page)Daniel Kosztyla  OK    OK    OK  UNNEEDED, same version exists in internal repository
45/398CardinalWorkflows 1.22.0  (landing page)Kylie A. Bemis  OK    OK    OK  UNNEEDED, same version exists in internal repository
46/398ccdata 1.16.0  (landing page)Alex Pickering  OK    OK    WARNINGS  UNNEEDED, same version exists in internal repository
47/398CCl4 1.28.0  (landing page)Audrey Kauffmann  OK    OK    WARNINGS  UNNEEDED, same version exists in internal repository
48/398ccTutorial 1.28.0  (landing page)Joern Toedling  OK    OK    OK  UNNEEDED, same version exists in internal repository
49/398celarefData 1.8.0  (landing page)Sarah Williams  OK    OK    OK  UNNEEDED, same version exists in internal repository
50/398celldex 1.0.0  (landing page)Aaron Lun  OK    OK    OK  UNNEEDED, same version exists in internal repository
51/398CellMapperData 1.16.0  (landing page)Brad Nelms  OK    OK    OK  UNNEEDED, same version exists in internal repository
52/398ceu1kg 0.28.0  (landing page)VJ Carey  OK    OK    WARNINGS  UNNEEDED, same version exists in internal repository
53/398ceu1kgv 0.32.0  (landing page)VJ Carey  OK    OK    WARNINGS  UNNEEDED, same version exists in internal repository
54/398ceuhm3 0.28.0  (landing page)VJ Carey  OK    OK    WARNINGS  UNNEEDED, same version exists in internal repository
55/398cgdv17 0.28.0  (landing page)VJ Carey  OK    OK    OK  UNNEEDED, same version exists in internal repository
56/398ChAMPdata 2.22.0  (landing page)Yuan Tian  OK    OK    OK  UNNEEDED, same version exists in internal repository
57/398ChIC.data 1.10.0  (landing page)Carmen Maria Livi  OK    OK    OK  UNNEEDED, same version exists in internal repository
58/398ChimpHumanBrainData 1.28.0  (landing page)Sean Davis  OK    OK    OK  UNNEEDED, same version exists in internal repository
59/398chipenrich.data 2.14.0  (landing page)Raymond G. Cavalcante  OK    OK    OK  UNNEEDED, same version exists in internal repository
60/398ChIPexoQualExample 1.14.0  (landing page)Rene Welch  OK    OK    OK  UNNEEDED, same version exists in internal repository
61/398chipseqDBData 1.6.0  (landing page)Aaron Lun  OK    OK    OK  UNNEEDED, same version exists in internal repository
62/398ChIPXpressData 1.28.0  (landing page)George Wu  OK    OK    WARNINGS  UNNEEDED, same version exists in internal repository
63/398chromstaRData 1.16.0  (landing page)Aaron Taudt  OK    OK    OK  UNNEEDED, same version exists in internal repository
64/398CLL 1.30.0  (landing page)Robert Gentleman  OK    OK    OK  UNNEEDED, same version exists in internal repository
65/398CLLmethylation 1.10.0  (landing page)Malgorzata Oles , Andreas Mock  OK    OK    OK  UNNEEDED, same version exists in internal repository
66/398CluMSIDdata 1.6.0  (landing page)Tobias Depke  OK    OK    OK  UNNEEDED, same version exists in internal repository
67/398clustifyrdatahub 1.0.0  (landing page)Rui Fu  OK    OK    OK  UNNEEDED, same version exists in internal repository
68/398cMap2data 1.26.0  (landing page)J. Saez-Rodriguez  OK    OK    OK  UNNEEDED, same version exists in internal repository
69/398cnvGSAdata 1.26.0  (landing page)Joseph Lugo  OK    OK    WARNINGS  UNNEEDED, same version exists in internal repository
70/398COHCAPanno 1.26.0  (landing page)Charles Warden  OK    OK    OK  UNNEEDED, same version exists in internal repository
71/398colonCA 1.32.0  (landing page)W Sylvia Merk  OK    OK    WARNINGS  UNNEEDED, same version exists in internal repository
72/398CONFESSdata 1.18.0  (landing page)Diana LOW  OK    OK    OK  UNNEEDED, same version exists in internal repository
73/398ConnectivityMap 1.26.0  (landing page)Paul Shannon  OK    OK    OK  UNNEEDED, same version exists in internal repository
74/398COPDSexualDimorphism.data 1.26.0  (landing page)J Fah Sathirapongsasuti  OK    OK    WARNINGS  UNNEEDED, same version exists in internal repository
75/398CopyhelpeR 1.22.0  (landing page)Oscar Krijgsman  OK    OK    OK  UNNEEDED, same version exists in internal repository
76/398CopyNeutralIMA 1.8.0  (landing page)Xavier Pastor Hostench  OK    OK    OK  UNNEEDED, same version exists in internal repository
77/398COSMIC.67 1.26.0  (landing page)Julian Gehring  OK    OK    OK  UNNEEDED, same version exists in internal repository
78/398CRCL18 1.10.0  (landing page)Claudio Isella  OK    OK    OK  UNNEEDED, same version exists in internal repository
79/398curatedAdipoArray 1.2.0  (landing page)Mahmoud Ahmed  OK    OK    OK  UNNEEDED, same version exists in internal repository
80/398curatedAdipoChIP 1.6.0  (landing page)Mahmoud Ahmed  OK    OK    OK  UNNEEDED, same version exists in internal repository
81/398curatedAdipoRNA 1.6.0  (landing page)Mahmoud Ahmed  OK    OK    OK  UNNEEDED, same version exists in internal repository
82/398curatedBladderData 1.26.0  (landing page)Markus Riester  OK    OK    OK  UNNEEDED, same version exists in internal repository
83/398curatedBreastData 2.18.0  (landing page)Katie Planey  OK    OK    OK  UNNEEDED, same version exists in internal repository
84/398curatedCRCData 2.22.0  (landing page)Princy Parsana  OK    OK    OK  UNNEEDED, same version exists in internal repository
85/398curatedMetagenomicData 1.20.0  (landing page)Lucas Schiffer  OK    OK    OK  UNNEEDED, same version exists in internal repository
86/398curatedOvarianData 1.28.0  (landing page)Levi Waldron  OK    OK    OK  UNNEEDED, same version exists in internal repository
87/398curatedTCGAData 1.12.1  (landing page)Marcel Ramos  OK    OK    OK  UNNEEDED, same version exists in internal repository
D
ABCDEFGHIJKLMNOPQRSTUVWXYZ
PackageMaintainerINSTALLBUILDCHECK
88/398DAPARdata 1.20.1  (landing page)Samuel Wieczorek  OK    OK    WARNINGS  UNNEEDED, same version exists in internal repository
89/398davidTiling 1.30.0  (landing page)Wolfgang Huber  OK    OK    WARNINGS  UNNEEDED, same version exists in internal repository
90/398depmap 1.4.0  (landing page)Laurent Gatto  OK    OK    OK  UNNEEDED, same version exists in internal repository
91/398derfinderData 2.8.1  (landing page)Leonardo Collado-Torres  OK    OK    OK  UNNEEDED, same version exists in internal repository
92/398DeSousa2013 1.26.0  (landing page)Xin Wang  OK    OK    OK  UNNEEDED, same version exists in internal repository
93/398diffloopdata 1.18.0  (landing page)Caleb Lareau  OK    OK    OK  UNNEEDED, same version exists in internal repository
94/398diggitdata 1.22.0  (landing page)Mariano Javier Alvarez  OK    OK    OK  UNNEEDED, same version exists in internal repository
95/398DLBCL 1.30.0  (landing page)Marcus Dittrich  OK    OK    WARNINGS  UNNEEDED, same version exists in internal repository
96/398DmelSGI 1.22.1  (landing page)Mike Smith  OK    OK    OK  UNNEEDED, same version exists in internal repository
97/398DMRcatedata 2.8.2  (landing page)Tim Peters  OK    OK    OK  UNNEEDED, same version exists in internal repository
98/398DonaPLLP2013 1.28.0  (landing page)Joseph D. Barry  OK    OK    OK  UNNEEDED, same version exists in internal repository
99/398dorothea 1.2.2  (landing page)Christian H. Holland  OK    ERROR  skipped
100/398DREAM4 1.26.0  (landing page)Paul Shannon  OK    OK    WARNINGS  UNNEEDED, same version exists in internal repository
101/398dressCheck 0.28.0  (landing page)Vincent Carey  OK    OK    OK  UNNEEDED, same version exists in internal repository
102/398DropletTestFiles 1.0.0  (landing page)Aaron Lun  OK    OK    OK  UNNEEDED, same version exists in internal repository
103/398DrugVsDiseasedata 1.26.0  (landing page)J. Saez-Rodriguez  OK    OK    OK  UNNEEDED, same version exists in internal repository
104/398dsQTL 0.28.0  (landing page)VJ Carey  OK    OK    WARNINGS  UNNEEDED, same version exists in internal repository
105/398DuoClustering2018 1.8.0  (landing page)Angelo Duò  OK    OK    OK  UNNEEDED, same version exists in internal repository
106/398DvDdata 1.26.0  (landing page)J. Saez-Rodriguez  OK    OK    OK  UNNEEDED, same version exists in internal repository
107/398dyebiasexamples 1.30.0  (landing page)Philip Lijnzaad  OK    OK    WARNINGS  UNNEEDED, same version exists in internal repository
E
ABCDEFGHIJKLMNOPQRSTUVWXYZ
PackageMaintainerINSTALLBUILDCHECK
108/398EatonEtAlChIPseq 0.28.0  (landing page)Patrick Aboyoun  OK    OK    WARNINGS  UNNEEDED, same version exists in internal repository
109/398ecoliLeucine 1.30.0  (landing page)Laurent Gautier  OK    OK    WARNINGS  UNNEEDED, same version exists in internal repository
110/398EGSEAdata 1.18.0  (landing page)Monther Alhamdoosh  OK    OK    OK  UNNEEDED, same version exists in internal repository
111/398ELMER.data 2.14.0  (landing page)Tiago Chedraoui Silva  OK    OK    OK  UNNEEDED, same version exists in internal repository
112/398estrogen 1.36.0  (landing page)Wolfgang Huber  OK    OK    OK  UNNEEDED, same version exists in internal repository
113/398etec16s 1.18.0  (landing page)Joseph N. Paulson  OK    OK    OK  UNNEEDED, same version exists in internal repository
F
ABCDEFGHIJKLMNOPQRSTUVWXYZ
PackageMaintainerINSTALLBUILDCHECK
114/398faahKO 1.30.0  (landing page)Steffen Neumann  OK    OK    OK  UNNEEDED, same version exists in internal repository
115/398fabiaData 1.28.0  (landing page)Sepp Hochreiter  OK    OK    OK  UNNEEDED, same version exists in internal repository
116/398facsDorit 1.32.0  (landing page)Florian Hahne  OK    OK    WARNINGS  UNNEEDED, same version exists in internal repository
117/398FANTOM3and4CAGE 1.26.0  (landing page)Vanja Haberle  OK    OK    OK  UNNEEDED, same version exists in internal repository
118/398ffpeExampleData 1.28.0  (landing page)Levi Waldron  OK    OK    OK  UNNEEDED, same version exists in internal repository
119/398fibroEset 1.32.0  (landing page)Sylvia Merk  OK    OK    WARNINGS  UNNEEDED, same version exists in internal repository
120/398FieldEffectCrc 1.0.0  (landing page)Christopher Dampier  OK    OK    OK  UNNEEDED, same version exists in internal repository
121/398FIs 1.18.0  (landing page)Herbert Braselmann , Martin Selmansberger  OK    OK    OK  UNNEEDED, same version exists in internal repository
122/398fission 1.10.0  (landing page)Michael Love  OK    OK    OK  UNNEEDED, same version exists in internal repository
123/398Fletcher2013a 1.26.0  (landing page)Mauro Castro  OK    OK    OK  UNNEEDED, same version exists in internal repository
124/398Fletcher2013b 1.26.0  (landing page)Mauro Castro  OK    OK    OK  UNNEEDED, same version exists in internal repository
125/398flowFitExampleData 1.26.0  (landing page)Davide Rambaldi  OK    OK    WARNINGS  UNNEEDED, same version exists in internal repository
126/398flowPloidyData 1.16.0  (landing page)Tyler Smith  OK    OK    OK  UNNEEDED, same version exists in internal repository
127/398FlowSorted.Blood.450k 1.28.0  (landing page)Andrew E Jaffe  OK    OK    OK  UNNEEDED, same version exists in internal repository
128/398FlowSorted.Blood.EPIC 1.8.0  (landing page)Lucas A. Salas  OK    OK    OK  UNNEEDED, same version exists in internal repository
129/398FlowSorted.CordBlood.450k 1.18.0  (landing page)Shan V. Andrews  OK    OK    OK  UNNEEDED, same version exists in internal repository
130/398FlowSorted.CordBloodCombined.450k 1.6.0  (landing page)Lucas A. Salas  OK    OK    OK  UNNEEDED, same version exists in internal repository
131/398FlowSorted.CordBloodNorway.450k 1.16.0  (landing page)kristina gervin  OK    OK    OK  UNNEEDED, same version exists in internal repository
132/398FlowSorted.DLPFC.450k 1.26.0  (landing page)Andrew E Jaffe  OK    OK    OK  UNNEEDED, same version exists in internal repository
133/398flowWorkspaceData 3.2.0  (landing page)Mike Jiang  OK    OK    OK  UNNEEDED, same version exists in internal repository
134/398frmaExampleData 1.26.0  (landing page)Matthew N. McCall  OK    OK    WARNINGS  UNNEEDED, same version exists in internal repository
135/398FunciSNP.data 1.26.0  (landing page)Simon G. Coetzee  OK    OK    ERROR  
136/398furrowSeg 1.18.0  (landing page)Joseph Barry  OK    OK    WARNINGS  UNNEEDED, same version exists in internal repository
G
ABCDEFGHIJKLMNOPQRSTUVWXYZ
PackageMaintainerINSTALLBUILDCHECK
137/398gageData 2.28.0  (landing page)Weijun Luo  OK    OK    OK  UNNEEDED, same version exists in internal repository
138/398gaschYHS 1.28.0  (landing page)Vince Carey  OK    OK    OK  UNNEEDED, same version exists in internal repository
139/398gatingMLData 2.30.0  (landing page)J. Spidlen  OK    OK    OK  UNNEEDED, same version exists in internal repository
140/398gcspikelite 1.28.0  (landing page)Mark Robinson  OK    OK    WARNINGS  UNNEEDED, same version exists in internal repository
141/398geneLenDataBase 1.26.0  (landing page)Matthew Young , Nadia Davidson  OK    OK    WARNINGS  UNNEEDED, same version exists in internal repository
142/398genomationData 1.22.0  (landing page)Vedran Franke  OK    OK    OK  UNNEEDED, same version exists in internal repository
143/398GeuvadisTranscriptExpr 1.18.0  (landing page)Malgorzata Nowicka  OK    OK    OK  UNNEEDED, same version exists in internal repository
144/398geuvPack 1.22.0  (landing page)VJ Carey  OK    OK    WARNINGS  UNNEEDED, same version exists in internal repository
145/398geuvStore2 1.20.0  (landing page)VJ Carey  ERROR    ERROR  skipped
146/398GGdata 1.28.0  (landing page)VJ Carey  OK    OK    WARNINGS  UNNEEDED, same version exists in internal repository
147/398GIGSEAdata 1.8.0  (landing page)Shijia Zhu  OK    OK    OK  UNNEEDED, same version exists in internal repository
148/398golubEsets 1.32.0  (landing page)Vince Carey  OK    OK    OK  UNNEEDED, same version exists in internal repository
149/398gpaExample 1.2.0  (landing page)Dongjun Chung  OK    OK    OK  UNNEEDED, same version exists in internal repository
150/398grndata 1.22.0  (landing page)Pau Bellot  OK    OK    OK  UNNEEDED, same version exists in internal repository
151/398GSBenchMark 1.10.0  (landing page)Bahman Afsari  OK    OK    OK  UNNEEDED, same version exists in internal repository
152/398GSE62944 1.18.0  (landing page)Bioconductor Package Maintainer  OK    OK    OK  UNNEEDED, same version exists in internal repository
153/398gskb 1.22.0  (landing page)Valerie Bares  OK    OK    OK  UNNEEDED, same version exists in internal repository
154/398GSVAdata 1.26.0  (landing page)Robert Castelo  OK    OK    OK  UNNEEDED, same version exists in internal repository
155/398GWASdata 1.28.0  (landing page)Stephanie Gogarten , Adrienne Stilp  OK    OK    OK  UNNEEDED, same version exists in internal repository
H
ABCDEFGHIJKLMNOPQRSTUVWXYZ
PackageMaintainerINSTALLBUILDCHECK
156/398h5vcData 2.10.0  (landing page)Paul Theodor Pyl  OK    OK    OK  UNNEEDED, same version exists in internal repository
157/398hapmap100khind 1.32.0  (landing page)Benilton Carvalho  OK    OK    OK  UNNEEDED, same version exists in internal repository
158/398hapmap100kxba 1.32.0  (landing page)Benilton Carvalho  OK    OK    OK  UNNEEDED, same version exists in internal repository
159/398hapmap500knsp 1.32.0  (landing page)Benilton Carvalho  OK    OK    OK  UNNEEDED, same version exists in internal repository
160/398hapmap500ksty 1.32.0  (landing page)Benilton Carvalho  OK    OK    OK  UNNEEDED, same version exists in internal repository
161/398hapmapsnp5 1.32.0  (landing page)Benilton Carvalho  OK    OK    OK  UNNEEDED, same version exists in internal repository
162/398hapmapsnp6 1.32.0  (landing page)Benilton Carvalho  OK    OK    OK  UNNEEDED, same version exists in internal repository
163/398harbChIP 1.28.0  (landing page)VJ Carey  OK    OK    OK  UNNEEDED, same version exists in internal repository
164/398HarmanData 1.18.0  (landing page)Jason Ross  OK    OK    OK  UNNEEDED, same version exists in internal repository
165/398HarmonizedTCGAData 1.12.0  (landing page)Tianle Ma  OK    OK    OK  UNNEEDED, same version exists in internal repository
166/398HCAData 1.6.0  (landing page)Federico Marini  OK    OK    OK  UNNEEDED, same version exists in internal repository
167/398HD2013SGI 1.30.0  (landing page)Bernd Fischer  OK    OK    OK  UNNEEDED, same version exists in internal repository
168/398HDCytoData 1.10.0  (landing page)Lukas M. Weber  OK    OK    OK  UNNEEDED, same version exists in internal repository
169/398healthyFlowData 1.28.0  (landing page)Ariful Azad  OK    OK    OK  UNNEEDED, same version exists in internal repository
170/398HEEBOdata 1.28.0  (landing page)Agnes Paquet  OK    OK    WARNINGS  UNNEEDED, same version exists in internal repository
171/398HelloRangesData 1.16.0  (landing page)Michael Lawrence  OK    OK    OK  UNNEEDED, same version exists in internal repository
172/398hgu133abarcodevecs 1.28.0  (landing page)Matthew N. McCall  OK    OK    OK  UNNEEDED, same version exists in internal repository
173/398hgu133plus2barcodevecs 1.28.0  (landing page)Matthew N. McCall  OK    OK    OK  UNNEEDED, same version exists in internal repository
174/398hgu133plus2CellScore 1.10.0  (landing page)Nancy Mah  OK    OK    OK  UNNEEDED, same version exists in internal repository
175/398hgu2beta7 1.30.0  (landing page)Bioconductor Package Maintainer  OK    OK    WARNINGS  UNNEEDED, same version exists in internal repository
176/398HiCDataHumanIMR90 1.10.0  (landing page)Nicolas Servant  OK    OK    OK  UNNEEDED, same version exists in internal repository
177/398HiCDataLymphoblast 1.26.0  (landing page)Borbala Mifsud  OK    OK    OK  UNNEEDED, same version exists in internal repository
178/398HighlyReplicatedRNASeq 1.2.0  (landing page)Constantin Ahlmann-Eltze  OK    OK    OK  UNNEEDED, same version exists in internal repository
179/398Hiiragi2013 1.26.0  (landing page)Andrzej Oles  OK    OK    OK  UNNEEDED, same version exists in internal repository
180/398HIVcDNAvantWout03 1.30.0  (landing page)Chris Fraley  OK    OK    WARNINGS  UNNEEDED, same version exists in internal repository
181/398HMP16SData 1.10.0  (landing page)Lucas Schiffer  OK    OK    OK  UNNEEDED, same version exists in internal repository
182/398HMP2Data 1.4.0  (landing page)John Stansfield , Ekaterina Smirnova  OK    OK    OK  UNNEEDED, same version exists in internal repository
183/398hmyriB36 1.26.0  (landing page)Vincent Carey  OK    OK    WARNINGS  UNNEEDED, same version exists in internal repository
184/398HSMMSingleCell 1.10.0  (landing page)Cole Trapnell  OK    OK    WARNINGS  UNNEEDED, same version exists in internal repository
185/398HumanAffyData 1.16.0  (landing page)Brad Nelms  OK    OK    OK  UNNEEDED, same version exists in internal repository
186/398humanStemCell 0.30.0  (landing page)R. Gentleman  OK    OK    WARNINGS  UNNEEDED, same version exists in internal repository
I
ABCDEFGHIJKLMNOPQRSTUVWXYZ
PackageMaintainerINSTALLBUILDCHECK
187/398IHWpaper 1.18.0  (landing page)Nikos Ignatiadis  OK    OK    ERROR  
188/398Illumina450ProbeVariants.db 1.26.0  (landing page)Tiffany Morris  OK    OK    OK  UNNEEDED, same version exists in internal repository
189/398IlluminaDataTestFiles 1.28.0  (landing page)Kasper Daniel Hansen  OK    OK    OK  UNNEEDED, same version exists in internal repository
190/398ITALICSData 2.28.0  (landing page)Guillem Rigaill  OK    OK    WARNINGS  UNNEEDED, same version exists in internal repository
191/398Iyer517 1.32.0  (landing page)Vince Carey  OK    OK    OK  UNNEEDED, same version exists in internal repository
J
ABCDEFGHIJKLMNOPQRSTUVWXYZ
PackageMaintainerINSTALLBUILDCHECK
192/398JASPAR2014 1.26.0  (landing page)Ge Tan  OK    OK    OK  UNNEEDED, same version exists in internal repository
193/398JASPAR2016 1.18.0  (landing page)Ge Tan  OK    OK    OK  UNNEEDED, same version exists in internal repository
194/398JctSeqData 1.20.0  (landing page)Stephen Hartley  OK    OK    OK  UNNEEDED, same version exists in internal repository
K
ABCDEFGHIJKLMNOPQRSTUVWXYZ
PackageMaintainerINSTALLBUILDCHECK
195/398KEGGandMetacoreDzPathwaysGEO 1.10.0  (landing page)Gaurav Bhatti  OK    OK    OK  UNNEEDED, same version exists in internal repository
196/398KEGGdzPathwaysGEO 1.28.0  (landing page)Gaurav Bhatti  OK    OK    OK  UNNEEDED, same version exists in internal repository
197/398kidpack 1.32.0  (landing page)Wolfgang Huber  OK    OK    WARNINGS  UNNEEDED, same version exists in internal repository
198/398KOdata 1.16.0  (landing page)Shana White  OK    OK    OK  UNNEEDED, same version exists in internal repository
L
ABCDEFGHIJKLMNOPQRSTUVWXYZ
PackageMaintainerINSTALLBUILDCHECK
199/398leeBamViews 1.26.0  (landing page)VJ Carey  OK    OK    OK  UNNEEDED, same version exists in internal repository
200/398leukemiasEset 1.26.0  (landing page)Sara Aibar  OK    OK    OK  UNNEEDED, same version exists in internal repository
201/398LiebermanAidenHiC2009 0.28.0  (landing page)Felix Klein  OK    OK    WARNINGS  UNNEEDED, same version exists in internal repository
202/398ListerEtAlBSseq 1.22.0  (landing page)Kamal Kishore  OK    OK    WARNINGS  UNNEEDED, same version exists in internal repository
203/398lumiBarnes 1.30.0  (landing page)Pan Du  OK    OK    WARNINGS  UNNEEDED, same version exists in internal repository
204/398LungCancerACvsSCCGEO 1.26.0  (landing page)Adi Laurentiu Tarca  OK    OK    OK  UNNEEDED, same version exists in internal repository
205/398LungCancerLines 0.28.0  (landing page)Cory Barr  OK    OK    OK  UNNEEDED, same version exists in internal repository
206/398lungExpression 0.28.0  (landing page)Robert Scharpf  OK    OK    OK  UNNEEDED, same version exists in internal repository
207/398lydata 1.16.0  (landing page)Alex Pickering  OK    OK    OK  UNNEEDED, same version exists in internal repository
M
ABCDEFGHIJKLMNOPQRSTUVWXYZ
PackageMaintainerINSTALLBUILDCHECK
208/398M3DExampleData 1.16.0  (landing page)Tallulah Andrews  OK    OK    WARNINGS  UNNEEDED, same version exists in internal repository
209/398macrophage 1.6.0  (landing page)Michael Love  OK    OK    OK  UNNEEDED, same version exists in internal repository
210/398mammaPrintData 1.26.0  (landing page)Luigi Marchionni  OK    OK    OK  UNNEEDED, same version exists in internal repository
211/398mAPKLData 1.22.0  (landing page)Argiris Sakellariou  OK    OK    WARNINGS  UNNEEDED, same version exists in internal repository
212/398maqcExpression4plex 1.34.0  (landing page)Benilton Carvalho  OK    OK    OK  UNNEEDED, same version exists in internal repository
213/398MAQCsubset 1.28.0  (landing page)VJ Carey  OK    OK    OK  UNNEEDED, same version exists in internal repository
214/398MAQCsubsetAFX 1.28.0  (landing page)Laurent Gatto  OK    OK    OK  UNNEEDED, same version exists in internal repository
215/398MAQCsubsetILM 1.28.0  (landing page)Laurent Gatto  OK    OK    OK  UNNEEDED, same version exists in internal repository
216/398mCSEAdata 1.10.1  (landing page)Jordi Martorell Marugán  OK    OK    OK  UNNEEDED, same version exists in internal repository
217/398mcsurvdata 1.8.0  (landing page)Adria Caballe Mestres  OK    OK    OK  UNNEEDED, same version exists in internal repository
218/398MEDIPSData 1.26.0  (landing page)Lukas Chavez  OK    OK    WARNINGS  UNNEEDED, same version exists in internal repository
219/398MEEBOdata 1.28.0  (landing page)Agnes Paquet  OK    OK    WARNINGS  UNNEEDED, same version exists in internal repository
220/398MetaGxBreast 1.10.1  (landing page)Benjamin Haibe-Kains  OK    OK    OK  UNNEEDED, same version exists in internal repository
221/398MetaGxOvarian 1.10.0  (landing page)Michael Zon  OK    OK    WARNINGS  UNNEEDED, same version exists in internal repository
222/398MetaGxPancreas 1.10.0  (landing page)Michael Zon  OK    OK    OK  UNNEEDED, same version exists in internal repository
223/398metaMSdata 1.26.0  (landing page)Yann Guitton  OK    OK    OK  UNNEEDED, same version exists in internal repository
224/398MethylAidData 1.22.0  (landing page)M. van Iterson  OK    OK    OK  UNNEEDED, same version exists in internal repository
225/398MethylSeqData 1.0.0  (landing page)Peter Hickey  OK    OK    OK  UNNEEDED, same version exists in internal repository
226/398methyvimData 1.12.0  (landing page)Nima Hejazi  OK    OK    WARNINGS  UNNEEDED, same version exists in internal repository
227/398microRNAome 1.12.0  (landing page)Matthew N. McCall  OK    OK    OK  UNNEEDED, same version exists in internal repository
228/398MIGSAdata 1.14.0  (landing page)Juan C. Rodriguez  OK    OK    OK  UNNEEDED, same version exists in internal repository
229/398minfiData 0.36.0  (landing page)Kasper Daniel Hansen  OK    OK    OK  UNNEEDED, same version exists in internal repository
230/398minfiDataEPIC 1.16.0  (landing page)Kasper Daniel Hansen  OK    OK    OK  UNNEEDED, same version exists in internal repository
231/398minionSummaryData 1.20.0  (landing page)Mike Smith  OK    OK    OK  UNNEEDED, same version exists in internal repository
232/398miRcompData 1.20.0  (landing page)Matthew N. McCall  OK    OK    OK  UNNEEDED, same version exists in internal repository
233/398miRNATarget 1.28.0  (landing page)Y-h. Taguchi  OK    OK    OK  UNNEEDED, same version exists in internal repository
234/398mitoODEdata 1.26.0  (landing page)Gregoire Pau  OK    OK    WARNINGS  UNNEEDED, same version exists in internal repository
235/398MMAPPR2data 1.4.0  (landing page)Jonathon Hill  OK    OK    OK  UNNEEDED, same version exists in internal repository
236/398MMDiffBamSubset 1.26.0  (landing page)Gabriele Schweikert  OK    OK    OK  UNNEEDED, same version exists in internal repository
237/398MOFAdata 1.6.0  (landing page)Britta Velten  OK    OK    OK  UNNEEDED, same version exists in internal repository
238/398mosaicsExample 1.28.0  (landing page)Dongjun Chung  OK    OK    OK  UNNEEDED, same version exists in internal repository
239/398mouse4302barcodevecs 1.28.0  (landing page)Matthew N. McCall  OK    OK    OK  UNNEEDED, same version exists in internal repository
240/398MouseGastrulationData 1.4.0  (landing page)Jonathan Griffiths  OK    OK    OK  UNNEEDED, same version exists in internal repository
241/398msd16s 1.10.0  (landing page)Joseph N. Paulson  OK    OK    OK  UNNEEDED, same version exists in internal repository
242/398msdata 0.30.0  (landing page)Steffen Neumann , Laurent Gatto  OK    OK    OK  UNNEEDED, same version exists in internal repository
243/398MSMB 1.8.0  (landing page)Wolfgang Huber  OK    OK    WARNINGS  UNNEEDED, same version exists in internal repository
244/398msPurityData 1.18.0  (landing page)Thomas N. Lawson  OK    OK    OK  UNNEEDED, same version exists in internal repository
245/398msqc1 1.18.0  (landing page)Christian Panse  OK    OK    OK  UNNEEDED, same version exists in internal repository
246/398MSstatsBioData 1.12.0  (landing page)Meena Choi  OK    OK    WARNINGS  UNNEEDED, same version exists in internal repository
247/398mtbls2 1.20.1  (landing page)Steffen Neumann  OK    OK    OK  UNNEEDED, same version exists in internal repository
248/398MUGAExampleData 1.10.0  (landing page)Daniel Gatti  OK    OK    OK  UNNEEDED, same version exists in internal repository
249/398Mulder2012 0.30.0  (landing page)Xin Wang  ERROR    ERROR  skipped
250/398muscData 1.4.0  (landing page)Helena L. Crowell  OK    OK    WARNINGS  UNNEEDED, same version exists in internal repository
251/398mvoutData 1.26.0  (landing page)VJ Carey  OK    OK    OK  UNNEEDED, same version exists in internal repository
N
ABCDEFGHIJKLMNOPQRSTUVWXYZ
PackageMaintainerINSTALLBUILDCHECK
252/398NanoporeRNASeq 1.0.0  (landing page)Ying Chen Developer  OK    OK    OK  UNNEEDED, same version exists in internal repository
253/398nanotubes 1.6.0  (landing page)Malte Thodberg  OK    OK    OK  UNNEEDED, same version exists in internal repository
254/398NCIgraphData 1.26.0  (landing page)Laurent Jacob  OK    OK    WARNINGS  UNNEEDED, same version exists in internal repository
255/398NestLink 1.6.0  (landing page)Lennart Opitz  OK    OK    OK  UNNEEDED, same version exists in internal repository
256/398Neve2006 0.28.0  (landing page)VJ Carey  OK    OK    OK  UNNEEDED, same version exists in internal repository
257/398NGScopyData 1.10.0  (landing page)Xiaobei Zhao  OK    OK    OK  UNNEEDED, same version exists in internal repository
O
ABCDEFGHIJKLMNOPQRSTUVWXYZ
PackageMaintainerINSTALLBUILDCHECK
258/398oct4 1.6.0  (landing page)Michael Love  OK    OK    OK  UNNEEDED, same version exists in internal repository
259/398OMICsPCAdata 1.8.0  (landing page)Subhadeep Das  OK    OK    OK  UNNEEDED, same version exists in internal repository
260/398OnassisJavaLibs 1.12.0  (landing page)Eugenia Galeota  OK    OK    OK  UNNEEDED, same version exists in internal repository
261/398optimalFlowData 1.2.0  (landing page)Hristo Inouzhe  OK    OK    OK  UNNEEDED, same version exists in internal repository
P
ABCDEFGHIJKLMNOPQRSTUVWXYZ
PackageMaintainerINSTALLBUILDCHECK
262/398parathyroidSE 1.28.0  (landing page)Michael Love  OK    OK    OK  UNNEEDED, same version exists in internal repository
263/398pasilla 1.18.1  (landing page)Alejandro Reyes  OK    OK    WARNINGS  UNNEEDED, same version exists in internal repository
264/398pasillaBamSubset 0.28.0  (landing page)Hervé Pagès  OK    OK    OK  UNNEEDED, same version exists in internal repository
265/398PasillaTranscriptExpr 1.18.0  (landing page)Malgorzata Nowicka  OK    OK    OK  UNNEEDED, same version exists in internal repository
266/398PathNetData 1.26.0  (landing page)Ludwig Geistlinger  OK    OK    OK  UNNEEDED, same version exists in internal repository
267/398pathprintGEOData 1.20.0  (landing page)Sokratis Kariotis  OK    OK    WARNINGS  UNNEEDED, same version exists in internal repository
268/398pcaGoPromoter.Hs.hg19 1.26.0  (landing page)Morten Hansen  OK    OK    WARNINGS  UNNEEDED, same version exists in internal repository
269/398pcaGoPromoter.Mm.mm9 1.26.0  (landing page)Morten Hansen  OK    OK    WARNINGS  UNNEEDED, same version exists in internal repository
270/398pcaGoPromoter.Rn.rn4 1.26.0  (landing page)Morten Hansen,  OK    OK    WARNINGS  UNNEEDED, same version exists in internal repository
271/398PCHiCdata 1.18.0  (landing page)Paula Freire-Pritchett  OK    OK    OK  UNNEEDED, same version exists in internal repository
272/398pcxnData 2.12.0  (landing page)Sokratis Kariotis  OK    OK    WARNINGS  UNNEEDED, same version exists in internal repository
273/398pd.atdschip.tiling 0.28.0  (landing page)Kristof De Beuf  OK    OK    WARNINGS  UNNEEDED, same version exists in internal repository
274/398pepDat 1.10.0  (landing page)Renan Sauteraud  OK    OK    OK  UNNEEDED, same version exists in internal repository
275/398PepsNMRData 1.8.0  (landing page)Manon Martin  OK    OK    OK  UNNEEDED, same version exists in internal repository
276/398PhyloProfileData 1.4.0  (landing page)Vinh Tran  OK    OK    OK  UNNEEDED, same version exists in internal repository
277/398plasFIA 1.18.0  (landing page)Alexis Delabriere  OK    OK    WARNINGS  UNNEEDED, same version exists in internal repository
278/398ppiData 0.28.0  (landing page)Bioconductor Package Maintainer  OK    OK    WARNINGS  UNNEEDED, same version exists in internal repository
279/398prebsdata 1.26.0  (landing page)Karolis Uziela  OK    OK    OK  UNNEEDED, same version exists in internal repository
280/398PREDAsampledata 0.30.0  (landing page)Francesco Ferrari  OK    OK    OK  UNNEEDED, same version exists in internal repository
281/398ProData 1.28.0  (landing page)Xiaochun Li  OK    OK    OK  UNNEEDED, same version exists in internal repository
282/398pRolocdata 1.28.0  (landing page)Laurent Gatto  OK    OK    OK  UNNEEDED, same version exists in internal repository
283/398prostateCancerCamcap 1.18.0  (landing page)Mark Dunning  OK    OK    OK  UNNEEDED, same version exists in internal repository
284/398prostateCancerGrasso 1.18.0  (landing page)Mark Dunning  OK    OK    OK  UNNEEDED, same version exists in internal repository
285/398prostateCancerStockholm 1.18.0  (landing page)Mark Dunning  OK    OK    OK  UNNEEDED, same version exists in internal repository
286/398prostateCancerTaylor 1.18.0  (landing page)Mark Dunning  OK    OK    OK  UNNEEDED, same version exists in internal repository
287/398prostateCancerVarambally 1.18.0  (landing page)Mark Dunning  OK    OK    OK  UNNEEDED, same version exists in internal repository
288/398PtH2O2lipids 1.16.0  (landing page)James Collins  OK    OK    WARNINGS  UNNEEDED, same version exists in internal repository
289/398pumadata 2.26.0  (landing page)Xuejun liu  OK    OK    OK  UNNEEDED, same version exists in internal repository
290/398PWMEnrich.Dmelanogaster.background 4.24.0  (landing page)Diego Diez  OK    OK    WARNINGS  UNNEEDED, same version exists in internal repository
291/398PWMEnrich.Hsapiens.background 4.24.0  (landing page)Diego Diez  OK    OK    WARNINGS  UNNEEDED, same version exists in internal repository
292/398PWMEnrich.Mmusculus.background 4.24.0  (landing page)Diego Diez  OK    OK    OK  UNNEEDED, same version exists in internal repository
293/398pwrEWAS.data 1.4.0  (landing page)Stefan Graw  OK    OK    OK  UNNEEDED, same version exists in internal repository
Q
ABCDEFGHIJKLMNOPQRSTUVWXYZ
PackageMaintainerINSTALLBUILDCHECK
294/398QDNAseq.hg19 1.20.0  (landing page)Daoud Sie  OK    OK    OK  UNNEEDED, same version exists in internal repository
295/398QDNAseq.mm10 1.20.0  (landing page)Daoud Sie  OK    OK    OK  UNNEEDED, same version exists in internal repository
296/398qPLEXdata 1.8.0  (landing page)Kamal Kishore Developer  OK    OK    WARNINGS  UNNEEDED, same version exists in internal repository
297/398QUBICdata 1.18.0  (landing page)Yu Zhang  OK    OK    OK  UNNEEDED, same version exists in internal repository
R
ABCDEFGHIJKLMNOPQRSTUVWXYZ
PackageMaintainerINSTALLBUILDCHECK
298/398rcellminerData 2.12.0  (landing page)Augustin Luna , Vinodh Rajapakse  OK    OK    WARNINGS  UNNEEDED, same version exists in internal repository
299/398RcisTarget.hg19.motifDBs.cisbpOnly.500bp 1.10.0  (landing page)Sara Aibar  OK    OK    OK  UNNEEDED, same version exists in internal repository
300/398ReactomeGSA.data 1.4.0  (landing page)Johannes Griss  OK    OK    OK  UNNEEDED, same version exists in internal repository
301/398RegParallel 1.8.0  (landing page)Kevin Blighe  OK    OK    OK  UNNEEDED, same version exists in internal repository
302/398restfulSEData 1.12.0  (landing page)Bioconductor Package Maintainer  OK    OK    OK  UNNEEDED, same version exists in internal repository
303/398RforProteomics 1.28.1  (landing page)Laurent Gatto  OK    ERROR  skipped
304/398RGMQLlib 1.10.0  (landing page)Simone Pallotta  OK    OK    OK  UNNEEDED, same version exists in internal repository
305/398rheumaticConditionWOLLBOLD 1.28.0  (landing page)Alejandro Quiroz-Zarate  OK    OK    OK  UNNEEDED, same version exists in internal repository
306/398RITANdata 1.14.0  (landing page)Michael Zimmermann  OK    OK    OK  UNNEEDED, same version exists in internal repository
307/398RMassBankData 1.28.0  (landing page)Michael Stravs, Emma Schymanski  OK    OK    OK  UNNEEDED, same version exists in internal repository
308/398RNAinteractMAPK 1.28.2  (landing page)Mike Smith  OK    OK    OK  UNNEEDED, same version exists in internal repository
309/398RNAmodR.Data 1.4.0  (landing page)Felix G.M. Ernst  OK    OK    OK  UNNEEDED, same version exists in internal repository
310/398RNAseqData.HNRNPC.bam.chr14 0.28.0  (landing page)Hervé Pagès  OK    OK    OK  UNNEEDED, same version exists in internal repository
311/398RNASeqRData 1.8.0  (landing page)Kuan-Hao Chao  OK    OK    OK  UNNEEDED, same version exists in internal repository
312/398RnaSeqSampleSizeData 1.22.0  (landing page)Shilin Zhao  OK    OK    OK  UNNEEDED, same version exists in internal repository
313/398RnBeads.hg19 1.22.0  (landing page)RnBeadsAnnotationCreator  OK    OK    WARNINGS  UNNEEDED, same version exists in internal repository
314/398RnBeads.hg38 1.22.0  (landing page)RnBeadsAnnotationCreator  OK    OK    OK  UNNEEDED, same version exists in internal repository
315/398RnBeads.mm10 1.22.0  (landing page)RnBeadsAnnotationCreator  OK    OK    OK  UNNEEDED, same version exists in internal repository
316/398RnBeads.mm9 1.22.0  (landing page)RnBeadsAnnotationCreator  OK    OK    WARNINGS  UNNEEDED, same version exists in internal repository
317/398RnBeads.rn5 1.22.0  (landing page)RnBeadsAnnotationCreator  OK    OK    OK  UNNEEDED, same version exists in internal repository
318/398RRBSdata 1.10.0  (landing page)Katja Hebestreit  OK    OK    OK  UNNEEDED, same version exists in internal repository
319/398rRDPData 1.10.0  (landing page)Michael Hahsler  OK    OK    OK  UNNEEDED, same version exists in internal repository
320/398RTCGA.clinical 20151101.20.0  (landing page)Marcin Kosinski  OK    OK    OK  UNNEEDED, same version exists in internal repository
321/398RTCGA.CNV 1.18.0  (landing page)Marcin Kosinski  OK    OK    OK  UNNEEDED, same version exists in internal repository
322/398RTCGA.methylation 1.18.0  (landing page)Marcin Kosinski  OK    OK    OK  UNNEEDED, same version exists in internal repository
323/398RTCGA.miRNASeq 1.18.0  (landing page)Marcin Kosinski  OK    OK    OK  UNNEEDED, same version exists in internal repository
324/398RTCGA.mRNA 1.18.0  (landing page)Marcin Kosinski  OK    OK    OK  UNNEEDED, same version exists in internal repository
325/398RTCGA.mutations 20151101.20.0  (landing page)Marcin Kosinski  OK    OK    OK  UNNEEDED, same version exists in internal repository
326/398RTCGA.PANCAN12 1.18.0  (landing page)Marcin Kosinski  OK    OK    OK  UNNEEDED, same version exists in internal repository
327/398RTCGA.rnaseq 20151101.20.0  (landing page)Marcin Kosinski  OK    OK    OK  UNNEEDED, same version exists in internal repository
328/398RTCGA.RPPA 1.18.0  (landing page)Marcin Kosinski  OK    OK    OK  UNNEEDED, same version exists in internal repository
329/398RUVnormalizeData 1.10.0  (landing page)Laurent Jacob  OK    OK    OK  UNNEEDED, same version exists in internal repository
S
ABCDEFGHIJKLMNOPQRSTUVWXYZ
PackageMaintainerINSTALLBUILDCHECK
330/398sampleClassifierData 1.14.1  (landing page)Khadija El Amrani  OK    OK    OK  UNNEEDED, same version exists in internal repository
331/398SBGNview.data 1.4.1  (landing page)Weijun Luo  OK    OK    OK  UNNEEDED, same version exists in internal repository
332/398SCATEData 1.0.0  (landing page)Wenpin Hou  OK    OK    OK  UNNEEDED, same version exists in internal repository
333/398SCLCBam 1.22.0  (landing page)Oscar Krijgsman  OK    OK    OK  UNNEEDED, same version exists in internal repository
334/398scRNAseq 2.4.0  (landing page)Aaron Lun  OK    OK    OK  UNNEEDED, same version exists in internal repository
335/398scTHI.data 1.2.0  (landing page)Michele Ceccarelli  OK    OK    OK  UNNEEDED, same version exists in internal repository
336/398seq2pathway.data 1.22.0  (landing page)Xinan Holly Yang  OK    OK    WARNINGS  UNNEEDED, same version exists in internal repository
337/398seqc 1.24.0  (landing page)Yang Liao and Wei Shi  OK    OK    OK  UNNEEDED, same version exists in internal repository
338/398seqCNA.annot 1.26.0  (landing page)David Mosen-Ansorena  OK    OK    OK  UNNEEDED, same version exists in internal repository
339/398serumStimulation 1.26.0  (landing page)Morten Hansen,  OK    OK    OK  UNNEEDED, same version exists in internal repository
340/398sesameData 1.8.10  (landing page)Wanding Zhou  OK    OK    OK  UNNEEDED, same version exists in internal repository
341/398seventyGeneData 1.26.0  (landing page)Luigi Marchionni  OK    OK    OK  UNNEEDED, same version exists in internal repository
342/398shinyMethylData 1.10.0  (landing page)Jean-Philippe Fortin  OK    OK    OK  UNNEEDED, same version exists in internal repository
343/398signatureSearchData 1.4.0  (landing page)Yuzhu Duan  OK    OK    OK  UNNEEDED, same version exists in internal repository
344/398simpIntLists 1.26.0  (landing page)Kircicegi Korkmaz  OK    OK    WARNINGS  UNNEEDED, same version exists in internal repository
345/398Single.mTEC.Transcriptomes 1.18.0  (landing page)Alejandro Reyes  OK    OK    OK  UNNEEDED, same version exists in internal repository
346/398SingleCellMultiModal 1.2.4  (landing page)Marcel Ramos  OK    OK    OK  UNNEEDED, same version exists in internal repository
347/398SNAData 1.36.0  (landing page)Denise Scholtens  OK    OK    OK  UNNEEDED, same version exists in internal repository
348/398SNAGEEdata 1.26.0  (landing page)David Venet  OK    OK    OK  UNNEEDED, same version exists in internal repository
349/398SNPhoodData 1.20.0  (landing page)Christian Arnold  OK    OK    OK  UNNEEDED, same version exists in internal repository
350/398SomatiCAData 1.28.0  (landing page)Mengjie Chen  OK    OK    WARNINGS  UNNEEDED, same version exists in internal repository
351/398SomaticCancerAlterations 1.26.0  (landing page)Julian Gehring  OK    OK    WARNINGS  UNNEEDED, same version exists in internal repository
352/398spatialLIBD 1.2.1  (landing page)Leonardo Collado-Torres  OK    OK    OK  UNNEEDED, same version exists in internal repository
353/398SpikeIn 1.32.0  (landing page)Rafael A. Irizarry  OK    OK    WARNINGS  UNNEEDED, same version exists in internal repository
354/398SpikeInSubset 1.30.0  (landing page)Rafael A. Irizarry  OK    OK    WARNINGS  UNNEEDED, same version exists in internal repository
355/398spqnData 1.2.0  (landing page)Yi Wang  OK    OK    OK  UNNEEDED, same version exists in internal repository
356/398stemHypoxia 1.26.0  (landing page)Cristobal Fresno  OK    OK    OK  UNNEEDED, same version exists in internal repository
357/398stjudem 1.30.0  (landing page)Joern Toedling  OK    OK    OK  UNNEEDED, same version exists in internal repository
358/398SVM2CRMdata 1.22.0  (landing page)Guidantonio Malagoli Tagliazucchi  OK    OK    WARNINGS  UNNEEDED, same version exists in internal repository
359/398synapterdata 1.28.0  (landing page)Laurent Gatto  OK    OK    OK  UNNEEDED, same version exists in internal repository
360/398systemPipeRdata 1.18.2  (landing page)Thomas Girke  OK    OK    OK  UNNEEDED, same version exists in internal repository
T
ABCDEFGHIJKLMNOPQRSTUVWXYZ
PackageMaintainerINSTALLBUILDCHECK
361/398TabulaMurisData 1.8.0  (landing page)Charlotte Soneson  OK    OK    OK  UNNEEDED, same version exists in internal repository
362/398TargetScoreData 1.26.0  (landing page)Yue Li  OK    OK    OK  UNNEEDED, same version exists in internal repository
363/398TargetSearchData 1.28.0  (landing page)Alvaro Cuadros-Inostroza  OK    OK    OK  UNNEEDED, same version exists in internal repository
364/398tartare 1.4.0  (landing page)Christian Panse  OK    OK    OK  UNNEEDED, same version exists in internal repository
365/398TBX20BamSubset 1.26.0  (landing page)D. Bindreither  OK    OK    OK  UNNEEDED, same version exists in internal repository
366/398TCGAbiolinksGUI.data 1.10.0  (landing page)Tiago Chedraoui Silva  OK    OK    OK  UNNEEDED, same version exists in internal repository
367/398TCGAcrcmiRNA 1.10.0  (landing page)Claudio Isella  OK    OK    OK  UNNEEDED, same version exists in internal repository
368/398TCGAcrcmRNA 1.10.0  (landing page)Claudio Isella  OK    OK    OK  UNNEEDED, same version exists in internal repository
369/398TCGAMethylation450k 1.26.0  (landing page)Sean Davis  OK    OK    OK  UNNEEDED, same version exists in internal repository
370/398tcgaWGBSData.hg19 1.8.0  (landing page)Divy Kangeyan  OK    OK    OK  UNNEEDED, same version exists in internal repository
371/398TCGAWorkflowData 1.14.0  (landing page)Tiago Chedraoui Silva  OK    OK    WARNINGS  UNNEEDED, same version exists in internal repository
372/398TENxBrainData 1.10.0  (landing page)Bioconductor Package Maintainer  OK    OK    OK  UNNEEDED, same version exists in internal repository
373/398TENxBUSData 1.4.0  (landing page)Lambda Moses  OK    OK    OK  UNNEEDED, same version exists in internal repository
374/398TENxPBMCData 1.8.0  (landing page)Stephanie Hicks  OK    OK    OK  UNNEEDED, same version exists in internal repository
375/398timecoursedata 1.0.0  (landing page)Nelle Varoquaux  OK    OK    OK  UNNEEDED, same version exists in internal repository
376/398TimerQuant 1.20.0  (landing page)Joseph Barry  OK    OK    OK  UNNEEDED, same version exists in internal repository
377/398tinesath1cdf 1.28.0  (landing page)Tine Casneuf  OK    OK    WARNINGS  UNNEEDED, same version exists in internal repository
378/398tinesath1probe 1.28.0  (landing page)Tine Casneuf  OK    OK    WARNINGS  UNNEEDED, same version exists in internal repository
379/398tissueTreg 1.10.0  (landing page)Charles Imbusch  OK    OK    OK  UNNEEDED, same version exists in internal repository
380/398TMExplorer 1.0.1  (landing page)Erik Christensen  OK    OK    OK  UNNEEDED, same version exists in internal repository
381/398tofsimsData 1.18.0  (landing page)Lorenz Gerber  OK    OK    OK  UNNEEDED, same version exists in internal repository
382/398topdownrdata 1.12.0  (landing page)Sebastian Gibb  OK    OK    OK  UNNEEDED, same version exists in internal repository
383/398tweeDEseqCountData 1.28.0  (landing page)Juan R Gonzalez  OK    OK    OK  UNNEEDED, same version exists in internal repository
384/398tximportData 1.18.0  (landing page)Michael Love  OK    OK    OK  UNNEEDED, same version exists in internal repository
V
ABCDEFGHIJKLMNOPQRSTUVWXYZ
PackageMaintainerINSTALLBUILDCHECK
385/398VariantToolsData 1.14.0  (landing page)Michael Lawrence  OK    OK    WARNINGS  UNNEEDED, same version exists in internal repository
386/398vulcandata 1.12.0  (landing page)Federico M. Giorgi  OK    OK    OK  UNNEEDED, same version exists in internal repository
W
ABCDEFGHIJKLMNOPQRSTUVWXYZ
PackageMaintainerINSTALLBUILDCHECK
387/398waveTilingData 1.26.0  (landing page)Kristof De Beuf  OK    OK    WARNINGS  UNNEEDED, same version exists in internal repository
388/398WES.1KG.WUGSC 1.22.0  (landing page)Yuchao Jiang  OK    OK    OK  UNNEEDED, same version exists in internal repository
389/398WGSmapp 1.2.0  (landing page)Rujin Wang  OK    OK    OK  UNNEEDED, same version exists in internal repository
X
ABCDEFGHIJKLMNOPQRSTUVWXYZ
PackageMaintainerINSTALLBUILDCHECK
390/398XhybCasneuf 1.28.0  (landing page)Tineke Casneuf  OK    OK    WARNINGS  UNNEEDED, same version exists in internal repository
Y
ABCDEFGHIJKLMNOPQRSTUVWXYZ
PackageMaintainerINSTALLBUILDCHECK
391/398yeastCC 1.30.0  (landing page)Sandrine Dudoit  OK    OK    WARNINGS  UNNEEDED, same version exists in internal repository
392/398yeastExpData 0.36.0  (landing page)R. Gentleman  OK    OK    WARNINGS  UNNEEDED, same version exists in internal repository
393/398yeastGSData 0.28.0  (landing page)R. Gentleman  OK    OK    WARNINGS  UNNEEDED, same version exists in internal repository
394/398yeastNagalakshmi 1.26.0  (landing page)Bioconductor Package Maintainer  OK    OK    OK  UNNEEDED, same version exists in internal repository
395/398yeastRNASeq 0.28.0  (landing page)J. Bullard  OK    OK    WARNINGS  UNNEEDED, same version exists in internal repository
396/398yri1kgv 0.32.0  (landing page)VJ Carey  OK    OK    WARNINGS  UNNEEDED, same version exists in internal repository
397/398yriMulti 0.20.0  (landing page)VJ Carey  ERROR    ERROR  skipped
Z
ABCDEFGHIJKLMNOPQRSTUVWXYZ
PackageMaintainerINSTALLBUILDCHECK
398/398zebrafishRNASeq 1.10.0  (landing page)Davide Risso  OK    OK    OK  UNNEEDED, same version exists in internal repository