Back to Multiple platform build/check report for BioC 3.12
ABCDEFGHIJKLMNOPQRS[T]UVWXYZ

INSTALL report for topGO on merida1

This page was generated on 2021-05-05 12:15:38 -0400 (Wed, 05 May 2021).

To the developers/maintainers of the topGO package:
Please make sure to use the following settings in order to reproduce any error or warning you see on this page.
Package 1879/1974HostnameOS / ArchINSTALLBUILDCHECKBUILD BIN
topGO 2.42.0  (landing page)
Adrian Alexa
Snapshot Date: 2021-05-04 14:50:13 -0400 (Tue, 04 May 2021)
URL: https://git.bioconductor.org/packages/topGO
Branch: RELEASE_3_12
Last Commit: 3a33cf5
Last Changed Date: 2020-10-27 10:30:33 -0400 (Tue, 27 Oct 2020)
malbec1Linux (Ubuntu 18.04.5 LTS) / x86_64  OK    OK    OK  UNNEEDED, same version exists in internal repository
tokay1Windows Server 2012 R2 Standard / x64  OK    OK    OK    OK  UNNEEDED, same version exists in internal repository
merida1macOS 10.14.6 Mojave / x86_64  OK    OK    OK    OK  UNNEEDED, same version exists in internal repository

Summary

Package: topGO
Version: 2.42.0
Command: /Library/Frameworks/R.framework/Versions/Current/Resources/bin/R CMD INSTALL topGO
StartedAt: 2021-05-04 16:36:59 -0400 (Tue, 04 May 2021)
EndedAt: 2021-05-04 16:37:50 -0400 (Tue, 04 May 2021)
EllapsedTime: 50.7 seconds
RetCode: 0
Status:   OK  

Command output

##############################################################################
##############################################################################
###
### Running command:
###
###   /Library/Frameworks/R.framework/Versions/Current/Resources/bin/R CMD INSTALL topGO
###
##############################################################################
##############################################################################


* installing to library ‘/Library/Frameworks/R.framework/Versions/4.0/Resources/library’
* installing *source* package ‘topGO’ ...
** using staged installation
** R
** data
** inst
** byte-compile and prepare package for lazy loading
** help
*** installing help indices
** building package indices
** installing vignettes
** testing if installed package can be loaded from temporary location

groupGOTerms: 	GOBPTerm, GOMFTerm, GOCCTerm environments built.
** testing if installed package can be loaded from final location

groupGOTerms: 	GOBPTerm, GOMFTerm, GOCCTerm environments built.
** testing if installed package keeps a record of temporary installation path
* DONE (topGO)