Back to Multiple platform build/check report for BioC 3.12
ABCDEFGHIJKLMNOPQRS[T]UVWXYZ

INSTALL report for tigre on tokay1

This page was generated on 2021-05-05 12:13:30 -0400 (Wed, 05 May 2021).

To the developers/maintainers of the tigre package:
Please make sure to use the following settings in order to reproduce any error or warning you see on this page.
Package 1858/1974HostnameOS / ArchINSTALLBUILDCHECKBUILD BIN
tigre 1.44.0  (landing page)
Antti Honkela
Snapshot Date: 2021-05-04 14:50:13 -0400 (Tue, 04 May 2021)
URL: https://git.bioconductor.org/packages/tigre
Branch: RELEASE_3_12
Last Commit: 42bffa6
Last Changed Date: 2020-10-27 10:37:57 -0400 (Tue, 27 Oct 2020)
malbec1Linux (Ubuntu 18.04.5 LTS) / x86_64  OK    OK    OK  UNNEEDED, same version exists in internal repository
tokay1Windows Server 2012 R2 Standard / x64  OK    OK    OK    OK  UNNEEDED, same version exists in internal repository
merida1macOS 10.14.6 Mojave / x86_64  OK    OK    OK    OK  UNNEEDED, same version exists in internal repository

Summary

Package: tigre
Version: 1.44.0
Command: C:\cygwin\bin\curl.exe -O http://172.29.0.3/BBS/3.12/bioc/src/contrib/tigre_1.44.0.tar.gz && rm -rf tigre.buildbin-libdir && mkdir tigre.buildbin-libdir && C:\Users\biocbuild\bbs-3.12-bioc\R\bin\R.exe CMD INSTALL --merge-multiarch --build --library=tigre.buildbin-libdir tigre_1.44.0.tar.gz && C:\Users\biocbuild\bbs-3.12-bioc\R\bin\R.exe CMD INSTALL tigre_1.44.0.zip && rm tigre_1.44.0.tar.gz tigre_1.44.0.zip
StartedAt: 2021-05-04 18:05:38 -0400 (Tue, 04 May 2021)
EndedAt: 2021-05-04 18:06:20 -0400 (Tue, 04 May 2021)
EllapsedTime: 42.1 seconds
RetCode: 0
Status:   OK   

Command output

##############################################################################
##############################################################################
###
### Running command:
###
###   C:\cygwin\bin\curl.exe -O http://172.29.0.3/BBS/3.12/bioc/src/contrib/tigre_1.44.0.tar.gz && rm -rf tigre.buildbin-libdir && mkdir tigre.buildbin-libdir && C:\Users\biocbuild\bbs-3.12-bioc\R\bin\R.exe CMD INSTALL --merge-multiarch --build --library=tigre.buildbin-libdir tigre_1.44.0.tar.gz && C:\Users\biocbuild\bbs-3.12-bioc\R\bin\R.exe CMD INSTALL tigre_1.44.0.zip && rm tigre_1.44.0.tar.gz tigre_1.44.0.zip
###
##############################################################################
##############################################################################


  % Total    % Received % Xferd  Average Speed   Time    Time     Time  Current
                                 Dload  Upload   Total   Spent    Left  Speed

  0     0    0     0    0     0      0      0 --:--:-- --:--:-- --:--:--     0
100 87826  100 87826    0     0   673k      0 --:--:-- --:--:-- --:--:--  680k

install for i386

* installing *source* package 'tigre' ...
** using staged installation
** libs
"C:/rtools40/mingw32/bin/"gcc  -I"C:/Users/BIOCBU~1/BBS-3~1.12-/R/include" -DNDEBUG     -I"C:/extsoft/include"     -O2 -Wall  -std=gnu99 -mfpmath=sse -msse2 -mstackrealign -c miscCFunctions.c -o miscCFunctions.o
C:/rtools40/mingw32/bin/gcc -shared -s -static-libgcc -o tigre.dll tmp.def miscCFunctions.o -LC:/extsoft/lib/i386 -LC:/extsoft/lib -LC:/Users/BIOCBU~1/BBS-3~1.12-/R/bin/i386 -lR
installing to C:/Users/biocbuild/bbs-3.12-bioc/meat/tigre.buildbin-libdir/00LOCK-tigre/00new/tigre/libs/i386
** R
** data
** inst
** byte-compile and prepare package for lazy loading
** help
*** installing help indices
  converting help for package 'tigre'
    finding HTML links ... done
    ExpressionTimeSeries-class              html  
    finding level-2 HTML links ... done

    GPLearn                                 html  
    GPModel-class                           html  
    GPPlot                                  html  
    GPRankTargets                           html  
    SCGoptim                                html  
    drosophila_gpsim_fragment               html  
    drosophila_mmgmos_fragment              html  
    expTransform                            html  
    export                                  html  
    generateModels                          html  
    gpsimCreate                             html  
    kernCompute                             html  
    kernCreate                              html  
    kernDiagGradX                           html  
    kernGradient                            html  
    lnDiffErfs                              html  
    modelDisplay                            html  
    modelExpandParam                        html  
    modelExtractParam                       html  
    modelGradient                           html  
    modelTieParam                           html  
    optimiDefaultConstraint                 html  
    plotTimeseries                          html  
    processData                             html  
    scoreList-class                         html  
    tigre-package                           html  
** building package indices
** installing vignettes
** testing if installed package can be loaded from temporary location
** testing if installed package can be loaded from final location
** testing if installed package keeps a record of temporary installation path

install for x64

* installing *source* package 'tigre' ...
** libs
"C:/rtools40/mingw64/bin/"gcc  -I"C:/Users/BIOCBU~1/BBS-3~1.12-/R/include" -DNDEBUG     -I"C:/extsoft/include"     -O2 -Wall  -std=gnu99 -mfpmath=sse -msse2 -mstackrealign -c miscCFunctions.c -o miscCFunctions.o
C:/rtools40/mingw64/bin/gcc -shared -s -static-libgcc -o tigre.dll tmp.def miscCFunctions.o -LC:/extsoft/lib/x64 -LC:/extsoft/lib -LC:/Users/BIOCBU~1/BBS-3~1.12-/R/bin/x64 -lR
installing to C:/Users/biocbuild/bbs-3.12-bioc/meat/tigre.buildbin-libdir/tigre/libs/x64
** testing if installed package can be loaded
* MD5 sums
packaged installation of 'tigre' as tigre_1.44.0.zip
* DONE (tigre)
* installing to library 'C:/Users/biocbuild/bbs-3.12-bioc/R/library'
package 'tigre' successfully unpacked and MD5 sums checked