Back to Multiple platform build/check report for BioC 3.12
ABCDEFGHIJKLMNOPQR[S]TUVWXYZ

BUILD BIN report for scPipe on tokay1

This page was generated on 2021-05-05 12:13:15 -0400 (Wed, 05 May 2021).

To the developers/maintainers of the scPipe package:
Please make sure to use the following settings in order to reproduce any error or warning you see on this page.
Package 1656/1974HostnameOS / ArchINSTALLBUILDCHECKBUILD BIN
scPipe 1.12.0  (landing page)
Luyi Tian
Snapshot Date: 2021-05-04 14:50:13 -0400 (Tue, 04 May 2021)
URL: https://git.bioconductor.org/packages/scPipe
Branch: RELEASE_3_12
Last Commit: 8acde69
Last Changed Date: 2020-10-27 11:28:50 -0400 (Tue, 27 Oct 2020)
malbec1Linux (Ubuntu 18.04.5 LTS) / x86_64  OK    OK    OK  UNNEEDED, same version exists in internal repository
tokay1Windows Server 2012 R2 Standard / x64  OK    OK    OK    OK  UNNEEDED, same version exists in internal repository
merida1macOS 10.14.6 Mojave / x86_64  OK    OK    OK    OK  UNNEEDED, same version exists in internal repository

Summary

Package: scPipe
Version: 1.12.0
Command: rm -rf scPipe.buildbin-libdir && mkdir scPipe.buildbin-libdir && C:\Users\biocbuild\bbs-3.12-bioc\R\bin\R.exe CMD INSTALL --merge-multiarch --build --library=scPipe.buildbin-libdir scPipe_1.12.0.tar.gz
StartedAt: 2021-05-05 10:07:47 -0400 (Wed, 05 May 2021)
EndedAt: 2021-05-05 10:11:23 -0400 (Wed, 05 May 2021)
EllapsedTime: 216.7 seconds
RetCode: 0
Status:   OK   
PackageFile: scPipe_1.12.0.zip
PackageFileSize: 4.606 MiB

Command output

##############################################################################
##############################################################################
###
### Running command:
###
###   rm -rf scPipe.buildbin-libdir && mkdir scPipe.buildbin-libdir && C:\Users\biocbuild\bbs-3.12-bioc\R\bin\R.exe CMD INSTALL --merge-multiarch --build --library=scPipe.buildbin-libdir scPipe_1.12.0.tar.gz
###
##############################################################################
##############################################################################



install for i386

* installing *source* package 'scPipe' ...
** using staged installation
** libs
"C:/rtools40/mingw32/bin/"g++  -std=gnu++11 -I"C:/Users/biocbuild/bbs-3.12-bioc/R/library/zlibbioc/include" -I"C:/Users/BIOCBU~1/BBS-3~1.12-/R/include" -DNDEBUG -D_FILE_OFFSET_BITS=64 -I'C:/Users/biocbuild/bbs-3.12-bioc/R/library/Rcpp/include' -I'C:/Users/biocbuild/bbs-3.12-bioc/R/library/Rhtslib/include' -I'C:/Users/biocbuild/bbs-3.12-bioc/R/library/zlibbioc/include' -I'C:/Users/biocbuild/bbs-3.12-bioc/R/library/testthat/include'   -I"C:/extsoft/include"     -O2 -Wall  -mfpmath=sse -msse2 -mstackrealign -c Gene.cpp -o Gene.o
Gene.cpp: In member function 'void Gene::flatten_exon()':
Gene.cpp:105:24: warning: comparison of integer expressions of different signedness: 'int' and 'std::vector<Interval>::size_type' {aka 'unsigned int'} [-Wsign-compare]
     for (auto i = 1; i < exon_vec.size(); i++)
                      ~~^~~~~~~~~~~~~~~~~
Gene.cpp: In function 'std::ostream& operator<<(std::ostream&, const Gene&)':
Gene.cpp:130:23: warning: comparison of integer expressions of different signedness: 'int' and 'std::vector<Interval>::size_type' {aka 'unsigned int'} [-Wsign-compare]
     for (int i = 0; i < obj.exon_vec.size(); ++i)
                     ~~^~~~~~~~~~~~~~~~~~~~~
"C:/rtools40/mingw32/bin/"g++  -std=gnu++11 -I"C:/Users/biocbuild/bbs-3.12-bioc/R/library/zlibbioc/include" -I"C:/Users/BIOCBU~1/BBS-3~1.12-/R/include" -DNDEBUG -D_FILE_OFFSET_BITS=64 -I'C:/Users/biocbuild/bbs-3.12-bioc/R/library/Rcpp/include' -I'C:/Users/biocbuild/bbs-3.12-bioc/R/library/Rhtslib/include' -I'C:/Users/biocbuild/bbs-3.12-bioc/R/library/zlibbioc/include' -I'C:/Users/biocbuild/bbs-3.12-bioc/R/library/testthat/include'   -I"C:/extsoft/include"     -O2 -Wall  -mfpmath=sse -msse2 -mstackrealign -c Interval.cpp -o Interval.o
"C:/rtools40/mingw32/bin/"g++  -std=gnu++11 -I"C:/Users/biocbuild/bbs-3.12-bioc/R/library/zlibbioc/include" -I"C:/Users/BIOCBU~1/BBS-3~1.12-/R/include" -DNDEBUG -D_FILE_OFFSET_BITS=64 -I'C:/Users/biocbuild/bbs-3.12-bioc/R/library/Rcpp/include' -I'C:/Users/biocbuild/bbs-3.12-bioc/R/library/Rhtslib/include' -I'C:/Users/biocbuild/bbs-3.12-bioc/R/library/zlibbioc/include' -I'C:/Users/biocbuild/bbs-3.12-bioc/R/library/testthat/include'   -I"C:/extsoft/include"     -O2 -Wall  -mfpmath=sse -msse2 -mstackrealign -c RcppExports.cpp -o RcppExports.o
"C:/rtools40/mingw32/bin/"g++  -std=gnu++11 -I"C:/Users/biocbuild/bbs-3.12-bioc/R/library/zlibbioc/include" -I"C:/Users/BIOCBU~1/BBS-3~1.12-/R/include" -DNDEBUG -D_FILE_OFFSET_BITS=64 -I'C:/Users/biocbuild/bbs-3.12-bioc/R/library/Rcpp/include' -I'C:/Users/biocbuild/bbs-3.12-bioc/R/library/Rhtslib/include' -I'C:/Users/biocbuild/bbs-3.12-bioc/R/library/zlibbioc/include' -I'C:/Users/biocbuild/bbs-3.12-bioc/R/library/testthat/include'   -I"C:/extsoft/include"     -O2 -Wall  -mfpmath=sse -msse2 -mstackrealign -c cellbarcode.cpp -o cellbarcode.o
cellbarcode.cpp: In member function 'std::__cxx11::string Barcode::get_closest_match(const string&, int)':
cellbarcode.cpp:77:23: warning: comparison of integer expressions of different signedness: 'int' and 'std::vector<std::__cxx11::basic_string<char> >::size_type' {aka 'unsigned int'} [-Wsign-compare]
     for (int i = 0; i < barcode_list.size(); i++)
                     ~~^~~~~~~~~~~~~~~~~~~~~
cellbarcode.cpp:82:23: warning: comparison of integer expressions of different signedness: 'int' and 'std::vector<int>::size_type' {aka 'unsigned int'} [-Wsign-compare]
     for (int i = 0; i < hamming_dists.size(); i++)
                     ~~^~~~~~~~~~~~~~~~~~~~~~
"C:/rtools40/mingw32/bin/"g++  -std=gnu++11 -I"C:/Users/biocbuild/bbs-3.12-bioc/R/library/zlibbioc/include" -I"C:/Users/BIOCBU~1/BBS-3~1.12-/R/include" -DNDEBUG -D_FILE_OFFSET_BITS=64 -I'C:/Users/biocbuild/bbs-3.12-bioc/R/library/Rcpp/include' -I'C:/Users/biocbuild/bbs-3.12-bioc/R/library/Rhtslib/include' -I'C:/Users/biocbuild/bbs-3.12-bioc/R/library/zlibbioc/include' -I'C:/Users/biocbuild/bbs-3.12-bioc/R/library/testthat/include'   -I"C:/extsoft/include"     -O2 -Wall  -mfpmath=sse -msse2 -mstackrealign -c detect_barcode.cpp -o detect_barcode.o
"C:/rtools40/mingw32/bin/"g++  -std=gnu++11 -I"C:/Users/biocbuild/bbs-3.12-bioc/R/library/zlibbioc/include" -I"C:/Users/BIOCBU~1/BBS-3~1.12-/R/include" -DNDEBUG -D_FILE_OFFSET_BITS=64 -I'C:/Users/biocbuild/bbs-3.12-bioc/R/library/Rcpp/include' -I'C:/Users/biocbuild/bbs-3.12-bioc/R/library/Rhtslib/include' -I'C:/Users/biocbuild/bbs-3.12-bioc/R/library/zlibbioc/include' -I'C:/Users/biocbuild/bbs-3.12-bioc/R/library/testthat/include'   -I"C:/extsoft/include"     -O2 -Wall  -mfpmath=sse -msse2 -mstackrealign -c parsebam.cpp -o parsebam.o
parsebam.cpp: In member function 'int Bamdemultiplex::clean_bam_barcode(std::__cxx11::string, std::__cxx11::string, int, int)':
parsebam.cpp:78:9: warning: variable 'hts_retcode' set but not used [-Wunused-but-set-variable]
     int hts_retcode;
         ^~~~~~~~~~~
parsebam.cpp:116:9: warning: unused variable 'map_status' [-Wunused-variable]
     int map_status;
         ^~~~~~~~~~
"C:/rtools40/mingw32/bin/"g++  -std=gnu++11 -I"C:/Users/biocbuild/bbs-3.12-bioc/R/library/zlibbioc/include" -I"C:/Users/BIOCBU~1/BBS-3~1.12-/R/include" -DNDEBUG -D_FILE_OFFSET_BITS=64 -I'C:/Users/biocbuild/bbs-3.12-bioc/R/library/Rcpp/include' -I'C:/Users/biocbuild/bbs-3.12-bioc/R/library/Rhtslib/include' -I'C:/Users/biocbuild/bbs-3.12-bioc/R/library/zlibbioc/include' -I'C:/Users/biocbuild/bbs-3.12-bioc/R/library/testthat/include'   -I"C:/extsoft/include"     -O2 -Wall  -mfpmath=sse -msse2 -mstackrealign -c parsecount.cpp -o parsecount.o
parsecount.cpp: In function 'void write_stat(std::__cxx11::string, std::__cxx11::string, std::vector<int>, std::unordered_map<std::__cxx11::basic_string<char>, UMI_dedup_stat>)':
parsecount.cpp:266:20: warning: comparison of integer expressions of different signedness: 'int' and 'std::vector<int>::size_type' {aka 'unsigned int'} [-Wsign-compare]
     for (int i=0; i<UMI_dup_count.size(); i++)
                   ~^~~~~~~~~~~~~~~~~~~~~
"C:/rtools40/mingw32/bin/"g++  -std=gnu++11 -I"C:/Users/biocbuild/bbs-3.12-bioc/R/library/zlibbioc/include" -I"C:/Users/BIOCBU~1/BBS-3~1.12-/R/include" -DNDEBUG -D_FILE_OFFSET_BITS=64 -I'C:/Users/biocbuild/bbs-3.12-bioc/R/library/Rcpp/include' -I'C:/Users/biocbuild/bbs-3.12-bioc/R/library/Rhtslib/include' -I'C:/Users/biocbuild/bbs-3.12-bioc/R/library/zlibbioc/include' -I'C:/Users/biocbuild/bbs-3.12-bioc/R/library/testthat/include'   -I"C:/extsoft/include"     -O2 -Wall  -mfpmath=sse -msse2 -mstackrealign -c rcpp_scPipe_func.cpp -o rcpp_scPipe_func.o
In file included from rcpp_scPipe_func.cpp:7:
transcriptmapping.h: In member function 'void GeneBin::add_gene(Gene)':
transcriptmapping.h:42:21: warning: comparison of integer expressions of different signedness: 'int' and 'GeneBin::ull_int' {aka 'long long unsigned int'} [-Wsign-compare]
         if (gene.st < start)
             ~~~~~~~~^~~~~~~
transcriptmapping.h:46:21: warning: comparison of integer expressions of different signedness: 'int' and 'GeneBin::ull_int' {aka 'long long unsigned int'} [-Wsign-compare]
         if (gene.en > end)
             ~~~~~~~~^~~~~
transcriptmapping.h: In member function 'const bool GeneBin::overlaps(const Interval&)':
transcriptmapping.h:54:24: warning: comparison of integer expressions of different signedness: 'GeneBin::ull_int' {aka 'long long unsigned int'} and 'const int' [-Wsign-compare]
         return !(start > it.en) && !(end < it.st);
                  ~~~~~~^~~~~~~
transcriptmapping.h:54:42: warning: comparison of integer expressions of different signedness: 'GeneBin::ull_int' {aka 'long long unsigned int'} and 'const int' [-Wsign-compare]
         return !(start > it.en) && !(end < it.st);
                                      ~~~~^~~~~~~
In file included from config_hts.h:8,
                 from trimbarcode.h:6,
                 from rcpp_scPipe_func.cpp:3:
trimbarcode.h: At global scope:
C:/Users/biocbuild/bbs-3.12-bioc/R/library/Rhtslib/include/htslib/kseq.h:190:12: warning: 'int kseq_read(kseq_t*)' defined but not used [-Wunused-function]
  SCOPE int kseq_read(kseq_t *seq) \
            ^~~~~~~~~
C:/Users/biocbuild/bbs-3.12-bioc/R/library/Rhtslib/include/htslib/kseq.h:190:12: note: in definition of macro '__KSEQ_READ'
  SCOPE int kseq_read(kseq_t *seq) \
            ^~~~~~~~~
C:/Users/biocbuild/bbs-3.12-bioc/R/library/Rhtslib/include/htslib/kseq.h:244:35: note: in expansion of macro 'KSEQ_INIT2'
 #define KSEQ_INIT(type_t, __read) KSEQ_INIT2(static, type_t, __read)
                                   ^~~~~~~~~~
trimbarcode.h:11:1: note: in expansion of macro 'KSEQ_INIT'
 KSEQ_INIT(gzFile, gzread)
 ^~~~~~~~~
C:/Users/biocbuild/bbs-3.12-bioc/R/library/Rhtslib/include/htslib/kseq.h:176:13: warning: 'void kseq_destroy(kseq_t*)' defined but not used [-Wunused-function]
  SCOPE void kseq_destroy(kseq_t *ks)         \
             ^~~~~~~~~~~~
C:/Users/biocbuild/bbs-3.12-bioc/R/library/Rhtslib/include/htslib/kseq.h:176:13: note: in definition of macro '__KSEQ_BASIC'
  SCOPE void kseq_destroy(kseq_t *ks)         \
             ^~~~~~~~~~~~
C:/Users/biocbuild/bbs-3.12-bioc/R/library/Rhtslib/include/htslib/kseq.h:244:35: note: in expansion of macro 'KSEQ_INIT2'
 #define KSEQ_INIT(type_t, __read) KSEQ_INIT2(static, type_t, __read)
                                   ^~~~~~~~~~
trimbarcode.h:11:1: note: in expansion of macro 'KSEQ_INIT'
 KSEQ_INIT(gzFile, gzread)
 ^~~~~~~~~
C:/Users/biocbuild/bbs-3.12-bioc/R/library/Rhtslib/include/htslib/kseq.h:170:16: warning: 'kseq_t* kseq_init(bioc_gzFile)' defined but not used [-Wunused-function]
  SCOPE kseq_t *kseq_init(type_t fd)         \
                ^~~~~~~~~
C:/Users/biocbuild/bbs-3.12-bioc/R/library/Rhtslib/include/htslib/kseq.h:170:16: note: in definition of macro '__KSEQ_BASIC'
  SCOPE kseq_t *kseq_init(type_t fd)         \
                ^~~~~~~~~
C:/Users/biocbuild/bbs-3.12-bioc/R/library/Rhtslib/include/htslib/kseq.h:244:35: note: in expansion of macro 'KSEQ_INIT2'
 #define KSEQ_INIT(type_t, __read) KSEQ_INIT2(static, type_t, __read)
                                   ^~~~~~~~~~
trimbarcode.h:11:1: note: in expansion of macro 'KSEQ_INIT'
 KSEQ_INIT(gzFile, gzread)
 ^~~~~~~~~
"C:/rtools40/mingw32/bin/"g++  -std=gnu++11 -I"C:/Users/biocbuild/bbs-3.12-bioc/R/library/zlibbioc/include" -I"C:/Users/BIOCBU~1/BBS-3~1.12-/R/include" -DNDEBUG -D_FILE_OFFSET_BITS=64 -I'C:/Users/biocbuild/bbs-3.12-bioc/R/library/Rcpp/include' -I'C:/Users/biocbuild/bbs-3.12-bioc/R/library/Rhtslib/include' -I'C:/Users/biocbuild/bbs-3.12-bioc/R/library/zlibbioc/include' -I'C:/Users/biocbuild/bbs-3.12-bioc/R/library/testthat/include'   -I"C:/extsoft/include"     -O2 -Wall  -mfpmath=sse -msse2 -mstackrealign -c test-cpp.cpp -o test-cpp.o
"C:/rtools40/mingw32/bin/"g++  -std=gnu++11 -I"C:/Users/biocbuild/bbs-3.12-bioc/R/library/zlibbioc/include" -I"C:/Users/BIOCBU~1/BBS-3~1.12-/R/include" -DNDEBUG -D_FILE_OFFSET_BITS=64 -I'C:/Users/biocbuild/bbs-3.12-bioc/R/library/Rcpp/include' -I'C:/Users/biocbuild/bbs-3.12-bioc/R/library/Rhtslib/include' -I'C:/Users/biocbuild/bbs-3.12-bioc/R/library/zlibbioc/include' -I'C:/Users/biocbuild/bbs-3.12-bioc/R/library/testthat/include'   -I"C:/extsoft/include"     -O2 -Wall  -mfpmath=sse -msse2 -mstackrealign -c test-runner.cpp -o test-runner.o
In file included from C:/Users/biocbuild/bbs-3.12-bioc/R/library/testthat/include/testthat.h:1,
                 from test-runner.cpp:7:
C:/Users/biocbuild/bbs-3.12-bioc/R/library/testthat/include/testthat/testthat.h: In function 'std::ostream& Catch::cout()':
C:/Users/biocbuild/bbs-3.12-bioc/R/library/testthat/include/testthat/testthat.h:145:1: warning: visibility attribute not supported in this configuration; ignored [-Wattributes]
 }
 ^
C:/Users/biocbuild/bbs-3.12-bioc/R/library/testthat/include/testthat/testthat.h: In function 'std::ostream& Catch::cerr()':
C:/Users/biocbuild/bbs-3.12-bioc/R/library/testthat/include/testthat/testthat.h:152:1: warning: visibility attribute not supported in this configuration; ignored [-Wattributes]
 }
 ^
"C:/rtools40/mingw32/bin/"g++  -std=gnu++11 -I"C:/Users/biocbuild/bbs-3.12-bioc/R/library/zlibbioc/include" -I"C:/Users/BIOCBU~1/BBS-3~1.12-/R/include" -DNDEBUG -D_FILE_OFFSET_BITS=64 -I'C:/Users/biocbuild/bbs-3.12-bioc/R/library/Rcpp/include' -I'C:/Users/biocbuild/bbs-3.12-bioc/R/library/Rhtslib/include' -I'C:/Users/biocbuild/bbs-3.12-bioc/R/library/zlibbioc/include' -I'C:/Users/biocbuild/bbs-3.12-bioc/R/library/testthat/include'   -I"C:/extsoft/include"     -O2 -Wall  -mfpmath=sse -msse2 -mstackrealign -c transcriptmapping.cpp -o transcriptmapping.o
In file included from transcriptmapping.cpp:2:
transcriptmapping.h: In member function 'void GeneBin::add_gene(Gene)':
transcriptmapping.h:42:21: warning: comparison of integer expressions of different signedness: 'int' and 'GeneBin::ull_int' {aka 'long long unsigned int'} [-Wsign-compare]
         if (gene.st < start)
             ~~~~~~~~^~~~~~~
transcriptmapping.h:46:21: warning: comparison of integer expressions of different signedness: 'int' and 'GeneBin::ull_int' {aka 'long long unsigned int'} [-Wsign-compare]
         if (gene.en > end)
             ~~~~~~~~^~~~~
transcriptmapping.h: In member function 'const bool GeneBin::overlaps(const Interval&)':
transcriptmapping.h:54:24: warning: comparison of integer expressions of different signedness: 'GeneBin::ull_int' {aka 'long long unsigned int'} and 'const int' [-Wsign-compare]
         return !(start > it.en) && !(end < it.st);
                  ~~~~~~^~~~~~~
transcriptmapping.h:54:42: warning: comparison of integer expressions of different signedness: 'GeneBin::ull_int' {aka 'long long unsigned int'} and 'const int' [-Wsign-compare]
         return !(start > it.en) && !(end < it.st);
                                      ~~~~^~~~~~~
transcriptmapping.cpp: In member function 'int Mapping::map_exon(bam_hdr_t*, bam1_t*, std::__cxx11::string&, bool)':
transcriptmapping.cpp:533:20: warning: comparison of integer expressions of different signedness: 'int' and 'uint32_t' {aka 'unsigned int'} [-Wsign-compare]
     for (int c=0; c<b->core.n_cigar; c++)
                   ~^~~~~~~~~~~~~~~~
transcriptmapping.cpp: In member function 'void Mapping::parse_align_warpper(std::vector<std::__cxx11::basic_string<char> >, std::vector<std::__cxx11::basic_string<char> >, std::__cxx11::string, bool, std::__cxx11::string, std::__cxx11::string, std::__cxx11::string, std::__cxx11::string, int, int, int)':
transcriptmapping.cpp:678:21: warning: comparison of integer expressions of different signedness: 'int' and 'std::vector<std::__cxx11::basic_string<char> >::size_type' {aka 'unsigned int'} [-Wsign-compare]
       for (int i=1;i<fn_vec.size();i++)
                    ~^~~~~~~~~~~~~~
transcriptmapping.cpp:686:21: warning: comparison of integer expressions of different signedness: 'int' and 'std::vector<std::__cxx11::basic_string<char> >::size_type' {aka 'unsigned int'} [-Wsign-compare]
       for (int i=1;i<fn_vec.size();i++)
                    ~^~~~~~~~~~~~~~
transcriptmapping.cpp: In function 'std::pair<int, int> {anonymous}::get_bc_umi_lengths(std::__cxx11::string)':
transcriptmapping.cpp:701:20: warning: unused variable 'bam_hdr' [-Wunused-variable]
         bam_hdr_t *bam_hdr = bam_hdr_read(fp);
                    ^~~~~~~
transcriptmapping.cpp: In member function 'void Mapping::parse_align(std::__cxx11::string, std::__cxx11::string, bool, std::__cxx11::string, std::__cxx11::string, std::__cxx11::string, std::__cxx11::string, int, std::__cxx11::string, std::__cxx11::string, int, int)':
transcriptmapping.cpp:755:9: warning: variable 'hts_retcode' set but not used [-Wunused-but-set-variable]
     int hts_retcode;
         ^~~~~~~~~~~
transcriptmapping.cpp: At global scope:
transcriptmapping.cpp:699:25: warning: 'std::pair<int, int> {anonymous}::get_bc_umi_lengths(std::__cxx11::string)' defined but not used [-Wunused-function]
     std::pair<int, int> get_bc_umi_lengths(string bam_fn) {
                         ^~~~~~~~~~~~~~~~~~
"C:/rtools40/mingw32/bin/"g++  -std=gnu++11 -I"C:/Users/biocbuild/bbs-3.12-bioc/R/library/zlibbioc/include" -I"C:/Users/BIOCBU~1/BBS-3~1.12-/R/include" -DNDEBUG -D_FILE_OFFSET_BITS=64 -I'C:/Users/biocbuild/bbs-3.12-bioc/R/library/Rcpp/include' -I'C:/Users/biocbuild/bbs-3.12-bioc/R/library/Rhtslib/include' -I'C:/Users/biocbuild/bbs-3.12-bioc/R/library/zlibbioc/include' -I'C:/Users/biocbuild/bbs-3.12-bioc/R/library/testthat/include'   -I"C:/extsoft/include"     -O2 -Wall  -mfpmath=sse -msse2 -mstackrealign -c trimbarcode.cpp -o trimbarcode.o
trimbarcode.cpp: In function 'void kseq_t_to_bam_t(kseq_t*, bam1_t*, int)':
trimbarcode.cpp:38:19: warning: comparison of integer expressions of different signedness: 'uint32_t' {aka 'unsigned int'} and 'int' [-Wsign-compare]
     if (b->m_data < b->l_data)
         ~~~~~~~~~~^~~~~~~~~~~
trimbarcode.cpp: In function 'void paired_fastq_to_bam(char*, char*, char*, read_s, filter_s)':
trimbarcode.cpp:92:9: warning: variable 'hts_retcode' set but not used [-Wunused-but-set-variable]
     int hts_retcode;
         ^~~~~~~~~~~
trimbarcode.cpp: In function 'void paired_fastq_to_fastq(char*, char*, char*, read_s, filter_s, bool)':
trimbarcode.cpp:450:24: warning: 'o_stream_gz' may be used uninitialized in this function [-Wmaybe-uninitialized]
             fq_gz_write(o_stream_gz, seq1, bc1_end); // write to gzipped fastq file
             ~~~~~~~~~~~^~~~~~~~~~~~~~~~~~~~~~~~~~~~
"C:/rtools40/mingw32/bin/"g++  -std=gnu++11 -I"C:/Users/biocbuild/bbs-3.12-bioc/R/library/zlibbioc/include" -I"C:/Users/BIOCBU~1/BBS-3~1.12-/R/include" -DNDEBUG -D_FILE_OFFSET_BITS=64 -I'C:/Users/biocbuild/bbs-3.12-bioc/R/library/Rcpp/include' -I'C:/Users/biocbuild/bbs-3.12-bioc/R/library/Rhtslib/include' -I'C:/Users/biocbuild/bbs-3.12-bioc/R/library/zlibbioc/include' -I'C:/Users/biocbuild/bbs-3.12-bioc/R/library/testthat/include'   -I"C:/extsoft/include"     -O2 -Wall  -mfpmath=sse -msse2 -mstackrealign -c utils.cpp -o utils.o
C:/rtools40/mingw32/bin/g++ -shared -s -static-libgcc -o scPipe.dll tmp.def Gene.o Interval.o RcppExports.o cellbarcode.o detect_barcode.o parsebam.o parsecount.o rcpp_scPipe_func.o test-cpp.o test-runner.o transcriptmapping.o trimbarcode.o utils.o C:/Users/biocbuild/bbs-3.12-bioc/R/library/Rhtslib/usrlib/i386/libhts.a -LC:/extsoft/lib/i386 -lcurl -lrtmp -lssl -lssh2 -lcrypto -lgdi32 -lz -lws2_32 -lwldap32 -lwinmm -lidn -LC:/Users/biocbuild/bbs-3.12-bioc/R/library/zlibbioc/libs/i386 -lzlib1bioc -LC:/extsoft/lib/i386 -LC:/extsoft/lib -LC:/Users/BIOCBU~1/BBS-3~1.12-/R/bin/i386 -lR
installing to C:/Users/biocbuild/bbs-3.12-bioc/meat/scPipe.buildbin-libdir/00LOCK-scPipe/00new/scPipe/libs/i386
** R
** data
** inst
** byte-compile and prepare package for lazy loading
** help
*** installing help indices
  converting help for package 'scPipe'
    finding HTML links ... done
    QC_metrics                              html  
    finding level-2 HTML links ... done

    UMI_dup_info                            html  
    UMI_duplication                         html  
    anno_import                             html  
    anno_to_saf                             html  
    calculate_QC_metrics                    html  
    cell_barcode_matching                   html  
    convert_geneid                          html  
    create_processed_report                 html  
    create_report                           html  
    create_sce_by_dir                       html  
    demultiplex_info                        html  
    detect_outlier                          html  
    gene_id_type                            html  
    get_ercc_anno                           html  
    get_genes_by_GO                         html  
    get_read_str                            html  
    organism                                html  
    plot_QC_pairs                           html  
    plot_UMI_dup                            html  
    plot_demultiplex                        html  
    plot_mapping                            html  
    remove_outliers                         html  
    scPipe                                  html  
    sc_correct_bam_bc                       html  
    sc_count_aligned_bam                    html  
    sc_demultiplex                          html  
    sc_demultiplex_and_count                html  
    sc_detect_bc                            html  
    sc_exon_mapping                         html  
    sc_gene_counting                        html  
    sc_sample_data                          html  
    sc_sample_qc                            html  
    sc_trim_barcode                         html  
** building package indices
** installing vignettes
** testing if installed package can be loaded from temporary location
** testing if installed package can be loaded from final location
** testing if installed package keeps a record of temporary installation path

install for x64

* installing *source* package 'scPipe' ...
** libs
"C:/rtools40/mingw64/bin/"g++  -std=gnu++11 -I"C:/Users/biocbuild/bbs-3.12-bioc/R/library/zlibbioc/include" -I"C:/Users/BIOCBU~1/BBS-3~1.12-/R/include" -DNDEBUG -D_FILE_OFFSET_BITS=64 -I'C:/Users/biocbuild/bbs-3.12-bioc/R/library/Rcpp/include' -I'C:/Users/biocbuild/bbs-3.12-bioc/R/library/Rhtslib/include' -I'C:/Users/biocbuild/bbs-3.12-bioc/R/library/zlibbioc/include' -I'C:/Users/biocbuild/bbs-3.12-bioc/R/library/testthat/include'   -I"C:/extsoft/include"     -O2 -Wall  -mfpmath=sse -msse2 -mstackrealign -c Gene.cpp -o Gene.o
Gene.cpp: In member function 'void Gene::flatten_exon()':
Gene.cpp:105:24: warning: comparison of integer expressions of different signedness: 'int' and 'std::vector<Interval>::size_type' {aka 'long long unsigned int'} [-Wsign-compare]
     for (auto i = 1; i < exon_vec.size(); i++)
                      ~~^~~~~~~~~~~~~~~~~
Gene.cpp: In function 'std::ostream& operator<<(std::ostream&, const Gene&)':
Gene.cpp:130:23: warning: comparison of integer expressions of different signedness: 'int' and 'std::vector<Interval>::size_type' {aka 'long long unsigned int'} [-Wsign-compare]
     for (int i = 0; i < obj.exon_vec.size(); ++i)
                     ~~^~~~~~~~~~~~~~~~~~~~~
"C:/rtools40/mingw64/bin/"g++  -std=gnu++11 -I"C:/Users/biocbuild/bbs-3.12-bioc/R/library/zlibbioc/include" -I"C:/Users/BIOCBU~1/BBS-3~1.12-/R/include" -DNDEBUG -D_FILE_OFFSET_BITS=64 -I'C:/Users/biocbuild/bbs-3.12-bioc/R/library/Rcpp/include' -I'C:/Users/biocbuild/bbs-3.12-bioc/R/library/Rhtslib/include' -I'C:/Users/biocbuild/bbs-3.12-bioc/R/library/zlibbioc/include' -I'C:/Users/biocbuild/bbs-3.12-bioc/R/library/testthat/include'   -I"C:/extsoft/include"     -O2 -Wall  -mfpmath=sse -msse2 -mstackrealign -c Interval.cpp -o Interval.o
"C:/rtools40/mingw64/bin/"g++  -std=gnu++11 -I"C:/Users/biocbuild/bbs-3.12-bioc/R/library/zlibbioc/include" -I"C:/Users/BIOCBU~1/BBS-3~1.12-/R/include" -DNDEBUG -D_FILE_OFFSET_BITS=64 -I'C:/Users/biocbuild/bbs-3.12-bioc/R/library/Rcpp/include' -I'C:/Users/biocbuild/bbs-3.12-bioc/R/library/Rhtslib/include' -I'C:/Users/biocbuild/bbs-3.12-bioc/R/library/zlibbioc/include' -I'C:/Users/biocbuild/bbs-3.12-bioc/R/library/testthat/include'   -I"C:/extsoft/include"     -O2 -Wall  -mfpmath=sse -msse2 -mstackrealign -c RcppExports.cpp -o RcppExports.o
"C:/rtools40/mingw64/bin/"g++  -std=gnu++11 -I"C:/Users/biocbuild/bbs-3.12-bioc/R/library/zlibbioc/include" -I"C:/Users/BIOCBU~1/BBS-3~1.12-/R/include" -DNDEBUG -D_FILE_OFFSET_BITS=64 -I'C:/Users/biocbuild/bbs-3.12-bioc/R/library/Rcpp/include' -I'C:/Users/biocbuild/bbs-3.12-bioc/R/library/Rhtslib/include' -I'C:/Users/biocbuild/bbs-3.12-bioc/R/library/zlibbioc/include' -I'C:/Users/biocbuild/bbs-3.12-bioc/R/library/testthat/include'   -I"C:/extsoft/include"     -O2 -Wall  -mfpmath=sse -msse2 -mstackrealign -c cellbarcode.cpp -o cellbarcode.o
cellbarcode.cpp: In member function 'std::__cxx11::string Barcode::get_closest_match(const string&, int)':
cellbarcode.cpp:77:23: warning: comparison of integer expressions of different signedness: 'int' and 'std::vector<std::__cxx11::basic_string<char> >::size_type' {aka 'long long unsigned int'} [-Wsign-compare]
     for (int i = 0; i < barcode_list.size(); i++)
                     ~~^~~~~~~~~~~~~~~~~~~~~
cellbarcode.cpp:82:23: warning: comparison of integer expressions of different signedness: 'int' and 'std::vector<int>::size_type' {aka 'long long unsigned int'} [-Wsign-compare]
     for (int i = 0; i < hamming_dists.size(); i++)
                     ~~^~~~~~~~~~~~~~~~~~~~~~
"C:/rtools40/mingw64/bin/"g++  -std=gnu++11 -I"C:/Users/biocbuild/bbs-3.12-bioc/R/library/zlibbioc/include" -I"C:/Users/BIOCBU~1/BBS-3~1.12-/R/include" -DNDEBUG -D_FILE_OFFSET_BITS=64 -I'C:/Users/biocbuild/bbs-3.12-bioc/R/library/Rcpp/include' -I'C:/Users/biocbuild/bbs-3.12-bioc/R/library/Rhtslib/include' -I'C:/Users/biocbuild/bbs-3.12-bioc/R/library/zlibbioc/include' -I'C:/Users/biocbuild/bbs-3.12-bioc/R/library/testthat/include'   -I"C:/extsoft/include"     -O2 -Wall  -mfpmath=sse -msse2 -mstackrealign -c detect_barcode.cpp -o detect_barcode.o
"C:/rtools40/mingw64/bin/"g++  -std=gnu++11 -I"C:/Users/biocbuild/bbs-3.12-bioc/R/library/zlibbioc/include" -I"C:/Users/BIOCBU~1/BBS-3~1.12-/R/include" -DNDEBUG -D_FILE_OFFSET_BITS=64 -I'C:/Users/biocbuild/bbs-3.12-bioc/R/library/Rcpp/include' -I'C:/Users/biocbuild/bbs-3.12-bioc/R/library/Rhtslib/include' -I'C:/Users/biocbuild/bbs-3.12-bioc/R/library/zlibbioc/include' -I'C:/Users/biocbuild/bbs-3.12-bioc/R/library/testthat/include'   -I"C:/extsoft/include"     -O2 -Wall  -mfpmath=sse -msse2 -mstackrealign -c parsebam.cpp -o parsebam.o
parsebam.cpp: In member function 'int Bamdemultiplex::clean_bam_barcode(std::__cxx11::string, std::__cxx11::string, int, int)':
parsebam.cpp:78:9: warning: variable 'hts_retcode' set but not used [-Wunused-but-set-variable]
     int hts_retcode;
         ^~~~~~~~~~~
parsebam.cpp:116:9: warning: unused variable 'map_status' [-Wunused-variable]
     int map_status;
         ^~~~~~~~~~
"C:/rtools40/mingw64/bin/"g++  -std=gnu++11 -I"C:/Users/biocbuild/bbs-3.12-bioc/R/library/zlibbioc/include" -I"C:/Users/BIOCBU~1/BBS-3~1.12-/R/include" -DNDEBUG -D_FILE_OFFSET_BITS=64 -I'C:/Users/biocbuild/bbs-3.12-bioc/R/library/Rcpp/include' -I'C:/Users/biocbuild/bbs-3.12-bioc/R/library/Rhtslib/include' -I'C:/Users/biocbuild/bbs-3.12-bioc/R/library/zlibbioc/include' -I'C:/Users/biocbuild/bbs-3.12-bioc/R/library/testthat/include'   -I"C:/extsoft/include"     -O2 -Wall  -mfpmath=sse -msse2 -mstackrealign -c parsecount.cpp -o parsecount.o
parsecount.cpp: In function 'void write_stat(std::__cxx11::string, std::__cxx11::string, std::vector<int>, std::unordered_map<std::__cxx11::basic_string<char>, UMI_dedup_stat>)':
parsecount.cpp:266:20: warning: comparison of integer expressions of different signedness: 'int' and 'std::vector<int>::size_type' {aka 'long long unsigned int'} [-Wsign-compare]
     for (int i=0; i<UMI_dup_count.size(); i++)
                   ~^~~~~~~~~~~~~~~~~~~~~
"C:/rtools40/mingw64/bin/"g++  -std=gnu++11 -I"C:/Users/biocbuild/bbs-3.12-bioc/R/library/zlibbioc/include" -I"C:/Users/BIOCBU~1/BBS-3~1.12-/R/include" -DNDEBUG -D_FILE_OFFSET_BITS=64 -I'C:/Users/biocbuild/bbs-3.12-bioc/R/library/Rcpp/include' -I'C:/Users/biocbuild/bbs-3.12-bioc/R/library/Rhtslib/include' -I'C:/Users/biocbuild/bbs-3.12-bioc/R/library/zlibbioc/include' -I'C:/Users/biocbuild/bbs-3.12-bioc/R/library/testthat/include'   -I"C:/extsoft/include"     -O2 -Wall  -mfpmath=sse -msse2 -mstackrealign -c rcpp_scPipe_func.cpp -o rcpp_scPipe_func.o
In file included from rcpp_scPipe_func.cpp:7:
transcriptmapping.h: In member function 'void GeneBin::add_gene(Gene)':
transcriptmapping.h:42:21: warning: comparison of integer expressions of different signedness: 'int' and 'GeneBin::ull_int' {aka 'long long unsigned int'} [-Wsign-compare]
         if (gene.st < start)
             ~~~~~~~~^~~~~~~
transcriptmapping.h:46:21: warning: comparison of integer expressions of different signedness: 'int' and 'GeneBin::ull_int' {aka 'long long unsigned int'} [-Wsign-compare]
         if (gene.en > end)
             ~~~~~~~~^~~~~
transcriptmapping.h: In member function 'const bool GeneBin::overlaps(const Interval&)':
transcriptmapping.h:54:24: warning: comparison of integer expressions of different signedness: 'GeneBin::ull_int' {aka 'long long unsigned int'} and 'const int' [-Wsign-compare]
         return !(start > it.en) && !(end < it.st);
                  ~~~~~~^~~~~~~
transcriptmapping.h:54:42: warning: comparison of integer expressions of different signedness: 'GeneBin::ull_int' {aka 'long long unsigned int'} and 'const int' [-Wsign-compare]
         return !(start > it.en) && !(end < it.st);
                                      ~~~~^~~~~~~
In file included from config_hts.h:8,
                 from trimbarcode.h:6,
                 from rcpp_scPipe_func.cpp:3:
trimbarcode.h: At global scope:
C:/Users/biocbuild/bbs-3.12-bioc/R/library/Rhtslib/include/htslib/kseq.h:190:12: warning: 'int kseq_read(kseq_t*)' defined but not used [-Wunused-function]
  SCOPE int kseq_read(kseq_t *seq) \
            ^~~~~~~~~
C:/Users/biocbuild/bbs-3.12-bioc/R/library/Rhtslib/include/htslib/kseq.h:190:12: note: in definition of macro '__KSEQ_READ'
  SCOPE int kseq_read(kseq_t *seq) \
            ^~~~~~~~~
C:/Users/biocbuild/bbs-3.12-bioc/R/library/Rhtslib/include/htslib/kseq.h:244:35: note: in expansion of macro 'KSEQ_INIT2'
 #define KSEQ_INIT(type_t, __read) KSEQ_INIT2(static, type_t, __read)
                                   ^~~~~~~~~~
trimbarcode.h:11:1: note: in expansion of macro 'KSEQ_INIT'
 KSEQ_INIT(gzFile, gzread)
 ^~~~~~~~~
C:/Users/biocbuild/bbs-3.12-bioc/R/library/Rhtslib/include/htslib/kseq.h:176:13: warning: 'void kseq_destroy(kseq_t*)' defined but not used [-Wunused-function]
  SCOPE void kseq_destroy(kseq_t *ks)         \
             ^~~~~~~~~~~~
C:/Users/biocbuild/bbs-3.12-bioc/R/library/Rhtslib/include/htslib/kseq.h:176:13: note: in definition of macro '__KSEQ_BASIC'
  SCOPE void kseq_destroy(kseq_t *ks)         \
             ^~~~~~~~~~~~
C:/Users/biocbuild/bbs-3.12-bioc/R/library/Rhtslib/include/htslib/kseq.h:244:35: note: in expansion of macro 'KSEQ_INIT2'
 #define KSEQ_INIT(type_t, __read) KSEQ_INIT2(static, type_t, __read)
                                   ^~~~~~~~~~
trimbarcode.h:11:1: note: in expansion of macro 'KSEQ_INIT'
 KSEQ_INIT(gzFile, gzread)
 ^~~~~~~~~
C:/Users/biocbuild/bbs-3.12-bioc/R/library/Rhtslib/include/htslib/kseq.h:170:16: warning: 'kseq_t* kseq_init(bioc_gzFile)' defined but not used [-Wunused-function]
  SCOPE kseq_t *kseq_init(type_t fd)         \
                ^~~~~~~~~
C:/Users/biocbuild/bbs-3.12-bioc/R/library/Rhtslib/include/htslib/kseq.h:170:16: note: in definition of macro '__KSEQ_BASIC'
  SCOPE kseq_t *kseq_init(type_t fd)         \
                ^~~~~~~~~
C:/Users/biocbuild/bbs-3.12-bioc/R/library/Rhtslib/include/htslib/kseq.h:244:35: note: in expansion of macro 'KSEQ_INIT2'
 #define KSEQ_INIT(type_t, __read) KSEQ_INIT2(static, type_t, __read)
                                   ^~~~~~~~~~
trimbarcode.h:11:1: note: in expansion of macro 'KSEQ_INIT'
 KSEQ_INIT(gzFile, gzread)
 ^~~~~~~~~
"C:/rtools40/mingw64/bin/"g++  -std=gnu++11 -I"C:/Users/biocbuild/bbs-3.12-bioc/R/library/zlibbioc/include" -I"C:/Users/BIOCBU~1/BBS-3~1.12-/R/include" -DNDEBUG -D_FILE_OFFSET_BITS=64 -I'C:/Users/biocbuild/bbs-3.12-bioc/R/library/Rcpp/include' -I'C:/Users/biocbuild/bbs-3.12-bioc/R/library/Rhtslib/include' -I'C:/Users/biocbuild/bbs-3.12-bioc/R/library/zlibbioc/include' -I'C:/Users/biocbuild/bbs-3.12-bioc/R/library/testthat/include'   -I"C:/extsoft/include"     -O2 -Wall  -mfpmath=sse -msse2 -mstackrealign -c test-cpp.cpp -o test-cpp.o
"C:/rtools40/mingw64/bin/"g++  -std=gnu++11 -I"C:/Users/biocbuild/bbs-3.12-bioc/R/library/zlibbioc/include" -I"C:/Users/BIOCBU~1/BBS-3~1.12-/R/include" -DNDEBUG -D_FILE_OFFSET_BITS=64 -I'C:/Users/biocbuild/bbs-3.12-bioc/R/library/Rcpp/include' -I'C:/Users/biocbuild/bbs-3.12-bioc/R/library/Rhtslib/include' -I'C:/Users/biocbuild/bbs-3.12-bioc/R/library/zlibbioc/include' -I'C:/Users/biocbuild/bbs-3.12-bioc/R/library/testthat/include'   -I"C:/extsoft/include"     -O2 -Wall  -mfpmath=sse -msse2 -mstackrealign -c test-runner.cpp -o test-runner.o
In file included from C:/Users/biocbuild/bbs-3.12-bioc/R/library/testthat/include/testthat.h:1,
                 from test-runner.cpp:7:
C:/Users/biocbuild/bbs-3.12-bioc/R/library/testthat/include/testthat/testthat.h: In function 'std::ostream& Catch::cout()':
C:/Users/biocbuild/bbs-3.12-bioc/R/library/testthat/include/testthat/testthat.h:145:1: warning: visibility attribute not supported in this configuration; ignored [-Wattributes]
 }
 ^
C:/Users/biocbuild/bbs-3.12-bioc/R/library/testthat/include/testthat/testthat.h: In function 'std::ostream& Catch::cerr()':
C:/Users/biocbuild/bbs-3.12-bioc/R/library/testthat/include/testthat/testthat.h:152:1: warning: visibility attribute not supported in this configuration; ignored [-Wattributes]
 }
 ^
"C:/rtools40/mingw64/bin/"g++  -std=gnu++11 -I"C:/Users/biocbuild/bbs-3.12-bioc/R/library/zlibbioc/include" -I"C:/Users/BIOCBU~1/BBS-3~1.12-/R/include" -DNDEBUG -D_FILE_OFFSET_BITS=64 -I'C:/Users/biocbuild/bbs-3.12-bioc/R/library/Rcpp/include' -I'C:/Users/biocbuild/bbs-3.12-bioc/R/library/Rhtslib/include' -I'C:/Users/biocbuild/bbs-3.12-bioc/R/library/zlibbioc/include' -I'C:/Users/biocbuild/bbs-3.12-bioc/R/library/testthat/include'   -I"C:/extsoft/include"     -O2 -Wall  -mfpmath=sse -msse2 -mstackrealign -c transcriptmapping.cpp -o transcriptmapping.o
In file included from transcriptmapping.cpp:2:
transcriptmapping.h: In member function 'void GeneBin::add_gene(Gene)':
transcriptmapping.h:42:21: warning: comparison of integer expressions of different signedness: 'int' and 'GeneBin::ull_int' {aka 'long long unsigned int'} [-Wsign-compare]
         if (gene.st < start)
             ~~~~~~~~^~~~~~~
transcriptmapping.h:46:21: warning: comparison of integer expressions of different signedness: 'int' and 'GeneBin::ull_int' {aka 'long long unsigned int'} [-Wsign-compare]
         if (gene.en > end)
             ~~~~~~~~^~~~~
transcriptmapping.h: In member function 'const bool GeneBin::overlaps(const Interval&)':
transcriptmapping.h:54:24: warning: comparison of integer expressions of different signedness: 'GeneBin::ull_int' {aka 'long long unsigned int'} and 'const int' [-Wsign-compare]
         return !(start > it.en) && !(end < it.st);
                  ~~~~~~^~~~~~~
transcriptmapping.h:54:42: warning: comparison of integer expressions of different signedness: 'GeneBin::ull_int' {aka 'long long unsigned int'} and 'const int' [-Wsign-compare]
         return !(start > it.en) && !(end < it.st);
                                      ~~~~^~~~~~~
transcriptmapping.cpp: In member function 'int Mapping::map_exon(bam_hdr_t*, bam1_t*, std::__cxx11::string&, bool)':
transcriptmapping.cpp:533:20: warning: comparison of integer expressions of different signedness: 'int' and 'uint32_t' {aka 'unsigned int'} [-Wsign-compare]
     for (int c=0; c<b->core.n_cigar; c++)
                   ~^~~~~~~~~~~~~~~~
transcriptmapping.cpp: In member function 'void Mapping::parse_align_warpper(std::vector<std::__cxx11::basic_string<char> >, std::vector<std::__cxx11::basic_string<char> >, std::__cxx11::string, bool, std::__cxx11::string, std::__cxx11::string, std::__cxx11::string, std::__cxx11::string, int, int, int)':
transcriptmapping.cpp:678:21: warning: comparison of integer expressions of different signedness: 'int' and 'std::vector<std::__cxx11::basic_string<char> >::size_type' {aka 'long long unsigned int'} [-Wsign-compare]
       for (int i=1;i<fn_vec.size();i++)
                    ~^~~~~~~~~~~~~~
transcriptmapping.cpp:686:21: warning: comparison of integer expressions of different signedness: 'int' and 'std::vector<std::__cxx11::basic_string<char> >::size_type' {aka 'long long unsigned int'} [-Wsign-compare]
       for (int i=1;i<fn_vec.size();i++)
                    ~^~~~~~~~~~~~~~
transcriptmapping.cpp: In function 'std::pair<int, int> {anonymous}::get_bc_umi_lengths(std::__cxx11::string)':
transcriptmapping.cpp:701:20: warning: unused variable 'bam_hdr' [-Wunused-variable]
         bam_hdr_t *bam_hdr = bam_hdr_read(fp);
                    ^~~~~~~
transcriptmapping.cpp: In member function 'void Mapping::parse_align(std::__cxx11::string, std::__cxx11::string, bool, std::__cxx11::string, std::__cxx11::string, std::__cxx11::string, std::__cxx11::string, int, std::__cxx11::string, std::__cxx11::string, int, int)':
transcriptmapping.cpp:755:9: warning: variable 'hts_retcode' set but not used [-Wunused-but-set-variable]
     int hts_retcode;
         ^~~~~~~~~~~
transcriptmapping.cpp: At global scope:
transcriptmapping.cpp:699:25: warning: 'std::pair<int, int> {anonymous}::get_bc_umi_lengths(std::__cxx11::string)' defined but not used [-Wunused-function]
     std::pair<int, int> get_bc_umi_lengths(string bam_fn) {
                         ^~~~~~~~~~~~~~~~~~
"C:/rtools40/mingw64/bin/"g++  -std=gnu++11 -I"C:/Users/biocbuild/bbs-3.12-bioc/R/library/zlibbioc/include" -I"C:/Users/BIOCBU~1/BBS-3~1.12-/R/include" -DNDEBUG -D_FILE_OFFSET_BITS=64 -I'C:/Users/biocbuild/bbs-3.12-bioc/R/library/Rcpp/include' -I'C:/Users/biocbuild/bbs-3.12-bioc/R/library/Rhtslib/include' -I'C:/Users/biocbuild/bbs-3.12-bioc/R/library/zlibbioc/include' -I'C:/Users/biocbuild/bbs-3.12-bioc/R/library/testthat/include'   -I"C:/extsoft/include"     -O2 -Wall  -mfpmath=sse -msse2 -mstackrealign -c trimbarcode.cpp -o trimbarcode.o
trimbarcode.cpp: In function 'void kseq_t_to_bam_t(kseq_t*, bam1_t*, int)':
trimbarcode.cpp:38:19: warning: comparison of integer expressions of different signedness: 'uint32_t' {aka 'unsigned int'} and 'int' [-Wsign-compare]
     if (b->m_data < b->l_data)
         ~~~~~~~~~~^~~~~~~~~~~
trimbarcode.cpp: In function 'void paired_fastq_to_bam(char*, char*, char*, read_s, filter_s)':
trimbarcode.cpp:92:9: warning: variable 'hts_retcode' set but not used [-Wunused-but-set-variable]
     int hts_retcode;
         ^~~~~~~~~~~
trimbarcode.cpp: In function 'void paired_fastq_to_fastq(char*, char*, char*, read_s, filter_s, bool)':
trimbarcode.cpp:450:24: warning: 'o_stream_gz' may be used uninitialized in this function [-Wmaybe-uninitialized]
             fq_gz_write(o_stream_gz, seq1, bc1_end); // write to gzipped fastq file
             ~~~~~~~~~~~^~~~~~~~~~~~~~~~~~~~~~~~~~~~
"C:/rtools40/mingw64/bin/"g++  -std=gnu++11 -I"C:/Users/biocbuild/bbs-3.12-bioc/R/library/zlibbioc/include" -I"C:/Users/BIOCBU~1/BBS-3~1.12-/R/include" -DNDEBUG -D_FILE_OFFSET_BITS=64 -I'C:/Users/biocbuild/bbs-3.12-bioc/R/library/Rcpp/include' -I'C:/Users/biocbuild/bbs-3.12-bioc/R/library/Rhtslib/include' -I'C:/Users/biocbuild/bbs-3.12-bioc/R/library/zlibbioc/include' -I'C:/Users/biocbuild/bbs-3.12-bioc/R/library/testthat/include'   -I"C:/extsoft/include"     -O2 -Wall  -mfpmath=sse -msse2 -mstackrealign -c utils.cpp -o utils.o
C:/rtools40/mingw64/bin/g++ -shared -s -static-libgcc -o scPipe.dll tmp.def Gene.o Interval.o RcppExports.o cellbarcode.o detect_barcode.o parsebam.o parsecount.o rcpp_scPipe_func.o test-cpp.o test-runner.o transcriptmapping.o trimbarcode.o utils.o C:/Users/biocbuild/bbs-3.12-bioc/R/library/Rhtslib/usrlib/x64/libhts.a -LC:/extsoft/lib/x64 -lcurl -lrtmp -lssl -lssh2 -lcrypto -lgdi32 -lz -lws2_32 -lwldap32 -lwinmm -LC:/Users/biocbuild/bbs-3.12-bioc/R/library/zlibbioc/libs/x64 -lzlib1bioc -LC:/extsoft/lib/x64 -LC:/extsoft/lib -LC:/Users/BIOCBU~1/BBS-3~1.12-/R/bin/x64 -lR
installing to C:/Users/biocbuild/bbs-3.12-bioc/meat/scPipe.buildbin-libdir/scPipe/libs/x64
** testing if installed package can be loaded
* MD5 sums
packaged installation of 'scPipe' as scPipe_1.12.0.zip
* DONE (scPipe)