Back to Multiple platform build/check report for BioC 3.12
ABCDEFGHIJKLMNOPQR[S]TUVWXYZ

Multiple platform build/check report for BioC 3.12

All results for package sampleClassifier

This page was generated on 2021-05-05 12:09:16 -0400 (Wed, 05 May 2021).

Package 1614/1974HostnameOS / ArchINSTALLBUILDCHECKBUILD BIN
sampleClassifier 1.14.2  (landing page)
Khadija El Amrani
Snapshot Date: 2021-05-04 14:50:13 -0400 (Tue, 04 May 2021)
URL: https://git.bioconductor.org/packages/sampleClassifier
Branch: RELEASE_3_12
Last Commit: 567967b
Last Changed Date: 2021-01-19 08:00:09 -0400 (Tue, 19 Jan 2021)
malbec1Linux (Ubuntu 18.04.5 LTS) / x86_64  OK    OK    OK  UNNEEDED, same version exists in internal repository
tokay1Windows Server 2012 R2 Standard / x64  OK    OK    OK    OK  UNNEEDED, same version exists in internal repository
merida1macOS 10.14.6 Mojave / x86_64  OK    OK    OK    OK  UNNEEDED, same version exists in internal repository