Back to Multiple platform build/check report for BioC 3.12
ABCDEFGHIJKLMNOPQ[R]STUVWXYZ

BUILD report for rrvgo on tokay1

This page was generated on 2021-05-05 12:13:06 -0400 (Wed, 05 May 2021).

To the developers/maintainers of the rrvgo package:
Please make sure to use the following settings in order to reproduce any error or warning you see on this page.
Package 1580/1974HostnameOS / ArchINSTALLBUILDCHECKBUILD BIN
rrvgo 1.2.0  (landing page)
Sergi Sayols
Snapshot Date: 2021-05-04 14:50:13 -0400 (Tue, 04 May 2021)
URL: https://git.bioconductor.org/packages/rrvgo
Branch: RELEASE_3_12
Last Commit: ed38a76
Last Changed Date: 2020-10-27 11:53:50 -0400 (Tue, 27 Oct 2020)
malbec1Linux (Ubuntu 18.04.5 LTS) / x86_64  OK    OK    OK  UNNEEDED, same version exists in internal repository
tokay1Windows Server 2012 R2 Standard / x64  OK    OK    OK    OK  UNNEEDED, same version exists in internal repository
merida1macOS 10.14.6 Mojave / x86_64  OK    OK    OK    OK  UNNEEDED, same version exists in internal repository

Summary

Package: rrvgo
Version: 1.2.0
Command: chmod a+r rrvgo -R && C:\Users\biocbuild\bbs-3.12-bioc\R\bin\R.exe CMD build --keep-empty-dirs --no-resave-data rrvgo
StartedAt: 2021-05-04 23:18:18 -0400 (Tue, 04 May 2021)
EndedAt: 2021-05-04 23:19:48 -0400 (Tue, 04 May 2021)
EllapsedTime: 90.5 seconds
RetCode: 0
Status:   OK   
PackageFile: rrvgo_1.2.0.tar.gz
PackageFileSize: 1.052 MiB

Command output

##############################################################################
##############################################################################
###
### Running command:
###
###   chmod a+r rrvgo -R && C:\Users\biocbuild\bbs-3.12-bioc\R\bin\R.exe CMD build --keep-empty-dirs --no-resave-data rrvgo
###
##############################################################################
##############################################################################


* checking for file 'rrvgo/DESCRIPTION' ... OK
* preparing 'rrvgo':
* checking DESCRIPTION meta-information ... OK
* installing the package to build vignettes
* creating vignettes ... OK
* checking for LF line-endings in source and make files and shell scripts
* checking for empty or unneeded directories
* building 'rrvgo_1.2.0.tar.gz'