Back to Multiple platform build/check report for BioC 3.12
ABCDEFGHIJKLMNOPQ[R]STUVWXYZ

BUILD report for ribosomeProfilingQC on tokay1

This page was generated on 2021-05-05 12:13:02 -0400 (Wed, 05 May 2021).

To the developers/maintainers of the ribosomeProfilingQC package:
Please make sure to use the following settings in order to reproduce any error or warning you see on this page.
Package 1530/1974HostnameOS / ArchINSTALLBUILDCHECKBUILD BIN
ribosomeProfilingQC 1.2.1  (landing page)
Jianhong Ou
Snapshot Date: 2021-05-04 14:50:13 -0400 (Tue, 04 May 2021)
URL: https://git.bioconductor.org/packages/ribosomeProfilingQC
Branch: RELEASE_3_12
Last Commit: 5c7f59f
Last Changed Date: 2021-03-10 18:24:26 -0400 (Wed, 10 Mar 2021)
malbec1Linux (Ubuntu 18.04.5 LTS) / x86_64  OK    OK    OK  UNNEEDED, same version exists in internal repository
tokay1Windows Server 2012 R2 Standard / x64  OK    OK    OK    OK  UNNEEDED, same version exists in internal repository
merida1macOS 10.14.6 Mojave / x86_64  OK    OK    OK    OK  UNNEEDED, same version exists in internal repository

Summary

Package: ribosomeProfilingQC
Version: 1.2.1
Command: chmod a+r ribosomeProfilingQC -R && C:\Users\biocbuild\bbs-3.12-bioc\R\bin\R.exe CMD build --keep-empty-dirs --no-resave-data ribosomeProfilingQC
StartedAt: 2021-05-04 23:11:23 -0400 (Tue, 04 May 2021)
EndedAt: 2021-05-04 23:16:55 -0400 (Tue, 04 May 2021)
EllapsedTime: 332.0 seconds
RetCode: 0
Status:   OK   
PackageFile: ribosomeProfilingQC_1.2.1.tar.gz
PackageFileSize: 2.555 MiB

Command output

##############################################################################
##############################################################################
###
### Running command:
###
###   chmod a+r ribosomeProfilingQC -R && C:\Users\biocbuild\bbs-3.12-bioc\R\bin\R.exe CMD build --keep-empty-dirs --no-resave-data ribosomeProfilingQC
###
##############################################################################
##############################################################################


* checking for file 'ribosomeProfilingQC/DESCRIPTION' ... OK
* preparing 'ribosomeProfilingQC':
* checking DESCRIPTION meta-information ... OK
* installing the package to build vignettes
* creating vignettes ... OK
* checking for LF line-endings in source and make files and shell scripts
* checking for empty or unneeded directories
* building 'ribosomeProfilingQC_1.2.1.tar.gz'