Back to Multiple platform build/check report for BioC 3.12
ABCDEFGHIJKLMNOPQ[R]STUVWXYZ

BUILD report for rgsepd on tokay1

This page was generated on 2021-05-05 12:13:01 -0400 (Wed, 05 May 2021).

To the developers/maintainers of the rgsepd package:
Please make sure to use the following settings in order to reproduce any error or warning you see on this page.
Package 1520/1974HostnameOS / ArchINSTALLBUILDCHECKBUILD BIN
rgsepd 1.22.0  (landing page)
Karl Stamm
Snapshot Date: 2021-05-04 14:50:13 -0400 (Tue, 04 May 2021)
URL: https://git.bioconductor.org/packages/rgsepd
Branch: RELEASE_3_12
Last Commit: 3c6fade
Last Changed Date: 2020-10-27 11:01:40 -0400 (Tue, 27 Oct 2020)
malbec1Linux (Ubuntu 18.04.5 LTS) / x86_64  OK    OK    OK  UNNEEDED, same version exists in internal repository
tokay1Windows Server 2012 R2 Standard / x64  OK    OK    OK    OK  UNNEEDED, same version exists in internal repository
merida1macOS 10.14.6 Mojave / x86_64  OK    OK    OK    OK  UNNEEDED, same version exists in internal repository

Summary

Package: rgsepd
Version: 1.22.0
Command: chmod a+r rgsepd -R && C:\Users\biocbuild\bbs-3.12-bioc\R\bin\R.exe CMD build --keep-empty-dirs --no-resave-data rgsepd
StartedAt: 2021-05-04 23:10:00 -0400 (Tue, 04 May 2021)
EndedAt: 2021-05-04 23:13:45 -0400 (Tue, 04 May 2021)
EllapsedTime: 224.1 seconds
RetCode: 0
Status:   OK   
PackageFile: rgsepd_1.22.0.tar.gz
PackageFileSize: 1.172 MiB

Command output

##############################################################################
##############################################################################
###
### Running command:
###
###   chmod a+r rgsepd -R && C:\Users\biocbuild\bbs-3.12-bioc\R\bin\R.exe CMD build --keep-empty-dirs --no-resave-data rgsepd
###
##############################################################################
##############################################################################


* checking for file 'rgsepd/DESCRIPTION' ... OK
* preparing 'rgsepd':
* checking DESCRIPTION meta-information ... OK
* installing the package to build vignettes
* creating vignettes ... OK
* checking for LF line-endings in source and make files and shell scripts
* checking for empty or unneeded directories
* looking to see if a 'data/datalist' file should be added
* building 'rgsepd_1.22.0.tar.gz'