Back to Multiple platform build/check report for BioC 3.12
ABCDEFGHIJKLMNO[P]QRSTUVWXYZ

BUILD report for psichomics on merida1

This page was generated on 2021-05-05 12:15:05 -0400 (Wed, 05 May 2021).

To the developers/maintainers of the psichomics package:
Please make sure to use the following settings in order to reproduce any error or warning you see on this page.
Package 1408/1974HostnameOS / ArchINSTALLBUILDCHECKBUILD BIN
psichomics 1.16.0  (landing page)
Nuno Saraiva-Agostinho
Snapshot Date: 2021-05-04 14:50:13 -0400 (Tue, 04 May 2021)
URL: https://git.bioconductor.org/packages/psichomics
Branch: RELEASE_3_12
Last Commit: 7b7d873
Last Changed Date: 2020-10-27 11:18:41 -0400 (Tue, 27 Oct 2020)
malbec1Linux (Ubuntu 18.04.5 LTS) / x86_64  OK    OK    OK  UNNEEDED, same version exists in internal repository
tokay1Windows Server 2012 R2 Standard / x64  OK    OK    TIMEOUT    OK  
merida1macOS 10.14.6 Mojave / x86_64  OK    OK    OK    OK  UNNEEDED, same version exists in internal repository

Summary

Package: psichomics
Version: 1.16.0
Command: /Library/Frameworks/R.framework/Versions/Current/Resources/bin/R CMD build --keep-empty-dirs --no-resave-data psichomics
StartedAt: 2021-05-04 21:26:52 -0400 (Tue, 04 May 2021)
EndedAt: 2021-05-04 21:29:04 -0400 (Tue, 04 May 2021)
EllapsedTime: 132.8 seconds
RetCode: 0
Status:   OK  
PackageFile: psichomics_1.16.0.tar.gz
PackageFileSize: 6.074 MiB

Command output

##############################################################################
##############################################################################
###
### Running command:
###
###   /Library/Frameworks/R.framework/Versions/Current/Resources/bin/R CMD build --keep-empty-dirs --no-resave-data psichomics
###
##############################################################################
##############################################################################


* checking for file ‘psichomics/DESCRIPTION’ ... OK
* preparing ‘psichomics’:
* checking DESCRIPTION meta-information ... OK
* cleaning src
* installing the package to build vignettes
* creating vignettes ... OK
* cleaning src
* checking for LF line-endings in source and make files and shell scripts
* checking for empty or unneeded directories
* building ‘psichomics_1.16.0.tar.gz’