Back to Multiple platform build/check report for BioC 3.12
ABCDEFGHIJKLMNO[P]QRSTUVWXYZ

Multiple platform build/check report for BioC 3.12

All results for package preprocessCore

This page was generated on 2021-05-05 12:09:07 -0400 (Wed, 05 May 2021).

Package 1382/1974HostnameOS / ArchINSTALLBUILDCHECKBUILD BIN
preprocessCore 1.52.1  (landing page)
Ben Bolstad
Snapshot Date: 2021-05-04 14:50:13 -0400 (Tue, 04 May 2021)
URL: https://git.bioconductor.org/packages/preprocessCore
Branch: RELEASE_3_12
Last Commit: 91de4ab
Last Changed Date: 2020-11-24 11:02:23 -0400 (Tue, 24 Nov 2020)
malbec1Linux (Ubuntu 18.04.5 LTS) / x86_64  OK    OK    WARNINGS  UNNEEDED, same version exists in internal repository
tokay1Windows Server 2012 R2 Standard / x64  OK    OK    OK    OK  UNNEEDED, same version exists in internal repository
merida1macOS 10.14.6 Mojave / x86_64  OK    OK    WARNINGS    OK  UNNEEDED, same version exists in internal repository

Results for Bioconductor software packages that depend directly on package preprocessCore

QUICK STATSOS / ArchINSTALLBUILDCHECKBUILD BIN
malbec1Linux (Ubuntu 18.04.5 LTS) / x86_64
0042
0141
00536
tokay1Windows Server 2012 R2 Standard / x64
0042
0240
101029
0040
merida1macOS 10.14.6 Mojave / x86_64
0141
0240
00535
0040
Package 1/42HostnameOS / ArchINSTALLBUILDCHECKBUILD BIN
affy 1.68.0  (landing page)
Rafael A. Irizarry
Last Commit: 1664399
Last Changed Date: 2020-10-27 10:22:11 -0400
malbec1Linux (Ubuntu 18.04.5 LTS) / x86_64  OK    OK    WARNINGS  UNNEEDED, same version exists in internal repository
tokay1Windows Server 2012 R2 Standard / x64  OK    OK    WARNINGS    OK  UNNEEDED, same version exists in internal repository
merida1macOS 10.14.6 Mojave / x86_64  OK    OK    WARNINGS    OK  UNNEEDED, same version exists in internal repository
Package 2/42HostnameOS / ArchINSTALLBUILDCHECKBUILD BIN
affyPLM 1.66.0  (landing page)
Ben Bolstad
Last Commit: f0780c3
Last Changed Date: 2020-10-27 10:22:56 -0400
malbec1Linux (Ubuntu 18.04.5 LTS) / x86_64  OK    OK    OK  UNNEEDED, same version exists in internal repository
tokay1Windows Server 2012 R2 Standard / x64  OK    OK    OK    OK  UNNEEDED, same version exists in internal repository
merida1macOS 10.14.6 Mojave / x86_64  OK    OK    OK    OK  UNNEEDED, same version exists in internal repository
Package 3/42HostnameOS / ArchINSTALLBUILDCHECKBUILD BIN
AgiMicroRna 2.40.0  (landing page)
Pedro Lopez-Romero
Last Commit: cfa4acb
Last Changed Date: 2020-10-27 10:36:25 -0400
malbec1Linux (Ubuntu 18.04.5 LTS) / x86_64  OK    OK    OK  UNNEEDED, same version exists in internal repository
tokay1Windows Server 2012 R2 Standard / x64  OK    OK    OK    OK  UNNEEDED, same version exists in internal repository
merida1macOS 10.14.6 Mojave / x86_64  OK    OK    OK    OK  UNNEEDED, same version exists in internal repository
Package 4/42HostnameOS / ArchINSTALLBUILDCHECKBUILD BIN
bnbc 1.12.0  (landing page)
Kipper Fletez-Brant
Last Commit: 191bf12
Last Changed Date: 2020-10-27 11:28:47 -0400
malbec1Linux (Ubuntu 18.04.5 LTS) / x86_64  OK    OK    OK  UNNEEDED, same version exists in internal repository
tokay1Windows Server 2012 R2 Standard / x64  OK    OK    OK    OK  UNNEEDED, same version exists in internal repository
merida1macOS 10.14.6 Mojave / x86_64  OK    OK    OK    OK  UNNEEDED, same version exists in internal repository
Package 5/42HostnameOS / ArchINSTALLBUILDCHECKBUILD BIN
ChAMP 2.20.1  (landing page)
Yuan Tian
Last Commit: 99ea046
Last Changed Date: 2020-11-02 15:38:54 -0400
malbec1Linux (Ubuntu 18.04.5 LTS) / x86_64  OK    OK    WARNINGS  UNNEEDED, same version exists in internal repository
tokay1Windows Server 2012 R2 Standard / x64  OK    OK    WARNINGS    OK  UNNEEDED, same version exists in internal repository
merida1macOS 10.14.6 Mojave / x86_64  OK    OK    WARNINGS    OK  UNNEEDED, same version exists in internal repository
Package 6/42HostnameOS / ArchINSTALLBUILDCHECKBUILD BIN
cn.farms 1.38.0  (landing page)
Andreas Mitterecker
Last Commit: 4d1b4e0
Last Changed Date: 2020-10-27 10:40:46 -0400
malbec1Linux (Ubuntu 18.04.5 LTS) / x86_64  OK    OK    OK  UNNEEDED, same version exists in internal repository
tokay1Windows Server 2012 R2 Standard / x64  OK    OK    OK    OK  UNNEEDED, same version exists in internal repository
merida1macOS 10.14.6 Mojave / x86_64  OK    OK    OK    OK  UNNEEDED, same version exists in internal repository
Package 7/42HostnameOS / ArchINSTALLBUILDCHECKBUILD BIN
cqn 1.36.0  (landing page)
Kasper Daniel Hansen
Last Commit: 8fe0753
Last Changed Date: 2020-10-27 10:41:55 -0400
malbec1Linux (Ubuntu 18.04.5 LTS) / x86_64  OK    OK    OK  UNNEEDED, same version exists in internal repository
tokay1Windows Server 2012 R2 Standard / x64  OK    OK    OK    OK  UNNEEDED, same version exists in internal repository
merida1macOS 10.14.6 Mojave / x86_64  OK    OK    OK    OK  UNNEEDED, same version exists in internal repository
Package 8/42HostnameOS / ArchINSTALLBUILDCHECKBUILD BIN
crlmm 1.48.0  (landing page)
Benilton S Carvalho
Last Commit: bb8c119
Last Changed Date: 2020-10-27 10:35:27 -0400
malbec1Linux (Ubuntu 18.04.5 LTS) / x86_64  OK    OK    OK  UNNEEDED, same version exists in internal repository
tokay1Windows Server 2012 R2 Standard / x64  OK    OK    WARNINGS    OK  UNNEEDED, same version exists in internal repository
merida1macOS 10.14.6 Mojave / x86_64  OK    OK    OK    OK  UNNEEDED, same version exists in internal repository
Package 9/42HostnameOS / ArchINSTALLBUILDCHECKBUILD BIN
DAPAR 1.22.9  (landing page)
Samuel Wieczorek
Last Commit: 0e5ad9b
Last Changed Date: 2021-04-30 02:40:56 -0400
malbec1Linux (Ubuntu 18.04.5 LTS) / x86_64  OK    OK    OK  UNNEEDED, same version exists in internal repository
tokay1Windows Server 2012 R2 Standard / x64  OK    OK    OK    OK  UNNEEDED, same version exists in internal repository
merida1macOS 10.14.6 Mojave / x86_64  OK    OK    OK    OK  UNNEEDED, same version exists in internal repository
Package 10/42HostnameOS / ArchINSTALLBUILDCHECKBUILD BIN
EMDomics 2.20.0  (landing page)
Sadhika Malladi and Daniel Schmolze
Last Commit: 59aa6de
Last Changed Date: 2020-10-27 11:05:25 -0400
malbec1Linux (Ubuntu 18.04.5 LTS) / x86_64  OK    OK    OK  UNNEEDED, same version exists in internal repository
tokay1Windows Server 2012 R2 Standard / x64  OK    OK    WARNINGS    OK  UNNEEDED, same version exists in internal repository
merida1macOS 10.14.6 Mojave / x86_64  OK    OK    OK    OK  UNNEEDED, same version exists in internal repository
Package 11/42HostnameOS / ArchINSTALLBUILDCHECKBUILD BIN
ENmix 1.26.10  (landing page)
Zongli Xu
Last Commit: c027267
Last Changed Date: 2021-05-01 21:12:03 -0400
malbec1Linux (Ubuntu 18.04.5 LTS) / x86_64  OK    OK    OK  UNNEEDED, same version exists in internal repository
tokay1Windows Server 2012 R2 Standard / x64  OK    OK    OK    OK  UNNEEDED, same version exists in internal repository
merida1macOS 10.14.6 Mojave / x86_64  OK    OK    OK    OK  UNNEEDED, same version exists in internal repository
Package 12/42HostnameOS / ArchINSTALLBUILDCHECKBUILD BIN
ExiMiR 2.32.0  (landing page)
Sylvain Gubian
Last Commit: 67d3866
Last Changed Date: 2020-10-27 10:40:03 -0400
malbec1Linux (Ubuntu 18.04.5 LTS) / x86_64  OK    OK    OK  UNNEEDED, same version exists in internal repository
tokay1Windows Server 2012 R2 Standard / x64  OK    OK    OK    OK  UNNEEDED, same version exists in internal repository
merida1macOS 10.14.6 Mojave / x86_64  OK    OK    OK    OK  UNNEEDED, same version exists in internal repository
Package 13/42HostnameOS / ArchINSTALLBUILDCHECKBUILD BIN
fastLiquidAssociation 1.26.0  (landing page)
Tina Gunderson
Last Commit: b96ec34
Last Changed Date: 2020-10-27 10:56:41 -0400
malbec1Linux (Ubuntu 18.04.5 LTS) / x86_64  OK    OK    WARNINGS  UNNEEDED, same version exists in internal repository
tokay1Windows Server 2012 R2 Standard / x64  OK    OK    WARNINGS    OK  UNNEEDED, same version exists in internal repository
merida1macOS 10.14.6 Mojave / x86_64  OK    OK    WARNINGS    OK  UNNEEDED, same version exists in internal repository
Package 14/42HostnameOS / ArchINSTALLBUILDCHECKBUILD BIN
frma 1.42.0  (landing page)
Matthew N. McCall
Last Commit: 4a819d8
Last Changed Date: 2020-10-27 10:37:17 -0400
malbec1Linux (Ubuntu 18.04.5 LTS) / x86_64  OK    OK    OK  UNNEEDED, same version exists in internal repository
tokay1Windows Server 2012 R2 Standard / x64  OK    OK    OK    OK  UNNEEDED, same version exists in internal repository
merida1macOS 10.14.6 Mojave / x86_64  OK    OK    OK    OK  UNNEEDED, same version exists in internal repository
Package 15/42HostnameOS / ArchINSTALLBUILDCHECKBUILD BIN
frmaTools 1.42.0  (landing page)
Matthew N. McCall
Last Commit: 07b8c0b
Last Changed Date: 2020-10-27 10:37:19 -0400
malbec1Linux (Ubuntu 18.04.5 LTS) / x86_64  OK    OK    OK  UNNEEDED, same version exists in internal repository
tokay1Windows Server 2012 R2 Standard / x64  OK    OK    OK    OK  UNNEEDED, same version exists in internal repository
merida1macOS 10.14.6 Mojave / x86_64  OK    OK    OK    OK  UNNEEDED, same version exists in internal repository
Package 16/42HostnameOS / ArchINSTALLBUILDCHECKBUILD BIN
hipathia 2.6.0  (landing page)
Marta R. Hidalgo
Last Commit: e436824
Last Changed Date: 2020-10-27 11:34:44 -0400
malbec1Linux (Ubuntu 18.04.5 LTS) / x86_64  OK    OK    OK  UNNEEDED, same version exists in internal repository
tokay1Windows Server 2012 R2 Standard / x64  OK    OK    OK    OK  UNNEEDED, same version exists in internal repository
merida1macOS 10.14.6 Mojave / x86_64  OK    OK    OK    OK  UNNEEDED, same version exists in internal repository
Package 17/42HostnameOS / ArchINSTALLBUILDCHECKBUILD BIN
iCheck 1.20.0  (landing page)
Weiliang Qiu
Last Commit: 1221cbb
Last Changed Date: 2020-10-27 11:08:29 -0400
malbec1Linux (Ubuntu 18.04.5 LTS) / x86_64  OK    OK    OK  UNNEEDED, same version exists in internal repository
tokay1Windows Server 2012 R2 Standard / x64  OK    OK    OK    OK  UNNEEDED, same version exists in internal repository
merida1macOS 10.14.6 Mojave / x86_64  ERROR    ERROR  skippedskipped
Package 18/42HostnameOS / ArchINSTALLBUILDCHECKBUILD BIN
ImmuneSpaceR 1.18.1  (landing page)
ImmuneSpace Package Maintainer
Last Commit: e8ef8fc
Last Changed Date: 2020-12-18 16:54:39 -0400
malbec1Linux (Ubuntu 18.04.5 LTS) / x86_64  OK    OK    OK  UNNEEDED, same version exists in internal repository
tokay1Windows Server 2012 R2 Standard / x64  OK    OK    OK    OK  UNNEEDED, same version exists in internal repository
merida1macOS 10.14.6 Mojave / x86_64  OK    OK    OK    OK  UNNEEDED, same version exists in internal repository
Package 19/42HostnameOS / ArchINSTALLBUILDCHECKBUILD BIN
InPAS 1.22.0  (landing page)
Jianhong Ou
Last Commit: f692ba0
Last Changed Date: 2020-10-27 11:03:35 -0400
malbec1Linux (Ubuntu 18.04.5 LTS) / x86_64  OK    OK    OK  UNNEEDED, same version exists in internal repository
tokay1Windows Server 2012 R2 Standard / x64  OK    OK    OK    OK  UNNEEDED, same version exists in internal repository
merida1macOS 10.14.6 Mojave / x86_64  OK    OK    OK    OK  UNNEEDED, same version exists in internal repository
Package 20/42HostnameOS / ArchINSTALLBUILDCHECKBUILD BIN
lumi 2.42.0  (landing page)
Lei Huang
Last Commit: a643b3b
Last Changed Date: 2020-10-27 10:30:06 -0400
malbec1Linux (Ubuntu 18.04.5 LTS) / x86_64  OK    OK    WARNINGS  UNNEEDED, same version exists in internal repository
tokay1Windows Server 2012 R2 Standard / x64  OK    OK    WARNINGS    OK  UNNEEDED, same version exists in internal repository
merida1macOS 10.14.6 Mojave / x86_64  OK    OK    WARNINGS    OK  UNNEEDED, same version exists in internal repository
Package 21/42HostnameOS / ArchINSTALLBUILDCHECKBUILD BIN
MADSEQ 1.16.0  (landing page)
Yu Kong
Last Commit: 970e1fe
Last Changed Date: 2020-10-27 11:15:16 -0400
malbec1Linux (Ubuntu 18.04.5 LTS) / x86_64  OK    OK    OK  UNNEEDED, same version exists in internal repository
tokay1Windows Server 2012 R2 Standard / x64  OK    OK    OK    OK  UNNEEDED, same version exists in internal repository
merida1macOS 10.14.6 Mojave / x86_64  OK    OK    OK    OK  UNNEEDED, same version exists in internal repository
Package 22/42HostnameOS / ArchINSTALLBUILDCHECKBUILD BIN
MBCB 1.44.0  (landing page)
Jeff Allen
Last Commit: f60d92d
Last Changed Date: 2020-10-27 10:38:34 -0400
malbec1Linux (Ubuntu 18.04.5 LTS) / x86_64  OK    OK    OK  UNNEEDED, same version exists in internal repository
tokay1Windows Server 2012 R2 Standard / x64  OK    OK    OK    OK  UNNEEDED, same version exists in internal repository
merida1macOS 10.14.6 Mojave / x86_64  OK    OK    OK    OK  UNNEEDED, same version exists in internal repository
Package 23/42HostnameOS / ArchINSTALLBUILDCHECKBUILD BIN
MBQN 2.2.0  (landing page)
Ariane Schad
Last Commit: f2f16aa
Last Changed Date: 2020-10-27 11:50:46 -0400
malbec1Linux (Ubuntu 18.04.5 LTS) / x86_64  OK    OK    OK  UNNEEDED, same version exists in internal repository
tokay1Windows Server 2012 R2 Standard / x64  OK    OK    OK    OK  UNNEEDED, same version exists in internal repository
merida1macOS 10.14.6 Mojave / x86_64  OK    OK    OK    OK  UNNEEDED, same version exists in internal repository
Package 24/42HostnameOS / ArchINSTALLBUILDCHECKBUILD BIN
MEDIPS 1.42.0  (landing page)
Lukas Chavez
Last Commit: 661e51c
Last Changed Date: 2020-10-27 10:39:33 -0400
malbec1Linux (Ubuntu 18.04.5 LTS) / x86_64  OK    OK    OK  UNNEEDED, same version exists in internal repository
tokay1Windows Server 2012 R2 Standard / x64  OK    OK    OK    OK  UNNEEDED, same version exists in internal repository
merida1macOS 10.14.6 Mojave / x86_64  OK    OK    OK    OK  UNNEEDED, same version exists in internal repository
Package 25/42HostnameOS / ArchINSTALLBUILDCHECKBUILD BIN
mimager 1.14.0  (landing page)
Aaron Wolen
Last Commit: 79b8f00
Last Changed Date: 2020-10-27 11:20:46 -0400
malbec1Linux (Ubuntu 18.04.5 LTS) / x86_64  OK    OK    OK  UNNEEDED, same version exists in internal repository
tokay1Windows Server 2012 R2 Standard / x64  OK    OK    WARNINGS    OK  UNNEEDED, same version exists in internal repository
merida1macOS 10.14.6 Mojave / x86_64  OK    OK    OK    OK  UNNEEDED, same version exists in internal repository
Package 26/42HostnameOS / ArchINSTALLBUILDCHECKBUILD BIN
minfi 1.36.0  (landing page)
Kasper Daniel Hansen
Last Commit: 94301da
Last Changed Date: 2020-10-27 10:43:17 -0400
malbec1Linux (Ubuntu 18.04.5 LTS) / x86_64  OK    OK    OK  UNNEEDED, same version exists in internal repository
tokay1Windows Server 2012 R2 Standard / x64  OK    OK    WARNINGS    OK  UNNEEDED, same version exists in internal repository
merida1macOS 10.14.6 Mojave / x86_64  OK    OK    OK    OK  UNNEEDED, same version exists in internal repository
Package 27/42HostnameOS / ArchINSTALLBUILDCHECKBUILD BIN
MSnbase 2.16.1  (landing page)
Laurent Gatto
Last Commit: 4d88b4e
Last Changed Date: 2021-01-21 09:10:25 -0400
malbec1Linux (Ubuntu 18.04.5 LTS) / x86_64  OK    OK    OK  UNNEEDED, same version exists in internal repository
tokay1Windows Server 2012 R2 Standard / x64  OK    OK    TIMEOUT    OK  
merida1macOS 10.14.6 Mojave / x86_64  OK    OK    OK    OK  UNNEEDED, same version exists in internal repository
Package 28/42HostnameOS / ArchINSTALLBUILDCHECKBUILD BIN
MSPrep 1.0.0  (landing page)
Max McGrath
Last Commit: c320918
Last Changed Date: 2020-10-27 12:01:59 -0400
malbec1Linux (Ubuntu 18.04.5 LTS) / x86_64  OK    OK    OK  UNNEEDED, same version exists in internal repository
tokay1Windows Server 2012 R2 Standard / x64  OK    OK    OK    OK  UNNEEDED, same version exists in internal repository
merida1macOS 10.14.6 Mojave / x86_64  OK    OK    OK    OK  UNNEEDED, same version exists in internal repository
Package 29/42HostnameOS / ArchINSTALLBUILDCHECKBUILD BIN
MSstats 3.22.1  (landing page)
Meena Choi
Last Commit: 8f68dc8
Last Changed Date: 2021-02-25 21:53:34 -0400
malbec1Linux (Ubuntu 18.04.5 LTS) / x86_64  OK    OK    OK  UNNEEDED, same version exists in internal repository
tokay1Windows Server 2012 R2 Standard / x64  OK    OK    OK    OK  UNNEEDED, same version exists in internal repository
merida1macOS 10.14.6 Mojave / x86_64  OK    OK    OK    OK  UNNEEDED, same version exists in internal repository
Package 30/42HostnameOS / ArchINSTALLBUILDCHECKBUILD BIN
NormalyzerDE 1.8.0  (landing page)
Jakob Willforss
Last Commit: 59c5a24
Last Changed Date: 2020-10-27 11:38:30 -0400
malbec1Linux (Ubuntu 18.04.5 LTS) / x86_64  OK    OK    OK  UNNEEDED, same version exists in internal repository
tokay1Windows Server 2012 R2 Standard / x64  OK    OK    OK    OK  UNNEEDED, same version exists in internal repository
merida1macOS 10.14.6 Mojave / x86_64  OK    OK    OK    OK  UNNEEDED, same version exists in internal repository
Package 31/42HostnameOS / ArchINSTALLBUILDCHECKBUILD BIN
oligo 1.54.1  (landing page)
Benilton Carvalho
Last Commit: 4988b63
Last Changed Date: 2020-11-03 14:46:19 -0400
malbec1Linux (Ubuntu 18.04.5 LTS) / x86_64  OK    OK    WARNINGS  UNNEEDED, same version exists in internal repository
tokay1Windows Server 2012 R2 Standard / x64  OK    OK    WARNINGS    OK  UNNEEDED, same version exists in internal repository
merida1macOS 10.14.6 Mojave / x86_64  OK    OK    WARNINGS    OK  UNNEEDED, same version exists in internal repository
Package 32/42HostnameOS / ArchINSTALLBUILDCHECKBUILD BIN
PECA 1.26.0  (landing page)
Tomi Suomi
Last Commit: a39553d
Last Changed Date: 2020-10-27 10:54:02 -0400
malbec1Linux (Ubuntu 18.04.5 LTS) / x86_64  OK    OK    OK  UNNEEDED, same version exists in internal repository
tokay1Windows Server 2012 R2 Standard / x64  OK    OK    OK    OK  UNNEEDED, same version exists in internal repository
merida1macOS 10.14.6 Mojave / x86_64  OK    OK    OK    OK  UNNEEDED, same version exists in internal repository
Package 33/42HostnameOS / ArchINSTALLBUILDCHECKBUILD BIN
PhosR 1.0.0  (landing page)
Taiyun Kim
Last Commit: 39a78ff
Last Changed Date: 2020-10-27 12:01:31 -0400
malbec1Linux (Ubuntu 18.04.5 LTS) / x86_64  OK    OK    OK  UNNEEDED, same version exists in internal repository
tokay1Windows Server 2012 R2 Standard / x64  OK    OK    OK    OK  UNNEEDED, same version exists in internal repository
merida1macOS 10.14.6 Mojave / x86_64  OK    OK    OK    OK  UNNEEDED, same version exists in internal repository
Package 34/42HostnameOS / ArchINSTALLBUILDCHECKBUILD BIN
Pigengene 1.16.0  (landing page)
Habil Zare
Last Commit: 39ec5b3
Last Changed Date: 2020-10-27 11:15:02 -0400
malbec1Linux (Ubuntu 18.04.5 LTS) / x86_64  OK    OK    OK  UNNEEDED, same version exists in internal repository
tokay1Windows Server 2012 R2 Standard / x64  OK    OK    OK    OK  UNNEEDED, same version exists in internal repository
merida1macOS 10.14.6 Mojave / x86_64  OK    OK    OK    OK  UNNEEDED, same version exists in internal repository
Package 35/42HostnameOS / ArchINSTALLBUILDCHECKBUILD BIN
proBatch 1.6.0  (landing page)
Chloe H. Lee
Last Commit: cece206
Last Changed Date: 2020-10-27 11:44:01 -0400
malbec1Linux (Ubuntu 18.04.5 LTS) / x86_64  OK    OK    OK  UNNEEDED, same version exists in internal repository
tokay1Windows Server 2012 R2 Standard / x64  OK    OK    OK    OK  UNNEEDED, same version exists in internal repository
merida1macOS 10.14.6 Mojave / x86_64  OK    OK    OK    OK  UNNEEDED, same version exists in internal repository
Package 36/42HostnameOS / ArchINSTALLBUILDCHECKBUILD BIN
qPLEXanalyzer 1.8.2  (landing page)
Ashley Sawle
Last Commit: 8bdf172
Last Changed Date: 2021-02-01 10:35:26 -0400
malbec1Linux (Ubuntu 18.04.5 LTS) / x86_64  OK    OK    OK  UNNEEDED, same version exists in internal repository
tokay1Windows Server 2012 R2 Standard / x64  OK    OK    OK    OK  UNNEEDED, same version exists in internal repository
merida1macOS 10.14.6 Mojave / x86_64  OK    OK    OK    OK  UNNEEDED, same version exists in internal repository
Package 37/42HostnameOS / ArchINSTALLBUILDCHECKBUILD BIN
RefPlus 1.60.0  (landing page)
Kai-Ming Chang
Last Commit: a13e64f
Last Changed Date: 2020-10-27 10:29:58 -0400
malbec1Linux (Ubuntu 18.04.5 LTS) / x86_64  OK    OK    OK  UNNEEDED, same version exists in internal repository
tokay1Windows Server 2012 R2 Standard / x64  OK    OK    OK    OK  UNNEEDED, same version exists in internal repository
merida1macOS 10.14.6 Mojave / x86_64  OK    OK    OK    OK  UNNEEDED, same version exists in internal repository
Package 38/42HostnameOS / ArchINSTALLBUILDCHECKBUILD BIN
SCATE 1.0.0  (landing page)
Wenpin Hou
Last Commit: 00a484b
Last Changed Date: 2020-10-27 12:00:07 -0400
malbec1Linux (Ubuntu 18.04.5 LTS) / x86_64  OK    OK    OK  UNNEEDED, same version exists in internal repository
tokay1Windows Server 2012 R2 Standard / x64  OK    OK    OK    OK  UNNEEDED, same version exists in internal repository
merida1macOS 10.14.6 Mojave / x86_64  OK    OK    OK    OK  UNNEEDED, same version exists in internal repository
Package 39/42HostnameOS / ArchINSTALLBUILDCHECKBUILD BIN
sesame 1.8.12  (landing page)
Wanding Zhou
Last Commit: 37a1f75
Last Changed Date: 2021-04-29 15:57:06 -0400
malbec1Linux (Ubuntu 18.04.5 LTS) / x86_64  OK    OK    OK  UNNEEDED, same version exists in internal repository
tokay1Windows Server 2012 R2 Standard / x64  OK    ERROR  skippedskipped
merida1macOS 10.14.6 Mojave / x86_64  OK    OK    OK    OK  UNNEEDED, same version exists in internal repository
Package 40/42HostnameOS / ArchINSTALLBUILDCHECKBUILD BIN
soGGi 1.22.0  (landing page)
Tom Carroll
Last Commit: 7f949ee
Last Changed Date: 2020-10-27 11:04:48 -0400
malbec1Linux (Ubuntu 18.04.5 LTS) / x86_64  OK    OK    OK  UNNEEDED, same version exists in internal repository
tokay1Windows Server 2012 R2 Standard / x64  OK    OK    OK    OK  UNNEEDED, same version exists in internal repository
merida1macOS 10.14.6 Mojave / x86_64  OK    OK    OK    OK  UNNEEDED, same version exists in internal repository
Package 41/42HostnameOS / ArchINSTALLBUILDCHECKBUILD BIN
tidybulk 1.2.1  (landing page)
Stefano Mangiola
Last Commit: 15d7391
Last Changed Date: 2021-04-06 00:58:01 -0400
malbec1Linux (Ubuntu 18.04.5 LTS) / x86_64  OK    ERROR  skipped
tokay1Windows Server 2012 R2 Standard / x64  OK    ERROR  skippedskipped
merida1macOS 10.14.6 Mojave / x86_64  OK    ERROR  skippedskipped
Package 42/42HostnameOS / ArchINSTALLBUILDCHECKBUILD BIN
yarn 1.16.0  (landing page)
Joseph N Paulson
Last Commit: ff5a18c
Last Changed Date: 2020-10-27 11:19:26 -0400
malbec1Linux (Ubuntu 18.04.5 LTS) / x86_64  OK    OK    OK  UNNEEDED, same version exists in internal repository
tokay1Windows Server 2012 R2 Standard / x64  OK    OK    WARNINGS    OK  UNNEEDED, same version exists in internal repository
merida1macOS 10.14.6 Mojave / x86_64  OK    OK    OK    OK  UNNEEDED, same version exists in internal repository