Back to Multiple platform build/check report for BioC 3.12
ABCDEFGHIJKLMNO[P]QRSTUVWXYZ

Multiple platform build/check report for BioC 3.12

All results for package pcaMethods

This page was generated on 2021-05-05 12:09:06 -0400 (Wed, 05 May 2021).

Package 1314/1974HostnameOS / ArchINSTALLBUILDCHECKBUILD BIN
pcaMethods 1.82.0  (landing page)
Henning Redestig
Snapshot Date: 2021-05-04 14:50:13 -0400 (Tue, 04 May 2021)
URL: https://git.bioconductor.org/packages/pcaMethods
Branch: RELEASE_3_12
Last Commit: d500b33
Last Changed Date: 2020-10-27 10:29:37 -0400 (Tue, 27 Oct 2020)
malbec1Linux (Ubuntu 18.04.5 LTS) / x86_64  OK    OK    OK  UNNEEDED, same version exists in internal repository
tokay1Windows Server 2012 R2 Standard / x64  OK    OK    OK    OK  UNNEEDED, same version exists in internal repository
merida1macOS 10.14.6 Mojave / x86_64  OK    OK    OK    OK  UNNEEDED, same version exists in internal repository

Results for Bioconductor software packages that depend directly on package pcaMethods

QUICK STATSOS / ArchINSTALLBUILDCHECKBUILD BIN
malbec1Linux (Ubuntu 18.04.5 LTS) / x86_64
0014
0113
00112
tokay1Windows Server 2012 R2 Standard / x64
0014
0014
10310
0014
merida1macOS 10.14.6 Mojave / x86_64
0014
0113
00112
0013
Package 1/14HostnameOS / ArchINSTALLBUILDCHECKBUILD BIN
CompGO 1.26.0  (landing page)
Ashley J. Waardenberg
Last Commit: f5a9442
Last Changed Date: 2020-10-27 10:55:50 -0400
malbec1Linux (Ubuntu 18.04.5 LTS) / x86_64  OK    OK    OK  UNNEEDED, same version exists in internal repository
tokay1Windows Server 2012 R2 Standard / x64  OK    OK    OK    OK  UNNEEDED, same version exists in internal repository
merida1macOS 10.14.6 Mojave / x86_64  OK    OK    OK    OK  UNNEEDED, same version exists in internal repository
Package 2/14HostnameOS / ArchINSTALLBUILDCHECKBUILD BIN
consensusDE 1.8.0  (landing page)
Ashley J. Waardenberg
Last Commit: 0ade359
Last Changed Date: 2020-10-27 11:40:12 -0400
malbec1Linux (Ubuntu 18.04.5 LTS) / x86_64  OK    OK    OK  UNNEEDED, same version exists in internal repository
tokay1Windows Server 2012 R2 Standard / x64  OK    OK    OK    OK  UNNEEDED, same version exists in internal repository
merida1macOS 10.14.6 Mojave / x86_64  OK    OK    OK    OK  UNNEEDED, same version exists in internal repository
Package 3/14HostnameOS / ArchINSTALLBUILDCHECKBUILD BIN
DAPAR 1.22.9  (landing page)
Samuel Wieczorek
Last Commit: 0e5ad9b
Last Changed Date: 2021-04-30 02:40:56 -0400
malbec1Linux (Ubuntu 18.04.5 LTS) / x86_64  OK    OK    OK  UNNEEDED, same version exists in internal repository
tokay1Windows Server 2012 R2 Standard / x64  OK    OK    OK    OK  UNNEEDED, same version exists in internal repository
merida1macOS 10.14.6 Mojave / x86_64  OK    OK    OK    OK  UNNEEDED, same version exists in internal repository
Package 4/14HostnameOS / ArchINSTALLBUILDCHECKBUILD BIN
DeconRNASeq 1.32.0  (landing page)
Ting Gong
Last Commit: d5bc25f
Last Changed Date: 2020-10-27 10:47:16 -0400
malbec1Linux (Ubuntu 18.04.5 LTS) / x86_64  OK    OK    OK  UNNEEDED, same version exists in internal repository
tokay1Windows Server 2012 R2 Standard / x64  OK    OK    OK    OK  UNNEEDED, same version exists in internal repository
merida1macOS 10.14.6 Mojave / x86_64  OK    OK    OK    OK  UNNEEDED, same version exists in internal repository
Package 5/14HostnameOS / ArchINSTALLBUILDCHECKBUILD BIN
destiny 3.4.0  (landing page)
Philipp Angerer
Last Commit: a7323c8
Last Changed Date: 2020-10-27 11:06:55 -0400
malbec1Linux (Ubuntu 18.04.5 LTS) / x86_64  OK    ERROR  skipped
tokay1Windows Server 2012 R2 Standard / x64  OK    OK    WARNINGS    OK  UNNEEDED, same version exists in internal repository
merida1macOS 10.14.6 Mojave / x86_64  OK    ERROR  skippedskipped
Package 6/14HostnameOS / ArchINSTALLBUILDCHECKBUILD BIN
FRASER 1.2.1  (landing page)
Christian Mertes
Last Commit: 9160638
Last Changed Date: 2021-01-31 17:38:49 -0400
malbec1Linux (Ubuntu 18.04.5 LTS) / x86_64  OK    OK    OK  UNNEEDED, same version exists in internal repository
tokay1Windows Server 2012 R2 Standard / x64  OK    OK    OK    OK  UNNEEDED, same version exists in internal repository
merida1macOS 10.14.6 Mojave / x86_64  OK    OK    OK    OK  UNNEEDED, same version exists in internal repository
Package 7/14HostnameOS / ArchINSTALLBUILDCHECKBUILD BIN
MSnbase 2.16.1  (landing page)
Laurent Gatto
Last Commit: 4d88b4e
Last Changed Date: 2021-01-21 09:10:25 -0400
malbec1Linux (Ubuntu 18.04.5 LTS) / x86_64  OK    OK    OK  UNNEEDED, same version exists in internal repository
tokay1Windows Server 2012 R2 Standard / x64  OK    OK    TIMEOUT    OK  
merida1macOS 10.14.6 Mojave / x86_64  OK    OK    OK    OK  UNNEEDED, same version exists in internal repository
Package 8/14HostnameOS / ArchINSTALLBUILDCHECKBUILD BIN
MSPrep 1.0.0  (landing page)
Max McGrath
Last Commit: c320918
Last Changed Date: 2020-10-27 12:01:59 -0400
malbec1Linux (Ubuntu 18.04.5 LTS) / x86_64  OK    OK    OK  UNNEEDED, same version exists in internal repository
tokay1Windows Server 2012 R2 Standard / x64  OK    OK    OK    OK  UNNEEDED, same version exists in internal repository
merida1macOS 10.14.6 Mojave / x86_64  OK    OK    OK    OK  UNNEEDED, same version exists in internal repository
Package 9/14HostnameOS / ArchINSTALLBUILDCHECKBUILD BIN
OUTRIDER 1.8.0  (landing page)
Christian Mertes
Last Commit: ab85565
Last Changed Date: 2020-10-27 11:37:07 -0400
malbec1Linux (Ubuntu 18.04.5 LTS) / x86_64  OK    OK    OK  UNNEEDED, same version exists in internal repository
tokay1Windows Server 2012 R2 Standard / x64  OK    OK    OK    OK  UNNEEDED, same version exists in internal repository
merida1macOS 10.14.6 Mojave / x86_64  OK    OK    OK    OK  UNNEEDED, same version exists in internal repository
Package 10/14HostnameOS / ArchINSTALLBUILDCHECKBUILD BIN
PanVizGenerator 1.18.0  (landing page)
Thomas Lin Pedersen
Last Commit: cc80476
Last Changed Date: 2020-10-27 11:10:37 -0400
malbec1Linux (Ubuntu 18.04.5 LTS) / x86_64  OK    OK    OK  UNNEEDED, same version exists in internal repository
tokay1Windows Server 2012 R2 Standard / x64  OK    OK    OK    OK  UNNEEDED, same version exists in internal repository
merida1macOS 10.14.6 Mojave / x86_64  OK    OK    OK    OK  UNNEEDED, same version exists in internal repository
Package 11/14HostnameOS / ArchINSTALLBUILDCHECKBUILD BIN
PhosR 1.0.0  (landing page)
Taiyun Kim
Last Commit: 39a78ff
Last Changed Date: 2020-10-27 12:01:31 -0400
malbec1Linux (Ubuntu 18.04.5 LTS) / x86_64  OK    OK    OK  UNNEEDED, same version exists in internal repository
tokay1Windows Server 2012 R2 Standard / x64  OK    OK    OK    OK  UNNEEDED, same version exists in internal repository
merida1macOS 10.14.6 Mojave / x86_64  OK    OK    OK    OK  UNNEEDED, same version exists in internal repository
Package 12/14HostnameOS / ArchINSTALLBUILDCHECKBUILD BIN
pmp 1.2.1  (landing page)
Andris Jankevics
Last Commit: 7819432
Last Changed Date: 2021-03-29 04:26:32 -0400
malbec1Linux (Ubuntu 18.04.5 LTS) / x86_64  OK    OK    OK  UNNEEDED, same version exists in internal repository
tokay1Windows Server 2012 R2 Standard / x64  OK    OK    OK    OK  UNNEEDED, same version exists in internal repository
merida1macOS 10.14.6 Mojave / x86_64  OK    OK    OK    OK  UNNEEDED, same version exists in internal repository
Package 13/14HostnameOS / ArchINSTALLBUILDCHECKBUILD BIN
scde 2.18.0  (landing page)
Jean Fan
Last Commit: 34da197
Last Changed Date: 2020-10-27 11:09:27 -0400
malbec1Linux (Ubuntu 18.04.5 LTS) / x86_64  OK    OK    WARNINGS  UNNEEDED, same version exists in internal repository
tokay1Windows Server 2012 R2 Standard / x64  OK    OK    WARNINGS    OK  UNNEEDED, same version exists in internal repository
merida1macOS 10.14.6 Mojave / x86_64  OK    OK    WARNINGS    OK  UNNEEDED, same version exists in internal repository
Package 14/14HostnameOS / ArchINSTALLBUILDCHECKBUILD BIN
SomaticSignatures 2.26.0  (landing page)
Julian Gehring
Last Commit: 9d4bed6
Last Changed Date: 2020-10-27 10:54:37 -0400
malbec1Linux (Ubuntu 18.04.5 LTS) / x86_64  OK    OK    OK  UNNEEDED, same version exists in internal repository
tokay1Windows Server 2012 R2 Standard / x64  OK    OK    WARNINGS    OK  UNNEEDED, same version exists in internal repository
merida1macOS 10.14.6 Mojave / x86_64  OK    OK    OK    OK  UNNEEDED, same version exists in internal repository