Back to Multiple platform build/check report for BioC 3.12
ABCDEFGHIJKLMNO[P]QRSTUVWXYZ

INSTALL report for pathview on tokay1

This page was generated on 2021-05-05 12:12:42 -0400 (Wed, 05 May 2021).

To the developers/maintainers of the pathview package:
Please make sure to use the following settings in order to reproduce any error or warning you see on this page.
Package 1309/1974HostnameOS / ArchINSTALLBUILDCHECKBUILD BIN
pathview 1.30.3  (landing page)
Weijun Luo
Snapshot Date: 2021-05-04 14:50:13 -0400 (Tue, 04 May 2021)
URL: https://git.bioconductor.org/packages/pathview
Branch: RELEASE_3_12
Last Commit: bf29875
Last Changed Date: 2021-04-29 18:38:47 -0400 (Thu, 29 Apr 2021)
malbec1Linux (Ubuntu 18.04.5 LTS) / x86_64  OK    ERROR  skipped
tokay1Windows Server 2012 R2 Standard / x64  OK    ERROR  skippedskipped
merida1macOS 10.14.6 Mojave / x86_64  OK    ERROR  skippedskipped

Summary

Package: pathview
Version: 1.30.3
Command: C:\cygwin\bin\curl.exe -O http://172.29.0.3/BBS/3.12/bioc/src/contrib/pathview_1.30.3.tar.gz && rm -rf pathview.buildbin-libdir && mkdir pathview.buildbin-libdir && C:\Users\biocbuild\bbs-3.12-bioc\R\bin\R.exe CMD INSTALL --merge-multiarch --build --library=pathview.buildbin-libdir pathview_1.30.3.tar.gz && C:\Users\biocbuild\bbs-3.12-bioc\R\bin\R.exe CMD INSTALL pathview_1.30.3.zip && rm pathview_1.30.3.tar.gz pathview_1.30.3.zip
StartedAt: 2021-05-04 17:21:06 -0400 (Tue, 04 May 2021)
EndedAt: 2021-05-04 17:22:02 -0400 (Tue, 04 May 2021)
EllapsedTime: 56.5 seconds
RetCode: 0
Status:   OK   

Command output

##############################################################################
##############################################################################
###
### Running command:
###
###   C:\cygwin\bin\curl.exe -O http://172.29.0.3/BBS/3.12/bioc/src/contrib/pathview_1.30.3.tar.gz && rm -rf pathview.buildbin-libdir && mkdir pathview.buildbin-libdir && C:\Users\biocbuild\bbs-3.12-bioc\R\bin\R.exe CMD INSTALL --merge-multiarch --build --library=pathview.buildbin-libdir pathview_1.30.3.tar.gz && C:\Users\biocbuild\bbs-3.12-bioc\R\bin\R.exe CMD INSTALL pathview_1.30.3.zip && rm pathview_1.30.3.tar.gz pathview_1.30.3.zip
###
##############################################################################
##############################################################################


  % Total    % Received % Xferd  Average Speed   Time    Time     Time  Current
                                 Dload  Upload   Total   Spent    Left  Speed

  0     0    0     0    0     0      0      0 --:--:-- --:--:-- --:--:--     0
100 2184k  100 2184k    0     0  35.4M      0 --:--:-- --:--:-- --:--:-- 36.1M

install for i386

* installing *source* package 'pathview' ...
** using staged installation
** R
** data
*** moving datasets to lazyload DB
** inst
** byte-compile and prepare package for lazy loading
** help
*** installing help indices
  converting help for package 'pathview'
    finding HTML links ... done
    combineKEGGnodes                        html  
    cpd.accs                                html  
    cpdidmap                                html  
    demo.data                               html  
    download.kegg                           html  
    eg2id                                   html  
    kegg.species.code                       html  
    korg                                    html  
    mol.sum                                 html  
    node.color                              html  
    node.info                               html  
    node.map                                html  
    pathview-internal                       html  
    pathview-package                        html  
    pathview                                html  
    sim.mol.data                            html  
    wordwrap                                html  
** building package indices
** installing vignettes
** testing if installed package can be loaded from temporary location
** testing if installed package can be loaded from final location
** testing if installed package keeps a record of temporary installation path

install for x64

* installing *source* package 'pathview' ...
** testing if installed package can be loaded
* MD5 sums
packaged installation of 'pathview' as pathview_1.30.3.zip
* DONE (pathview)
* installing to library 'C:/Users/biocbuild/bbs-3.12-bioc/R/library'
package 'pathview' successfully unpacked and MD5 sums checked