Back to Multiple platform build/check report for BioC 3.12
ABCDEFGHIJKL[M]NOPQRSTUVWXYZ

Multiple platform build/check report for BioC 3.12

All results for package multtest

This page was generated on 2021-05-05 12:09:05 -0400 (Wed, 05 May 2021).

Package 1185/1974HostnameOS / ArchINSTALLBUILDCHECKBUILD BIN
multtest 2.46.0  (landing page)
Katherine S. Pollard
Snapshot Date: 2021-05-04 14:50:13 -0400 (Tue, 04 May 2021)
URL: https://git.bioconductor.org/packages/multtest
Branch: RELEASE_3_12
Last Commit: c4dd27b
Last Changed Date: 2020-10-27 10:21:49 -0400 (Tue, 27 Oct 2020)
malbec1Linux (Ubuntu 18.04.5 LTS) / x86_64  OK    OK    WARNINGS  UNNEEDED, same version exists in internal repository
tokay1Windows Server 2012 R2 Standard / x64  OK    OK    WARNINGS    OK  UNNEEDED, same version exists in internal repository
merida1macOS 10.14.6 Mojave / x86_64  OK    OK    WARNINGS    OK  UNNEEDED, same version exists in internal repository

Results for Bioconductor software packages that depend directly on package multtest

QUICK STATSOS / ArchINSTALLBUILDCHECKBUILD BIN
malbec1Linux (Ubuntu 18.04.5 LTS) / x86_64
0027
0027
01521
tokay1Windows Server 2012 R2 Standard / x64
0027
0027
01818
0027
merida1macOS 10.14.6 Mojave / x86_64
0126
0225
02518
0025
Package 1/27HostnameOS / ArchINSTALLBUILDCHECKBUILD BIN
a4Base 1.38.0  (landing page)
Laure Cougnaud
Last Commit: 4add242
Last Changed Date: 2020-10-27 10:41:12 -0400
malbec1Linux (Ubuntu 18.04.5 LTS) / x86_64  OK    OK    OK  UNNEEDED, same version exists in internal repository
tokay1Windows Server 2012 R2 Standard / x64  OK    OK    WARNINGS    OK  UNNEEDED, same version exists in internal repository
merida1macOS 10.14.6 Mojave / x86_64  OK    OK    OK    OK  UNNEEDED, same version exists in internal repository
Package 2/27HostnameOS / ArchINSTALLBUILDCHECKBUILD BIN
ABarray 1.58.0  (landing page)
Yongming Andrew Sun
Last Commit: 6e6a0ce
Last Changed Date: 2020-10-27 10:28:58 -0400
malbec1Linux (Ubuntu 18.04.5 LTS) / x86_64  OK    OK    OK  UNNEEDED, same version exists in internal repository
tokay1Windows Server 2012 R2 Standard / x64  OK    OK    OK    OK  UNNEEDED, same version exists in internal repository
merida1macOS 10.14.6 Mojave / x86_64  OK    OK    OK    OK  UNNEEDED, same version exists in internal repository
Package 3/27HostnameOS / ArchINSTALLBUILDCHECKBUILD BIN
aCGH 1.68.0  (landing page)
Peter Dimitrov
Last Commit: 91f41a3
Last Changed Date: 2020-10-27 10:24:17 -0400
malbec1Linux (Ubuntu 18.04.5 LTS) / x86_64  OK    OK    OK  UNNEEDED, same version exists in internal repository
tokay1Windows Server 2012 R2 Standard / x64  OK    OK    OK    OK  UNNEEDED, same version exists in internal repository
merida1macOS 10.14.6 Mojave / x86_64  OK    OK    OK    OK  UNNEEDED, same version exists in internal repository
Package 4/27HostnameOS / ArchINSTALLBUILDCHECKBUILD BIN
adSplit 1.60.0  (landing page)
Claudio Lottaz
Last Commit: de5abcc
Last Changed Date: 2020-10-27 10:28:09 -0400
malbec1Linux (Ubuntu 18.04.5 LTS) / x86_64  OK    OK    WARNINGS  UNNEEDED, same version exists in internal repository
tokay1Windows Server 2012 R2 Standard / x64  OK    OK    WARNINGS    OK  UNNEEDED, same version exists in internal repository
merida1macOS 10.14.6 Mojave / x86_64  OK    OK    WARNINGS    OK  UNNEEDED, same version exists in internal repository
Package 5/27HostnameOS / ArchINSTALLBUILDCHECKBUILD BIN
ALDEx2 1.22.0  (landing page)
Greg Gloor
Last Commit: ac7f0ab
Last Changed Date: 2020-10-27 10:59:20 -0400
malbec1Linux (Ubuntu 18.04.5 LTS) / x86_64  OK    OK    OK  UNNEEDED, same version exists in internal repository
tokay1Windows Server 2012 R2 Standard / x64  OK    OK    OK    OK  UNNEEDED, same version exists in internal repository
merida1macOS 10.14.6 Mojave / x86_64  OK    OK    OK    OK  UNNEEDED, same version exists in internal repository
Package 6/27HostnameOS / ArchINSTALLBUILDCHECKBUILD BIN
anota 1.38.0  (landing page)
Ola Larsson
Last Commit: 22f55f9
Last Changed Date: 2020-10-27 10:41:28 -0400
malbec1Linux (Ubuntu 18.04.5 LTS) / x86_64  OK    OK    OK  UNNEEDED, same version exists in internal repository
tokay1Windows Server 2012 R2 Standard / x64  OK    OK    OK    OK  UNNEEDED, same version exists in internal repository
merida1macOS 10.14.6 Mojave / x86_64  OK    OK    OK    OK  UNNEEDED, same version exists in internal repository
Package 7/27HostnameOS / ArchINSTALLBUILDCHECKBUILD BIN
anota2seq 1.12.0  (landing page)
Christian Oertlin , Julie Lorent
Last Commit: 4435c78
Last Changed Date: 2020-10-27 11:28:38 -0400
malbec1Linux (Ubuntu 18.04.5 LTS) / x86_64  OK    OK    OK  UNNEEDED, same version exists in internal repository
tokay1Windows Server 2012 R2 Standard / x64  OK    OK    OK    OK  UNNEEDED, same version exists in internal repository
merida1macOS 10.14.6 Mojave / x86_64  OK    OK    OK    OK  UNNEEDED, same version exists in internal repository
Package 8/27HostnameOS / ArchINSTALLBUILDCHECKBUILD BIN
BicARE 1.48.0  (landing page)
Pierre Gestraud
Last Commit: 15e7609
Last Changed Date: 2020-10-27 10:34:52 -0400
malbec1Linux (Ubuntu 18.04.5 LTS) / x86_64  OK    OK    OK  UNNEEDED, same version exists in internal repository
tokay1Windows Server 2012 R2 Standard / x64  OK    OK    OK    OK  UNNEEDED, same version exists in internal repository
merida1macOS 10.14.6 Mojave / x86_64  OK    OK    OK    OK  UNNEEDED, same version exists in internal repository
Package 9/27HostnameOS / ArchINSTALLBUILDCHECKBUILD BIN
ChIPpeakAnno 3.24.2  (landing page)
Jianhong Ou
Last Commit: 09d9fec
Last Changed Date: 2021-03-30 09:36:14 -0400
malbec1Linux (Ubuntu 18.04.5 LTS) / x86_64  OK    OK    OK  UNNEEDED, same version exists in internal repository
tokay1Windows Server 2012 R2 Standard / x64  OK    OK    OK    OK  UNNEEDED, same version exists in internal repository
merida1macOS 10.14.6 Mojave / x86_64  OK    OK    OK    OK  UNNEEDED, same version exists in internal repository
Package 10/27HostnameOS / ArchINSTALLBUILDCHECKBUILD BIN
iPAC 1.34.0  (landing page)
Gregory Ryslik
Last Commit: 1cfe274
Last Changed Date: 2020-10-27 10:46:34 -0400
malbec1Linux (Ubuntu 18.04.5 LTS) / x86_64  OK    OK    OK  UNNEEDED, same version exists in internal repository
tokay1Windows Server 2012 R2 Standard / x64  OK    OK    OK    OK  UNNEEDED, same version exists in internal repository
merida1macOS 10.14.6 Mojave / x86_64  OK    OK    ERROR    OK  
Package 11/27HostnameOS / ArchINSTALLBUILDCHECKBUILD BIN
IsoGeneGUI 2.26.0  (landing page)
Setia Pramana
Last Commit: 5abb439
Last Changed Date: 2020-10-27 10:38:37 -0400
malbec1Linux (Ubuntu 18.04.5 LTS) / x86_64  OK    OK    OK  UNNEEDED, same version exists in internal repository
tokay1Windows Server 2012 R2 Standard / x64  OK    OK    OK    OK  UNNEEDED, same version exists in internal repository
merida1macOS 10.14.6 Mojave / x86_64  OK    OK    OK    OK  UNNEEDED, same version exists in internal repository
Package 12/27HostnameOS / ArchINSTALLBUILDCHECKBUILD BIN
KCsmart 2.48.0  (landing page)
Jorma de Ronde
Last Commit: 69342a2
Last Changed Date: 2020-10-27 10:34:33 -0400
malbec1Linux (Ubuntu 18.04.5 LTS) / x86_64  OK    OK    WARNINGS  UNNEEDED, same version exists in internal repository
tokay1Windows Server 2012 R2 Standard / x64  OK    OK    WARNINGS    OK  UNNEEDED, same version exists in internal repository
merida1macOS 10.14.6 Mojave / x86_64  OK    OK    WARNINGS    OK  UNNEEDED, same version exists in internal repository
Package 13/27HostnameOS / ArchINSTALLBUILDCHECKBUILD BIN
mAPKL 1.20.0  (landing page)
Argiris Sakellariou
Last Commit: 68b77e0
Last Changed Date: 2020-10-27 11:01:59 -0400
malbec1Linux (Ubuntu 18.04.5 LTS) / x86_64  OK    OK    OK  UNNEEDED, same version exists in internal repository
tokay1Windows Server 2012 R2 Standard / x64  OK    OK    OK    OK  UNNEEDED, same version exists in internal repository
merida1macOS 10.14.6 Mojave / x86_64  ERROR    ERROR  skippedskipped
Package 14/27HostnameOS / ArchINSTALLBUILDCHECKBUILD BIN
metabomxtr 1.24.0  (landing page)
Michael Nodzenski
Last Commit: fe3d767
Last Changed Date: 2020-10-27 10:57:58 -0400
malbec1Linux (Ubuntu 18.04.5 LTS) / x86_64  OK    OK    OK  UNNEEDED, same version exists in internal repository
tokay1Windows Server 2012 R2 Standard / x64  OK    OK    OK    OK  UNNEEDED, same version exists in internal repository
merida1macOS 10.14.6 Mojave / x86_64  OK    OK    OK    OK  UNNEEDED, same version exists in internal repository
Package 15/27HostnameOS / ArchINSTALLBUILDCHECKBUILD BIN
nethet 1.22.0  (landing page)
Nicolas Staedler
Last Commit: 09eb075
Last Changed Date: 2020-10-27 11:01:24 -0400
malbec1Linux (Ubuntu 18.04.5 LTS) / x86_64  OK    OK    WARNINGS  UNNEEDED, same version exists in internal repository
tokay1Windows Server 2012 R2 Standard / x64  OK    OK    WARNINGS    OK  UNNEEDED, same version exists in internal repository
merida1macOS 10.14.6 Mojave / x86_64  OK    OK    WARNINGS    OK  UNNEEDED, same version exists in internal repository
Package 16/27HostnameOS / ArchINSTALLBUILDCHECKBUILD BIN
OCplus 1.64.0  (landing page)
Alexander Ploner
Last Commit: 41fcc52
Last Changed Date: 2020-10-27 10:28:21 -0400
malbec1Linux (Ubuntu 18.04.5 LTS) / x86_64  OK    OK    OK  UNNEEDED, same version exists in internal repository
tokay1Windows Server 2012 R2 Standard / x64  OK    OK    OK    OK  UNNEEDED, same version exists in internal repository
merida1macOS 10.14.6 Mojave / x86_64  OK    OK    OK    OK  UNNEEDED, same version exists in internal repository
Package 17/27HostnameOS / ArchINSTALLBUILDCHECKBUILD BIN
phyloseq 1.34.0  (landing page)
Paul J. McMurdie
Last Commit: cbed93e
Last Changed Date: 2020-10-27 10:44:40 -0400
malbec1Linux (Ubuntu 18.04.5 LTS) / x86_64  OK    OK    OK  UNNEEDED, same version exists in internal repository
tokay1Windows Server 2012 R2 Standard / x64  OK    OK    WARNINGS    OK  UNNEEDED, same version exists in internal repository
merida1macOS 10.14.6 Mojave / x86_64  OK    OK    OK    OK  UNNEEDED, same version exists in internal repository
Package 18/27HostnameOS / ArchINSTALLBUILDCHECKBUILD BIN
PREDA 1.36.0  (landing page)
Francesco Ferrari
Last Commit: bf51167
Last Changed Date: 2020-10-27 10:42:27 -0400
malbec1Linux (Ubuntu 18.04.5 LTS) / x86_64  OK    OK    WARNINGS  UNNEEDED, same version exists in internal repository
tokay1Windows Server 2012 R2 Standard / x64  OK    OK    WARNINGS    OK  UNNEEDED, same version exists in internal repository
merida1macOS 10.14.6 Mojave / x86_64  OK    OK    WARNINGS    OK  UNNEEDED, same version exists in internal repository
Package 19/27HostnameOS / ArchINSTALLBUILDCHECKBUILD BIN
rain 1.24.0  (landing page)
Paul F. Thaben
Last Commit: 55cddbc
Last Changed Date: 2020-10-27 10:58:43 -0400
malbec1Linux (Ubuntu 18.04.5 LTS) / x86_64  OK    OK    OK  UNNEEDED, same version exists in internal repository
tokay1Windows Server 2012 R2 Standard / x64  OK    OK    OK    OK  UNNEEDED, same version exists in internal repository
merida1macOS 10.14.6 Mojave / x86_64  OK    ERROR  skippedskipped
Package 20/27HostnameOS / ArchINSTALLBUILDCHECKBUILD BIN
REDseq 1.36.0  (landing page)
Lihua Julie Zhu
Last Commit: 89a4802
Last Changed Date: 2020-10-27 10:41:39 -0400
malbec1Linux (Ubuntu 18.04.5 LTS) / x86_64  OK    OK    OK  UNNEEDED, same version exists in internal repository
tokay1Windows Server 2012 R2 Standard / x64  OK    OK    OK    OK  UNNEEDED, same version exists in internal repository
merida1macOS 10.14.6 Mojave / x86_64  OK    OK    OK    OK  UNNEEDED, same version exists in internal repository
Package 21/27HostnameOS / ArchINSTALLBUILDCHECKBUILD BIN
RTopper 1.36.0  (landing page)
Luigi Marchionni
Last Commit: 99d7d0a
Last Changed Date: 2020-10-27 10:42:47 -0400
malbec1Linux (Ubuntu 18.04.5 LTS) / x86_64  OK    OK    OK  UNNEEDED, same version exists in internal repository
tokay1Windows Server 2012 R2 Standard / x64  OK    OK    WARNINGS    OK  UNNEEDED, same version exists in internal repository
merida1macOS 10.14.6 Mojave / x86_64  OK    OK    OK    OK  UNNEEDED, same version exists in internal repository
Package 22/27HostnameOS / ArchINSTALLBUILDCHECKBUILD BIN
SAGx 1.64.0  (landing page)
Per Broberg,
Last Commit: ed2c638
Last Changed Date: 2020-10-27 10:29:34 -0400
malbec1Linux (Ubuntu 18.04.5 LTS) / x86_64  OK    OK    OK  UNNEEDED, same version exists in internal repository
tokay1Windows Server 2012 R2 Standard / x64  OK    OK    OK    OK  UNNEEDED, same version exists in internal repository
merida1macOS 10.14.6 Mojave / x86_64  OK    OK    OK    OK  UNNEEDED, same version exists in internal repository
Package 23/27HostnameOS / ArchINSTALLBUILDCHECKBUILD BIN
siggenes 1.64.0  (landing page)
Holger Schwender
Last Commit: 3b528d3
Last Changed Date: 2020-10-27 10:22:39 -0400
malbec1Linux (Ubuntu 18.04.5 LTS) / x86_64  OK    OK    OK  UNNEEDED, same version exists in internal repository
tokay1Windows Server 2012 R2 Standard / x64  OK    OK    OK    OK  UNNEEDED, same version exists in internal repository
merida1macOS 10.14.6 Mojave / x86_64  OK    OK    OK    OK  UNNEEDED, same version exists in internal repository
Package 24/27HostnameOS / ArchINSTALLBUILDCHECKBUILD BIN
SingleCellSignalR 1.2.0  (landing page)
Jacques Colinge
Last Commit: 666b92d
Last Changed Date: 2020-10-27 11:56:58 -0400
malbec1Linux (Ubuntu 18.04.5 LTS) / x86_64  OK    OK    OK  UNNEEDED, same version exists in internal repository
tokay1Windows Server 2012 R2 Standard / x64  OK    OK    OK    OK  UNNEEDED, same version exists in internal repository
merida1macOS 10.14.6 Mojave / x86_64  OK    OK    OK    OK  UNNEEDED, same version exists in internal repository
Package 25/27HostnameOS / ArchINSTALLBUILDCHECKBUILD BIN
singleCellTK 2.0.0  (landing page)
Yusuke Koga
Last Commit: e97b135
Last Changed Date: 2020-10-27 11:34:50 -0400
malbec1Linux (Ubuntu 18.04.5 LTS) / x86_64  OK    OK    ERROR  
tokay1Windows Server 2012 R2 Standard / x64  OK    OK    ERROR    OK  
merida1macOS 10.14.6 Mojave / x86_64  OK    OK    ERROR    OK  
Package 26/27HostnameOS / ArchINSTALLBUILDCHECKBUILD BIN
synapter 2.14.0  (landing page)
Laurent Gatto
Last Commit: 8cbfb2c
Last Changed Date: 2020-10-27 10:46:22 -0400
malbec1Linux (Ubuntu 18.04.5 LTS) / x86_64  OK    OK    OK  UNNEEDED, same version exists in internal repository
tokay1Windows Server 2012 R2 Standard / x64  OK    OK    OK    OK  UNNEEDED, same version exists in internal repository
merida1macOS 10.14.6 Mojave / x86_64  OK    OK    OK    OK  UNNEEDED, same version exists in internal repository
Package 27/27HostnameOS / ArchINSTALLBUILDCHECKBUILD BIN
webbioc 1.62.0  (landing page)
Colin A. Smith
Last Commit: d2a6ff9
Last Changed Date: 2020-10-27 10:23:07 -0400
malbec1Linux (Ubuntu 18.04.5 LTS) / x86_64  OK    OK    WARNINGS  UNNEEDED, same version exists in internal repository
tokay1Windows Server 2012 R2 Standard / x64  OK    OK    WARNINGS    OK  UNNEEDED, same version exists in internal repository
merida1macOS 10.14.6 Mojave / x86_64  OK    OK    WARNINGS    OK  UNNEEDED, same version exists in internal repository