Back to Multiple platform build/check report for BioC 3.12
ABCDEFGHIJKL[M]NOPQRSTUVWXYZ

Multiple platform build/check report for BioC 3.12

All results for package multiGSEA

This page was generated on 2021-05-05 12:09:05 -0400 (Wed, 05 May 2021).

Package 1179/1974HostnameOS / ArchINSTALLBUILDCHECKBUILD BIN
multiGSEA 1.0.2  (landing page)
Sebastian Canzler
Snapshot Date: 2021-05-04 14:50:13 -0400 (Tue, 04 May 2021)
URL: https://git.bioconductor.org/packages/multiGSEA
Branch: RELEASE_3_12
Last Commit: 2dc0f3c
Last Changed Date: 2021-04-21 15:08:46 -0400 (Wed, 21 Apr 2021)
malbec1Linux (Ubuntu 18.04.5 LTS) / x86_64  OK    OK    OK  UNNEEDED, same version exists in internal repository
tokay1Windows Server 2012 R2 Standard / x64  OK    OK    OK    OK  UNNEEDED, same version exists in internal repository
merida1macOS 10.14.6 Mojave / x86_64  OK    OK    OK    OK  UNNEEDED, same version exists in internal repository