Back to Multiple platform build/check report for BioC 3.12
ABCDEFGHIJKL[M]NOPQRSTUVWXYZ

BUILD BIN report for mirIntegrator on merida1

This page was generated on 2021-05-05 12:14:43 -0400 (Wed, 05 May 2021).

To the developers/maintainers of the mirIntegrator package:
Please make sure to use the following settings in order to reproduce any error or warning you see on this page.
Package 1110/1974HostnameOS / ArchINSTALLBUILDCHECKBUILD BIN
mirIntegrator 1.20.0  (landing page)
Diana Diaz
Snapshot Date: 2021-05-04 14:50:13 -0400 (Tue, 04 May 2021)
URL: https://git.bioconductor.org/packages/mirIntegrator
Branch: RELEASE_3_12
Last Commit: ff6ceea
Last Changed Date: 2020-10-27 11:05:55 -0400 (Tue, 27 Oct 2020)
malbec1Linux (Ubuntu 18.04.5 LTS) / x86_64  OK    OK    OK  UNNEEDED, same version exists in internal repository
tokay1Windows Server 2012 R2 Standard / x64  OK    OK    OK    OK  UNNEEDED, same version exists in internal repository
merida1macOS 10.14.6 Mojave / x86_64  OK    OK    OK    OK  UNNEEDED, same version exists in internal repository

Summary

Package: mirIntegrator
Version: 1.20.0
Command: rm -rf mirIntegrator.buildbin-libdir && mkdir mirIntegrator.buildbin-libdir && /Users/biocbuild/BBS/utils/build-universal.sh mirIntegrator_1.20.0.tar.gz /Library/Frameworks/R.framework/Versions/Current/Resources/bin/R mirIntegrator.buildbin-libdir
StartedAt: 2021-05-05 09:40:44 -0400 (Wed, 05 May 2021)
EndedAt: 2021-05-05 09:41:45 -0400 (Wed, 05 May 2021)
EllapsedTime: 60.8 seconds
RetCode: 0
Status:   OK  
PackageFile: mirIntegrator_1.20.0.tgz
PackageFileSize: 1.758 MiB

Command output

##############################################################################
##############################################################################
###
### Running command:
###
###   rm -rf mirIntegrator.buildbin-libdir && mkdir mirIntegrator.buildbin-libdir && /Users/biocbuild/BBS/utils/build-universal.sh mirIntegrator_1.20.0.tar.gz /Library/Frameworks/R.framework/Versions/Current/Resources/bin/R mirIntegrator.buildbin-libdir
###
##############################################################################
##############################################################################


>>>>>>> 
>>>>>>> INSTALLATION WITH 'R CMD INSTALL --preclean --no-multiarch --library=mirIntegrator.buildbin-libdir mirIntegrator_1.20.0.tar.gz'
>>>>>>> 

* installing *source* package ‘mirIntegrator’ ...
** using staged installation
** R
** data
** inst
** byte-compile and prepare package for lazy loading
** help
*** installing help indices
** building package indices
** installing vignettes
** testing if installed package can be loaded from temporary location
** testing if installed package can be loaded from final location
** testing if installed package keeps a record of temporary installation path
* DONE (mirIntegrator)