Back to Multiple platform build/check report for BioC 3.12
ABCDEFGHIJKL[M]NOPQRSTUVWXYZ

BUILD report for methylGSA on merida1

This page was generated on 2021-05-05 12:14:40 -0400 (Wed, 05 May 2021).

To the developers/maintainers of the methylGSA package:
Please make sure to use the following settings in order to reproduce any error or warning you see on this page.
Package 1075/1974HostnameOS / ArchINSTALLBUILDCHECKBUILD BIN
methylGSA 1.8.0  (landing page)
Xu Ren
Snapshot Date: 2021-05-04 14:50:13 -0400 (Tue, 04 May 2021)
URL: https://git.bioconductor.org/packages/methylGSA
Branch: RELEASE_3_12
Last Commit: 1c2e892
Last Changed Date: 2020-10-27 11:36:53 -0400 (Tue, 27 Oct 2020)
malbec1Linux (Ubuntu 18.04.5 LTS) / x86_64  OK    OK    OK  UNNEEDED, same version exists in internal repository
tokay1Windows Server 2012 R2 Standard / x64  OK    OK    OK    OK  UNNEEDED, same version exists in internal repository
merida1macOS 10.14.6 Mojave / x86_64  OK    OK    OK    OK  UNNEEDED, same version exists in internal repository

Summary

Package: methylGSA
Version: 1.8.0
Command: /Library/Frameworks/R.framework/Versions/Current/Resources/bin/R CMD build --keep-empty-dirs --no-resave-data methylGSA
StartedAt: 2021-05-04 20:37:25 -0400 (Tue, 04 May 2021)
EndedAt: 2021-05-04 20:39:46 -0400 (Tue, 04 May 2021)
EllapsedTime: 140.3 seconds
RetCode: 0
Status:   OK  
PackageFile: methylGSA_1.8.0.tar.gz
PackageFileSize: 3.13 MiB

Command output

##############################################################################
##############################################################################
###
### Running command:
###
###   /Library/Frameworks/R.framework/Versions/Current/Resources/bin/R CMD build --keep-empty-dirs --no-resave-data methylGSA
###
##############################################################################
##############################################################################


* checking for file ‘methylGSA/DESCRIPTION’ ... OK
* preparing ‘methylGSA’:
* checking DESCRIPTION meta-information ... OK
* installing the package to build vignettes
* creating vignettes ... OK
* checking for LF line-endings in source and make files and shell scripts
* checking for empty or unneeded directories
* looking to see if a ‘data/datalist’ file should be added
* building ‘methylGSA_1.8.0.tar.gz’