Back to Multiple platform build/check report for BioC 3.12

All results on malbec1

This page was generated on 2021-05-06 12:37:22 -0400 (Thu, 06 May 2021).

Package status is indicated by one of the following glyphs
  TIMEOUT  
INSTALL, BUILD, CHECK or BUILD BIN of package took more than 40 minutes
  ERROR  
Bad DESCRIPTION file or INSTALL, BUILD or BUILD BIN of package failed, or CHECK produced errors
  WARNINGS  
CHECK of package produced warnings
  OK  
INSTALL, BUILD, CHECK or BUILD BIN of package was OK
skipped
CHECK or BUILD BIN of package was skipped because the BUILD step failed
  NA  
BUILD, CHECK or BUILD BIN result is not available because of an anomaly in the Build System
Click on any glyph in the report below to access the detailed report.
Package propagation status is indicated by one of the following LEDs
YES YES: Package was propagated because it didn't previously exist or version was bumped
NO NO: Package was not propagated because of a problem (impossible dependencies, or version lower than what is already propagated)
UNNEEDED UNNEEDED: Package was not propagated because it is already in the repository with this version. A version bump is required in order to propagate it

A crossed-out package name indicates the package is deprecated


QUICK STATSOS / ArchINSTALLBUILDCHECKBUILD BIN
malbec1Linux (Ubuntu 18.04.5 LTS) / x86_64
0231950
0651908
1472881572
tokay1Windows Server 2012 R2 Standard / x64
0251919
1751868
7644121385
031865
merida1macOS 10.14.6 Mojave / x86_64
0421921
0831880
1552771547
011879
A
ABCDEFGHIJKLMNOPQRSTUVWXYZ
PackageMaintainerINSTALLBUILDCHECKBUILD BIN
1/1974a4 1.38.0  (landing page)Laure Cougnaud  OK    OK    OK  UNNEEDED, same version exists in internal repository
2/1974a4Base 1.38.0  (landing page)Laure Cougnaud  OK    OK    OK  UNNEEDED, same version exists in internal repository
3/1974a4Classif 1.38.0  (landing page)Laure Cougnaud  OK    OK    OK  UNNEEDED, same version exists in internal repository
4/1974a4Core 1.38.0  (landing page)Laure Cougnaud  OK    OK    OK  UNNEEDED, same version exists in internal repository
5/1974a4Preproc 1.38.0  (landing page)Laure Cougnaud  OK    OK    OK  UNNEEDED, same version exists in internal repository
6/1974a4Reporting 1.38.0  (landing page)Laure Cougnaud  OK    OK    OK  UNNEEDED, same version exists in internal repository
7/1974ABAEnrichment 1.20.0  (landing page)Steffi Grote  OK    OK    OK  UNNEEDED, same version exists in internal repository
8/1974ABarray 1.58.0  (landing page)Yongming Andrew Sun  OK    OK    OK  UNNEEDED, same version exists in internal repository
9/1974abseqR 1.8.0  (landing page)JiaHong Fong  OK    OK    OK  UNNEEDED, same version exists in internal repository
10/1974ABSSeq 1.44.0  (landing page)Wentao Yang  OK    OK    OK  UNNEEDED, same version exists in internal repository
11/1974acde 1.20.0  (landing page)Juan Pablo Acosta  OK    OK    OK  UNNEEDED, same version exists in internal repository
12/1974ACE 1.8.0  (landing page)Jos B Poell  OK    OK    OK  UNNEEDED, same version exists in internal repository
13/1974aCGH 1.68.0  (landing page)Peter Dimitrov  OK    OK    OK  UNNEEDED, same version exists in internal repository
14/1974ACME 2.46.0  (landing page)Sean Davis  OK    OK    WARNINGS  UNNEEDED, same version exists in internal repository
15/1974ADaCGH2 2.30.0  (landing page)Ramon Diaz-Uriarte  OK    OK    OK  UNNEEDED, same version exists in internal repository
16/1974ADAM 1.6.0  (landing page)Jose Luiz Rybarczyk Filho  OK    OK    OK  UNNEEDED, same version exists in internal repository
17/1974ADAMgui 1.6.0  (landing page)Jose Luiz Rybarczyk Filho  OK    OK    OK  UNNEEDED, same version exists in internal repository
18/1974adaptest 1.10.0  (landing page)Weixin Cai  OK    OK    ERROR  
19/1974adductomicsR 1.6.0  (landing page)Josie Hayes  OK    OK    WARNINGS  UNNEEDED, same version exists in internal repository
20/1974ADImpute 1.0.0  (landing page)Ana Carolina Leote  OK    OK    WARNINGS  UNNEEDED, same version exists in internal repository
21/1974adSplit 1.60.0  (landing page)Claudio Lottaz  OK    OK    WARNINGS  UNNEEDED, same version exists in internal repository
22/1974AffiXcan 1.8.0  (landing page)Alessandro Lussana  OK    OK    OK  UNNEEDED, same version exists in internal repository
23/1974affxparser 1.62.0  (landing page)Kasper Daniel Hansen  OK    OK    WARNINGS  UNNEEDED, same version exists in internal repository
24/1974affy 1.68.0  (landing page)Rafael A. Irizarry  OK    OK    WARNINGS  UNNEEDED, same version exists in internal repository
25/1974affycomp 1.66.0  (landing page)Rafael A. Irizarry  OK    OK    OK  UNNEEDED, same version exists in internal repository
26/1974AffyCompatible 1.50.0  (landing page)Martin Morgan  OK    OK    OK  UNNEEDED, same version exists in internal repository
27/1974affyContam 1.48.0  (landing page)V. Carey  OK    OK    OK  UNNEEDED, same version exists in internal repository
28/1974affycoretools 1.62.0  (landing page)James W. MacDonald  OK    OK    OK  UNNEEDED, same version exists in internal repository
29/1974AffyExpress 1.56.0  (landing page)Xuejun Arthur Li  OK    OK    OK  UNNEEDED, same version exists in internal repository
30/1974affyILM 1.42.0  (landing page)Myriam Kroll and Fabrice Berger  OK    OK    OK  UNNEEDED, same version exists in internal repository
31/1974affyio 1.60.0  (landing page)Ben Bolstad  OK    OK    OK  UNNEEDED, same version exists in internal repository
32/1974affylmGUI 1.64.0  (landing page)Gordon Smyth  OK    OK    OK  UNNEEDED, same version exists in internal repository
33/1974affyPara 1.50.0  (landing page)Markus Schmidberger  OK    OK    OK  UNNEEDED, same version exists in internal repository
34/1974affyPLM 1.66.0  (landing page)Ben Bolstad  OK    OK    OK  UNNEEDED, same version exists in internal repository
35/1974affyQCReport 1.68.0  (landing page)Craig Parman  OK    OK    OK  UNNEEDED, same version exists in internal repository
36/1974AffyRNADegradation 1.36.0  (landing page)Mario Fasold  OK    OK    OK  UNNEEDED, same version exists in internal repository
37/1974AGDEX 1.38.0  (landing page)Cuilan lani Gao  OK    OK    OK  UNNEEDED, same version exists in internal repository
38/1974aggregateBioVar 1.0.0  (landing page)Jason Ratcliff  OK    OK    OK  UNNEEDED, same version exists in internal repository
39/1974agilp 3.22.0  (landing page)Benny Chain  OK    OK    OK  UNNEEDED, same version exists in internal repository
40/1974AgiMicroRna 2.40.0  (landing page)Pedro Lopez-Romero  OK    OK    OK  UNNEEDED, same version exists in internal repository
41/1974AIMS 1.22.0  (landing page)Eric R Paquet  OK    OK    OK  UNNEEDED, same version exists in internal repository
42/1974ALDEx2 1.22.0  (landing page)Greg Gloor  OK    OK    OK  UNNEEDED, same version exists in internal repository
43/1974alevinQC 1.6.1  (landing page)Charlotte Soneson  OK    OK    OK  UNNEEDED, same version exists in internal repository
44/1974AllelicImbalance 1.28.0  (landing page)Jesper R Gadin  OK    OK    OK  UNNEEDED, same version exists in internal repository
45/1974AlphaBeta 1.4.0  (landing page)Yadollah Shahryary Dizaji  OK    OK    OK  UNNEEDED, same version exists in internal repository
46/1974alpine 1.16.0  (landing page)Michael Love  OK    OK    OK  UNNEEDED, same version exists in internal repository
47/1974ALPS 1.4.0  (landing page)Venu Thatikonda  OK    OK    OK  UNNEEDED, same version exists in internal repository
48/1974AlpsNMR 3.0.6  (landing page)Luis Fernandez  OK    OK    ERROR  
49/1974alsace 1.26.0  (landing page)Ron Wehrens  OK    OK    OK  UNNEEDED, same version exists in internal repository
50/1974altcdfenvs 2.52.0  (landing page)Laurent Gautier  OK    OK    OK  UNNEEDED, same version exists in internal repository
51/1974AMARETTO 1.6.0  (landing page)Olivier Gevaert  OK    OK    OK  UNNEEDED, same version exists in internal repository
52/1974AMOUNTAIN 1.16.0  (landing page)Dong Li  OK    OK    OK  UNNEEDED, same version exists in internal repository
53/1974amplican 1.12.0  (landing page)Eivind Valen  OK    OK    OK  UNNEEDED, same version exists in internal repository
54/1974Anaquin 2.14.0  (landing page)Ted Wong  OK    OK    OK  UNNEEDED, same version exists in internal repository
55/1974ANCOMBC 1.0.5  (landing page)Huang Lin  OK    OK    OK  UNNEEDED, same version exists in internal repository
56/1974AneuFinder 1.18.0  (landing page)Aaron Taudt  OK    OK    OK  UNNEEDED, same version exists in internal repository
57/1974ANF 1.12.0  (landing page)Tianle Ma  OK    OK    ERROR  
58/1974animalcules 1.6.0  (landing page)Yue Zhao  ERROR    ERROR  skipped
59/1974annaffy 1.62.0  (landing page)Colin A. Smith  OK    OK    WARNINGS  UNNEEDED, same version exists in internal repository
60/1974annmap 1.32.0  (landing page)Chris Wirth  OK    OK    WARNINGS  UNNEEDED, same version exists in internal repository
61/1974annotate 1.68.0  (landing page)Bioconductor Package Maintainer  OK    OK    OK  UNNEEDED, same version exists in internal repository
62/1974AnnotationDbi 1.52.0  (landing page)Bioconductor Package Maintainer  OK    OK    OK  UNNEEDED, same version exists in internal repository
63/1974AnnotationFilter 1.14.0  (landing page)Bioconductor Package Maintainer  OK    OK    OK  UNNEEDED, same version exists in internal repository
64/1974AnnotationForge 1.32.0  (landing page)Bioconductor Package Maintainer  OK    OK    OK  UNNEEDED, same version exists in internal repository
65/1974AnnotationFuncs 1.40.0  (landing page)Stefan McKinnon Edwards  OK    OK    OK  UNNEEDED, same version exists in internal repository
66/1974AnnotationHub 2.22.1  (landing page)Bioconductor Package Maintainer  OK    OK    WARNINGS  UNNEEDED, same version exists in internal repository
67/1974AnnotationHubData 1.20.2  (landing page)Bioconductor Package Maintainer  OK    OK    WARNINGS  UNNEEDED, same version exists in internal repository
68/1974annotationTools 1.64.0  (landing page)Alexandre Kuhn  OK    OK    OK  UNNEEDED, same version exists in internal repository
69/1974annotatr 1.16.0  (landing page)Raymond G. Cavalcante  OK    OK    OK  UNNEEDED, same version exists in internal repository
70/1974anota 1.38.0  (landing page)Ola Larsson  OK    OK    OK  UNNEEDED, same version exists in internal repository
71/1974anota2seq 1.12.0  (landing page)Christian Oertlin , Julie Lorent  OK    OK    OK  UNNEEDED, same version exists in internal repository
72/1974antiProfiles 1.30.0  (landing page)Hector Corrada Bravo  OK    OK    OK  UNNEEDED, same version exists in internal repository
73/1974AnVIL 1.2.1  (landing page)Martin Morgan  OK    OK    OK  UNNEEDED, same version exists in internal repository
74/1974AnVILBilling 1.0.1  (landing page)Vince Carey  OK    OK    OK  UNNEEDED, same version exists in internal repository
75/1974AnVILPublish 1.0.0  (landing page)Martin Morgan  OK    OK    OK  UNNEEDED, same version exists in internal repository
76/1974APAlyzer 1.4.0  (landing page)Ruijia Wang  OK    OK    OK  UNNEEDED, same version exists in internal repository
77/1974apComplex 2.56.0  (landing page)Denise Scholtens  OK    OK    OK  UNNEEDED, same version exists in internal repository
78/1974apeglm 1.12.0  (landing page)Anqi Zhu  OK    OK    OK  UNNEEDED, same version exists in internal repository
79/1974appreci8R 1.8.0  (landing page)Sarah Sandmann  OK    OK    OK  UNNEEDED, same version exists in internal repository
80/1974aroma.light 3.20.0  (landing page)Henrik Bengtsson  OK    OK    OK  UNNEEDED, same version exists in internal repository
81/1974ArrayExpress 1.50.0  (landing page)Suhaib Mohammed  OK    OK    OK  UNNEEDED, same version exists in internal repository
82/1974ArrayExpressHTS 1.40.0  (landing page)Angela Goncalves , Andrew Tikhonov  OK    OK    WARNINGS  UNNEEDED, same version exists in internal repository
83/1974arrayMvout 1.48.0  (landing page)V. Carey  OK    OK    OK  UNNEEDED, same version exists in internal repository
84/1974arrayQuality 1.68.0  (landing page)Agnes Paquet  OK    OK    WARNINGS  UNNEEDED, same version exists in internal repository
85/1974arrayQualityMetrics 3.46.0  (landing page)Mike Smith  OK    OK    OK  UNNEEDED, same version exists in internal repository
86/1974ArrayTools 1.50.0  (landing page)Arthur Li  OK    OK    OK  UNNEEDED, same version exists in internal repository
87/1974ArrayTV 1.28.0  (landing page)Eitan Halper-Stromberg  OK    ERROR  skipped
88/1974ARRmNormalization 1.30.0  (landing page)Jean-Philippe Fortin  OK    OK    OK  UNNEEDED, same version exists in internal repository
89/1974artMS 1.8.3  (landing page)David Jimenez-Morales  OK    OK    OK  UNNEEDED, same version exists in internal repository
90/1974ASAFE 1.16.0  (landing page)Qian Zhang  OK    OK    OK  UNNEEDED, same version exists in internal repository
91/1974ASEB 1.34.0  (landing page)Likun Wang  OK    OK    OK  UNNEEDED, same version exists in internal repository
92/1974ASGSCA 1.24.0  (landing page)Hela Romdhani  OK    OK    OK  UNNEEDED, same version exists in internal repository
93/1974ASICS 2.6.1  (landing page)Gaëlle Lefort  OK    OK    OK  UNNEEDED, same version exists in internal repository
94/1974ASpediaFI 1.4.0  (landing page)Doyeong Yu  OK    OK    OK  UNNEEDED, same version exists in internal repository
95/1974ASpli 2.0.0  (landing page)Estefania Mancini  OK    OK    OK  UNNEEDED, same version exists in internal repository
96/1974AssessORF 1.8.0  (landing page)Deepank Korandla  OK    OK    OK  UNNEEDED, same version exists in internal repository
97/1974ASSET 2.8.0  (landing page)Samsiddhi Bhattacharjee  OK    OK    WARNINGS  UNNEEDED, same version exists in internal repository
98/1974ASSIGN 1.26.0  (landing page)Ying Shen , W. Evan Johnson  OK    OK    OK  UNNEEDED, same version exists in internal repository
99/1974ATACseqQC 1.14.4  (landing page)Jianhong Ou  OK    OK    OK  UNNEEDED, same version exists in internal repository
100/1974atSNP 1.6.1  (landing page)Sunyoung Shin  OK    OK    OK  UNNEEDED, same version exists in internal repository
101/1974attract 1.42.0  (landing page)Samuel Zimmerman  OK    OK    OK  UNNEEDED, same version exists in internal repository
102/1974AUCell 1.12.0  (landing page)Sara Aibar  OK    OK    OK  UNNEEDED, same version exists in internal repository
103/1974Autotuner 1.4.0  (landing page)Craig McLean  OK    OK    OK  UNNEEDED, same version exists in internal repository
104/1974AWFisher 1.4.0  (landing page)Zhiguang Huo  OK    OK    OK  UNNEEDED, same version exists in internal repository
B
ABCDEFGHIJKLMNOPQRSTUVWXYZ
PackageMaintainerINSTALLBUILDCHECKBUILD BIN
105/1974BaalChIP 1.16.0  (landing page)Ines de Santiago  OK    OK    WARNINGS  UNNEEDED, same version exists in internal repository
106/1974BAC 1.50.0  (landing page)Raphael Gottardo  OK    OK    OK  UNNEEDED, same version exists in internal repository
107/1974bacon 1.18.0  (landing page)Maarten van Iterson  OK    OK    OK  UNNEEDED, same version exists in internal repository
108/1974BADER 1.28.0  (landing page)Andreas Neudecker  OK    OK    OK  UNNEEDED, same version exists in internal repository
109/1974BadRegionFinder 1.18.0  (landing page)Sarah Sandmann  OK    OK    OK  UNNEEDED, same version exists in internal repository
110/1974BAGS 2.30.0  (landing page)Alejandro Quiroz-Zarate  OK    OK    OK  UNNEEDED, same version exists in internal repository
111/1974ballgown 2.22.0  (landing page)Jack Fu  OK    OK    OK  UNNEEDED, same version exists in internal repository
112/1974bambu 1.0.3  (landing page)Ying Chen  OK    OK    OK  UNNEEDED, same version exists in internal repository
113/1974bamsignals 1.22.0  (landing page)Johannes Helmuth  OK    OK    OK  UNNEEDED, same version exists in internal repository
114/1974BANDITS 1.6.0  (landing page)Simone Tiberi  OK    OK    OK  UNNEEDED, same version exists in internal repository
115/1974banocc 1.14.0  (landing page)George Weingart  OK    ERROR  skipped
116/1974basecallQC 1.14.0  (landing page)Thomas Carroll  OK    OK    OK  UNNEEDED, same version exists in internal repository
117/1974BaseSpaceR 1.34.0  (landing page)Jared O'Connell  OK    OK    OK  UNNEEDED, same version exists in internal repository
118/1974Basic4Cseq 1.26.0  (landing page)Carolin Walter  OK    OK    OK  UNNEEDED, same version exists in internal repository
119/1974BASiCS 2.2.4  (landing page)Catalina Vallejos  OK    OK    OK  UNNEEDED, same version exists in internal repository
120/1974BasicSTARRseq 1.18.0  (landing page)Annika Buerger  OK    OK    OK  UNNEEDED, same version exists in internal repository
121/1974basilisk 1.2.1  (landing page)Aaron Lun  OK    OK    OK  UNNEEDED, same version exists in internal repository
122/1974basilisk.utils 1.2.2  (landing page)Aaron Lun  OK    OK    OK  UNNEEDED, same version exists in internal repository
123/1974batchelor 1.6.3  (landing page)Aaron Lun  OK    OK    OK  UNNEEDED, same version exists in internal repository
124/1974BatchQC 1.18.0  (landing page)Solaiappan Manimaran  OK    OK    OK  UNNEEDED, same version exists in internal repository
125/1974BayesKnockdown 1.16.0  (landing page)William Chad Young  OK    OK    OK  UNNEEDED, same version exists in internal repository
126/1974BayesSpace 1.0.0  (landing page)Matt Stone  OK    ERROR  skipped
127/1974bayNorm 1.8.0  (landing page)Wenhao Tang  OK    OK    OK  UNNEEDED, same version exists in internal repository
128/1974baySeq 2.24.0  (landing page)Thomas J. Hardcastle  OK    OK    OK  UNNEEDED, same version exists in internal repository
129/1974BBCAnalyzer 1.20.0  (landing page)Sarah Sandmann  OK    OK    OK  UNNEEDED, same version exists in internal repository
130/1974BCRANK 1.52.0  (landing page)Adam Ameur  OK    OK    OK  UNNEEDED, same version exists in internal repository
131/1974bcSeq 1.12.0  (landing page)Jiaxing Lin  OK    OK    OK  UNNEEDED, same version exists in internal repository
132/1974BDMMAcorrect 1.8.0  (landing page)ZHENWEI DAI  OK    OK    OK  UNNEEDED, same version exists in internal repository
133/1974beachmat 2.6.4  (landing page)Aaron Lun  OK    OK    OK  UNNEEDED, same version exists in internal repository
134/1974beadarray 2.40.0  (landing page)Mark Dunning  OK    OK    OK  UNNEEDED, same version exists in internal repository
135/1974beadarraySNP 1.56.0  (landing page)Jan Oosting  OK    OK    OK  UNNEEDED, same version exists in internal repository
136/1974BeadDataPackR 1.42.0  (landing page)Mike Smith  OK    OK    OK  UNNEEDED, same version exists in internal repository
137/1974BEARscc 1.10.0  (landing page)Benjamin Schuster-Boeckler  OK    OK    OK  UNNEEDED, same version exists in internal repository
138/1974BEAT 1.28.0  (landing page)Kemal Akman  OK    OK    OK  UNNEEDED, same version exists in internal repository
139/1974BEclear 2.6.0  (landing page)David Rasp  OK    OK    WARNINGS  UNNEEDED, same version exists in internal repository
140/1974BgeeCall 1.6.2  (landing page)Julien Wollbrett  OK    OK    OK  UNNEEDED, same version exists in internal repository
141/1974BgeeDB 2.16.0  (landing page)Julien Wollbrett , Julien Roux , Andrea Komljenovic , Frederic Bastian  OK    OK    OK  UNNEEDED, same version exists in internal repository
142/1974BGmix 1.50.0  (landing page)Alex Lewin  OK    OK    WARNINGS  UNNEEDED, same version exists in internal repository
143/1974bgx 1.56.0  (landing page)Ernest Turro  OK    OK    OK  UNNEEDED, same version exists in internal repository
144/1974BHC 1.42.0  (landing page)Rich Savage  OK    OK    OK  UNNEEDED, same version exists in internal repository
145/1974BicARE 1.48.0  (landing page)Pierre Gestraud  OK    OK    OK  UNNEEDED, same version exists in internal repository
146/1974BiFET 1.10.0  (landing page)Ahrim Youn  OK    OK    OK  UNNEEDED, same version exists in internal repository
147/1974BiGGR 1.26.0  (landing page)Anand K. Gavai  OK    OK    WARNINGS  UNNEEDED, same version exists in internal repository
148/1974bigmelon 1.16.0  (landing page)Tyler J. Gorrie-Stone  OK    OK    OK  UNNEEDED, same version exists in internal repository
149/1974bigmemoryExtras 1.38.0  (landing page)Peter M. Haverty  OK    OK    WARNINGS  UNNEEDED, same version exists in internal repository
150/1974bigPint 1.6.0  (landing page)Lindsay Rutter  OK    OK    OK  UNNEEDED, same version exists in internal repository
151/1974bioassayR 1.28.3  (landing page)Daniela Cassol  OK    OK    OK  UNNEEDED, same version exists in internal repository
152/1974Biobase 2.50.0  (landing page)Bioconductor Package Maintainer  OK    OK    OK  UNNEEDED, same version exists in internal repository
153/1974biobroom 1.22.0  (landing page)John D. Storey and Andrew J. Bass  OK    OK    OK  UNNEEDED, same version exists in internal repository
154/1974biobtreeR 1.2.0  (landing page)Tamer Gur  OK    OK    OK  UNNEEDED, same version exists in internal repository
155/1974bioCancer 1.18.0  (landing page)Karim Mezhoud  OK    OK    WARNINGS  UNNEEDED, same version exists in internal repository
156/1974BiocCaseStudies 1.52.0  (landing page)Bioconductor Package Maintainer  OK    OK    OK  UNNEEDED, same version exists in internal repository
157/1974BiocCheck 1.26.0  (landing page)Bioconductor Package Maintainer  OK    OK    OK  UNNEEDED, same version exists in internal repository
158/1974BiocDockerManager 1.2.1  (landing page)Bioconductor Package Maintainer  OK    OK    OK  UNNEEDED, same version exists in internal repository
159/1974BiocFileCache 1.14.0  (landing page)Lori Shepherd  OK    OK    OK  UNNEEDED, same version exists in internal repository
160/1974BiocGenerics 0.36.1  (landing page)Bioconductor Package Maintainer  OK    OK    WARNINGS  UNNEEDED, same version exists in internal repository
161/1974biocGraph 1.52.0  (landing page)Florian Hahne  OK    OK    OK  UNNEEDED, same version exists in internal repository
162/1974BiocIO 1.0.1  (landing page)Bioconductor Package Maintainer  OK    OK    OK  UNNEEDED, same version exists in internal repository
163/1974BiocNeighbors 1.8.2  (landing page)Aaron Lun  OK    OK    OK  UNNEEDED, same version exists in internal repository
164/1974BiocOncoTK 1.10.0  (landing page)VJ Carey  OK    OK    OK  UNNEEDED, same version exists in internal repository
165/1974BioCor 1.14.0  (landing page)Lluís Revilla Sancho  OK    OK    OK  UNNEEDED, same version exists in internal repository
166/1974BiocParallel 1.24.1  (landing page)Bioconductor Package Maintainer  OK    OK    OK  UNNEEDED, same version exists in internal repository
167/1974BiocPkgTools 1.8.2  (landing page)Sean Davis  OK    OK    OK  UNNEEDED, same version exists in internal repository
168/1974BiocSet 1.4.0  (landing page)Kayla Morrell  OK    OK    OK  UNNEEDED, same version exists in internal repository
169/1974BiocSingular 1.6.0  (landing page)Aaron Lun  OK    OK    OK  UNNEEDED, same version exists in internal repository
170/1974BiocSklearn 1.12.0  (landing page)VJ Carey  OK    OK    OK  UNNEEDED, same version exists in internal repository
171/1974BiocStyle 2.18.1  (landing page)Bioconductor Package Maintainer  OK    OK    OK  UNNEEDED, same version exists in internal repository
172/1974biocthis 1.0.10  (landing page)Leonardo Collado-Torres  OK    OK    OK  UNNEEDED, same version exists in internal repository
173/1974BiocVersion 3.12.0  (landing page)Bioconductor Package Maintainer  OK    OK    OK  UNNEEDED, same version exists in internal repository
174/1974biocViews 1.58.1  (landing page)Bioconductor Package Maintainer  OK    OK    OK  UNNEEDED, same version exists in internal repository
175/1974BiocWorkflowTools 1.16.0  (landing page)Mike Smith  OK    OK    OK  UNNEEDED, same version exists in internal repository
176/1974bioDist 1.62.0  (landing page)Bioconductor Package Maintainer  OK    OK    OK  UNNEEDED, same version exists in internal repository
177/1974biomaRt 2.46.3  (landing page)Mike Smith  OK    OK    OK  UNNEEDED, same version exists in internal repository
178/1974biomformat 1.18.0  (landing page)Paul J. McMurdie  OK    OK    WARNINGS  UNNEEDED, same version exists in internal repository
179/1974BioMM 1.6.0  (landing page)Junfang Chen  OK    OK    OK  UNNEEDED, same version exists in internal repository
180/1974BioMVCClass 1.58.0  (landing page)Elizabeth Whalen  OK    OK    OK  UNNEEDED, same version exists in internal repository
181/1974biomvRCNS 1.30.0  (landing page)Yang Du  OK    OK    OK  UNNEEDED, same version exists in internal repository
182/1974BioNet 1.50.0  (landing page)Marcus Dittrich  OK    OK    OK  UNNEEDED, same version exists in internal repository
183/1974BioNetStat 1.10.5  (landing page)Vinicius Jardim  OK    OK    OK  UNNEEDED, same version exists in internal repository
184/1974BioQC 1.18.0  (landing page)Jitao David Zhang  OK    OK    OK  UNNEEDED, same version exists in internal repository
185/1974BioSeqClass 1.48.0  (landing page)Li Hong  OK    ERROR  skipped
186/1974biosigner 1.18.2  (landing page)Philippe Rinaudo , Etienne Thevenot  OK    OK    OK  UNNEEDED, same version exists in internal repository
187/1974Biostrings 2.58.0  (landing page)H. Pagès  OK    OK    WARNINGS  UNNEEDED, same version exists in internal repository
188/1974BioTIP 1.4.0  (landing page)Yuxi (Jennifer) Sun , Zhezhen Wang , and X Holly Yang  OK    OK    WARNINGS  UNNEEDED, same version exists in internal repository
189/1974biotmle 1.14.0  (landing page)Nima Hejazi  OK    OK    WARNINGS  UNNEEDED, same version exists in internal repository
190/1974biovizBase 1.38.0  (landing page)Michael Lawrence  OK    OK    WARNINGS  UNNEEDED, same version exists in internal repository
191/1974BiRewire 3.22.0  (landing page)Andrea Gobbi  OK    OK    WARNINGS  UNNEEDED, same version exists in internal repository
192/1974biscuiteer 1.4.0  (landing page)"Jacob Morrison"  OK    OK    WARNINGS  UNNEEDED, same version exists in internal repository
193/1974BiSeq 1.30.0  (landing page)Katja Hebestreit  OK    OK    OK  UNNEEDED, same version exists in internal repository
194/1974BitSeq 1.34.0  (landing page)Antti Honkela , Panagiotis Papastamoulis  OK    OK    WARNINGS  UNNEEDED, same version exists in internal repository
195/1974blacksheepr 1.4.0  (landing page)RugglesLab  OK    OK    OK  UNNEEDED, same version exists in internal repository
196/1974blima 1.24.0  (landing page)Vojtěch Kulvait  OK    OK    WARNINGS  UNNEEDED, same version exists in internal repository
197/1974BLMA 1.14.0  (landing page)Hung Nguyen  OK    OK    OK  UNNEEDED, same version exists in internal repository
198/1974bluster 1.0.0  (landing page)Aaron Lun  OK    OK    OK  UNNEEDED, same version exists in internal repository
199/1974bnbc 1.12.0  (landing page)Kipper Fletez-Brant  OK    OK    OK  UNNEEDED, same version exists in internal repository
200/1974BPRMeth 1.16.0  (landing page)Chantriolnt-Andreas Kapourani  OK    OK    OK  UNNEEDED, same version exists in internal repository
201/1974BRAIN 1.36.0  (landing page)Piotr Dittwald  OK    OK    WARNINGS  UNNEEDED, same version exists in internal repository
202/1974brainflowprobes 1.4.1  (landing page)Amanda Price  OK    OK    OK  UNNEEDED, same version exists in internal repository
203/1974BrainSABER 1.0.0  (landing page)USD Biomedical Engineering  OK    OK    OK  UNNEEDED, same version exists in internal repository
204/1974BrainStars 1.34.0  (landing page)Itoshi NIKAIDO  OK    ERROR  skipped
205/1974branchpointer 1.16.0  (landing page)Beth Signal  OK    OK    OK  UNNEEDED, same version exists in internal repository
206/1974breakpointR 1.8.0  (landing page)David Porubsky  OK    OK    OK  UNNEEDED, same version exists in internal repository
207/1974brendaDb 1.4.0  (landing page)Yi Zhou  OK    OK    OK  UNNEEDED, same version exists in internal repository
208/1974BRGenomics 1.2.0  (landing page)Mike DeBerardine  OK    OK    OK  UNNEEDED, same version exists in internal repository
209/1974bridge 1.54.0  (landing page)Raphael Gottardo  OK    OK    WARNINGS  UNNEEDED, same version exists in internal repository
210/1974BridgeDbR 2.0.2  (landing page)Egon Willighagen  OK    OK    OK  UNNEEDED, same version exists in internal repository
211/1974BrowserViz 2.12.0  (landing page)Paul Shannon  OK    OK    TIMEOUT  
212/1974BSgenome 1.58.0  (landing page)H. Pagès  OK    OK    WARNINGS  UNNEEDED, same version exists in internal repository
213/1974bsseq 1.26.0  (landing page)Kasper Daniel Hansen  OK    OK    OK  UNNEEDED, same version exists in internal repository
214/1974BubbleTree 2.20.0  (landing page)Todd Creasy , Wei Zhu  OK    OK    OK  UNNEEDED, same version exists in internal repository
215/1974BufferedMatrix 1.54.0  (landing page)Ben Bolstad  OK    OK    OK  UNNEEDED, same version exists in internal repository
216/1974BufferedMatrixMethods 1.54.0  (landing page)Ben Bolstad  OK    OK    OK  UNNEEDED, same version exists in internal repository
217/1974BUMHMM 1.14.0  (landing page)Alina Selega  OK    OK    OK  UNNEEDED, same version exists in internal repository
218/1974bumphunter 1.32.0  (landing page)Tamilselvi Guharaj  OK    OK    ERROR  
219/1974BUS 1.46.0  (landing page)Yuanhua Liu  OK    OK    OK  UNNEEDED, same version exists in internal repository
220/1974BUScorrect 1.8.0  (landing page)Xiangyu Luo  OK    OK    OK  UNNEEDED, same version exists in internal repository
221/1974BUSpaRse 1.4.2  (landing page)Lambda Moses  OK    OK    OK  UNNEEDED, same version exists in internal repository
C
ABCDEFGHIJKLMNOPQRSTUVWXYZ
PackageMaintainerINSTALLBUILDCHECKBUILD BIN
222/1974CAFE 1.26.0  (landing page)Sander Bollen  OK    OK    WARNINGS  UNNEEDED, same version exists in internal repository
223/1974CAGEfightR 1.10.0  (landing page)Malte Thodberg  OK    OK    OK  UNNEEDED, same version exists in internal repository
224/1974CAGEr 1.32.1  (landing page)Vanja Haberle , Charles Plessy , Damir Baranasic , Sarvesh Nikumbh  OK    OK    WARNINGS  UNNEEDED, same version exists in internal repository
225/1974calm 1.4.0  (landing page)Kun Liang  OK    OK    OK  UNNEEDED, same version exists in internal repository
226/1974CAMERA 1.46.0  (landing page)Steffen Neumann  OK    OK    OK  UNNEEDED, same version exists in internal repository
227/1974canceR 1.24.0  (landing page)Karim Mezhoud  OK    OK    OK  UNNEEDED, same version exists in internal repository
228/1974cancerclass 1.34.0  (landing page)Daniel Kosztyla  OK    OK    OK  UNNEEDED, same version exists in internal repository
229/1974CancerInSilico 2.10.0  (landing page)Thomas D. Sherman  OK    OK    OK  UNNEEDED, same version exists in internal repository
230/1974CancerMutationAnalysis 1.32.0  (landing page)Simina M. Boca  OK    OK    OK  UNNEEDED, same version exists in internal repository
231/1974CancerSubtypes 1.16.0  (landing page)Taosheng Xu  ERROR    ERROR  skipped
232/1974CAnD 1.22.0  (landing page)Caitlin McHugh  OK    OK    OK  UNNEEDED, same version exists in internal repository
233/1974caOmicsV 1.20.0  (landing page)Henry Zhang  OK    OK    WARNINGS  UNNEEDED, same version exists in internal repository
234/1974Cardinal 2.8.0  (landing page)Kylie A. Bemis  OK    OK    OK  UNNEEDED, same version exists in internal repository
235/1974CARNIVAL 1.2.0  (landing page)Olga Ivanova  OK    OK    OK  UNNEEDED, same version exists in internal repository
236/1974casper 2.24.2  (landing page)David Rossell  OK    OK    OK  UNNEEDED, same version exists in internal repository
237/1974CATALYST 1.14.1  (landing page)Helena L. Crowell  OK    OK    OK  UNNEEDED, same version exists in internal repository
238/1974Category 2.56.0  (landing page)Bioconductor Package Maintainer  OK    OK    OK  UNNEEDED, same version exists in internal repository
239/1974categoryCompare 1.34.0  (landing page)Robert M. Flight  OK    OK    OK  UNNEEDED, same version exists in internal repository
240/1974CausalR 1.22.0  (landing page)Glyn Bradley , Steven Barrett  OK    OK    OK  UNNEEDED, same version exists in internal repository
241/1974cbaf 1.12.1  (landing page)Arman Shahrisa  OK    OK    OK  UNNEEDED, same version exists in internal repository
242/1974cBioPortalData 2.2.11  (landing page)Marcel Ramos  OK    OK    OK  UNNEEDED, same version exists in internal repository
243/1974ccfindR 1.10.0  (landing page)Jun Woo  OK    OK    OK  UNNEEDED, same version exists in internal repository
244/1974ccmap 1.16.0  (landing page)Alex Pickering  OK    OK    WARNINGS  UNNEEDED, same version exists in internal repository
245/1974CCPROMISE 1.16.0  (landing page)Xueyuan Cao  OK    OK    WARNINGS  UNNEEDED, same version exists in internal repository
246/1974ccrepe 1.26.0  (landing page)Emma Schwager ,Craig Bielski, George Weingart  OK    OK    OK  UNNEEDED, same version exists in internal repository
247/1974celaref 1.8.0  (landing page)Sarah Williams  OK    OK    OK  UNNEEDED, same version exists in internal repository
248/1974celda 1.6.1  (landing page)Joshua Campbell  OK    OK    OK  UNNEEDED, same version exists in internal repository
249/1974CellaRepertorium 1.0.0  (landing page)Andrew McDavid  OK    OK    OK  UNNEEDED, same version exists in internal repository
250/1974cellbaseR 1.14.0  (landing page)Mohammed OE Abdallah  OK    OK    OK  UNNEEDED, same version exists in internal repository
251/1974CellBench 1.6.0  (landing page)Shian Su  OK    OK    OK  UNNEEDED, same version exists in internal repository
252/1974cellHTS2 2.54.0  (landing page)Joseph Barry  OK    OK    OK  UNNEEDED, same version exists in internal repository
253/1974cellity 1.18.0  (landing page)Tomislav Ilicic  OK    OK    OK  UNNEEDED, same version exists in internal repository
254/1974CellMapper 1.16.0  (landing page)Brad Nelms  OK    OK    WARNINGS  UNNEEDED, same version exists in internal repository
255/1974CellMixS 1.6.1  (landing page)Almut Lütge  OK    OK    OK  UNNEEDED, same version exists in internal repository
256/1974CellNOptR 1.36.0  (landing page)A.Gabor  OK    OK    WARNINGS  UNNEEDED, same version exists in internal repository
257/1974cellscape 1.14.0  (landing page)Maia Smith  OK    OK    WARNINGS  UNNEEDED, same version exists in internal repository
258/1974CellScore 1.10.0  (landing page)Nancy Mah  OK    OK    OK  UNNEEDED, same version exists in internal repository
259/1974CellTrails 1.8.0  (landing page)Daniel Ellwanger  OK    OK    OK  UNNEEDED, same version exists in internal repository
260/1974cellTree 1.20.0  (landing page)David duVerle  OK    OK    OK  UNNEEDED, same version exists in internal repository
261/1974CEMiTool 1.14.1  (landing page)Helder Nakaya  OK    OK    WARNINGS  UNNEEDED, same version exists in internal repository
262/1974ceRNAnetsim 1.2.1  (landing page)Selcen Ari Yuka  OK    OK    OK  UNNEEDED, same version exists in internal repository
263/1974CeTF 1.2.4  (landing page)Carlos Alberto Oliveira de Biagi Junior  OK    OK    OK  UNNEEDED, same version exists in internal repository
264/1974CexoR 1.28.0  (landing page)Pedro Madrigal  OK    OK    OK  UNNEEDED, same version exists in internal repository
265/1974CFAssay 1.24.0  (landing page)Herbert Braselmann  OK    OK    OK  UNNEEDED, same version exists in internal repository
266/1974cfDNAPro 1.0.0  (landing page)Haichao Wang  OK    OK    OK  UNNEEDED, same version exists in internal repository
267/1974CGEN 3.26.1  (landing page)William Wheeler  OK    OK    ERROR  
268/1974CGHbase 1.50.0  (landing page)Mark van de Wiel  OK    OK    OK  UNNEEDED, same version exists in internal repository
269/1974CGHcall 2.52.0  (landing page)Mark van de Wiel  OK    OK    OK  UNNEEDED, same version exists in internal repository
270/1974cghMCR 1.48.0  (landing page)J. Zhang  OK    OK    WARNINGS  UNNEEDED, same version exists in internal repository
271/1974CGHnormaliter 1.44.0  (landing page)Bart P.P. van Houte  OK    OK    OK  UNNEEDED, same version exists in internal repository
272/1974CGHregions 1.48.0  (landing page)Sjoerd Vosse  OK    OK    OK  UNNEEDED, same version exists in internal repository
273/1974ChAMP 2.20.1  (landing page)Yuan Tian  OK    OK    WARNINGS  UNNEEDED, same version exists in internal repository
274/1974CHARGE 1.10.0  (landing page)Benjamin Mayne  ERROR    ERROR  skipped
275/1974ChemmineOB 1.28.4  (landing page)Thomas Girke  OK    OK    WARNINGS  UNNEEDED, same version exists in internal repository
276/1974ChemmineR 3.42.2  (landing page)Thomas Girke  OK    OK    OK  UNNEEDED, same version exists in internal repository
277/1974CHETAH 1.6.0  (landing page)Jurrian de Kanter  OK    OK    OK  UNNEEDED, same version exists in internal repository
278/1974ChIC 1.10.0  (landing page)Carmen Maria Livi  OK    OK    OK  UNNEEDED, same version exists in internal repository
279/1974Chicago 1.18.0  (landing page)Mikhail Spivakov  OK    OK    OK  UNNEEDED, same version exists in internal repository
280/1974chimera 1.32.0  (landing page)Raffaele A Calogero  OK    OK    WARNINGS  UNNEEDED, same version exists in internal repository
281/1974chimeraviz 1.16.1  (landing page)Stian Lågstad  OK    OK    OK  UNNEEDED, same version exists in internal repository
282/1974ChIPanalyser 1.12.0  (landing page)Patrick C.N. Martin  OK    OK    OK  UNNEEDED, same version exists in internal repository
283/1974ChIPComp 1.20.0  (landing page)Li Chen  OK    OK    OK  UNNEEDED, same version exists in internal repository
284/1974chipenrich 2.14.0  (landing page)Raymond G. Cavalcante  OK    OK    OK  UNNEEDED, same version exists in internal repository
285/1974ChIPexoQual 1.14.0  (landing page)Rene Welch  OK    OK    OK  UNNEEDED, same version exists in internal repository
286/1974ChIPpeakAnno 3.24.2  (landing page)Jianhong Ou  OK    OK    OK  UNNEEDED, same version exists in internal repository
287/1974ChIPQC 1.26.0  (landing page)Tom Carroll , Rory Stark  OK    OK    WARNINGS  UNNEEDED, same version exists in internal repository
288/1974ChIPseeker 1.26.2  (landing page)Guangchuang Yu  OK    OK    OK  UNNEEDED, same version exists in internal repository
289/1974chipseq 1.40.0  (landing page)Bioconductor Package Maintainer  OK    OK    WARNINGS  UNNEEDED, same version exists in internal repository
290/1974ChIPseqR 1.44.0  (landing page)Peter Humburg  OK    OK    OK  UNNEEDED, same version exists in internal repository
291/1974ChIPSeqSpike 1.10.0  (landing page)Nicolas Descostes  OK    ERROR  skipped
292/1974ChIPsim 1.44.0  (landing page)Peter Humburg  OK    OK    OK  UNNEEDED, same version exists in internal repository
293/1974ChIPXpress 1.34.0  (landing page)George Wu  OK    OK    OK  UNNEEDED, same version exists in internal repository
294/1974chopsticks 1.56.0  (landing page)Hin-Tak Leung  OK    OK    WARNINGS  UNNEEDED, same version exists in internal repository
295/1974chromDraw 2.20.0  (landing page)Jan Janecka  OK    OK    WARNINGS  UNNEEDED, same version exists in internal repository
296/1974ChromHeatMap 1.44.0  (landing page)Tim F. Rayner  OK    OK    OK  UNNEEDED, same version exists in internal repository
297/1974chromPlot 1.18.0  (landing page)Karen Y. Orostica  OK    OK    OK  UNNEEDED, same version exists in internal repository
298/1974ChromSCape 1.0.0  (landing page)Pacome Prompsy  OK    OK    OK  UNNEEDED, same version exists in internal repository
299/1974chromstaR 1.16.0  (landing page)Aaron Taudt  OK    OK    OK  UNNEEDED, same version exists in internal repository
300/1974chromswitch 1.12.0  (landing page)Selin Jessa  OK    OK    OK  UNNEEDED, same version exists in internal repository
301/1974chromVAR 1.12.0  (landing page)Alicia Schep  OK    OK    OK  UNNEEDED, same version exists in internal repository
302/1974CHRONOS 1.18.0  (landing page)Panos Balomenos  OK    OK    OK  UNNEEDED, same version exists in internal repository
303/1974cicero 1.8.1  (landing page)Hannah Pliner  OK    OK    OK  UNNEEDED, same version exists in internal repository
304/1974CINdex 1.18.0  (landing page)Yuriy Gusev  OK    OK    OK  UNNEEDED, same version exists in internal repository
305/1974circRNAprofiler 1.4.2  (landing page)Simona Aufiero  OK    OK    OK  UNNEEDED, same version exists in internal repository
306/1974cisPath 1.30.0  (landing page)Likun Wang  OK    OK    OK  UNNEEDED, same version exists in internal repository
307/1974CiteFuse 1.2.1  (landing page)Yingxin Lin  OK    OK    OK  UNNEEDED, same version exists in internal repository
308/1974ClassifyR 2.10.0  (landing page)Dario Strbenac  OK    OK    OK  UNNEEDED, same version exists in internal repository
309/1974cleanUpdTSeq 1.28.0  (landing page)Jianhong Ou ; Lihua Julie Zhu  OK    OK    OK  UNNEEDED, same version exists in internal repository
310/1974cleaver 1.28.0  (landing page)Sebastian Gibb  OK    OK    OK  UNNEEDED, same version exists in internal repository
311/1974clippda 1.40.0  (landing page)Stephen Nyangoma  OK    OK    WARNINGS  UNNEEDED, same version exists in internal repository
312/1974clipper 1.30.0  (landing page)Paolo Martini  OK    OK    OK  UNNEEDED, same version exists in internal repository
313/1974cliqueMS 1.4.0  (landing page)Oriol Senan Campos  OK    OK    OK  UNNEEDED, same version exists in internal repository
314/1974Clomial 1.26.0  (landing page)Habil Zare  OK    OK    OK  UNNEEDED, same version exists in internal repository
315/1974Clonality 1.38.0  (landing page)Irina Ostrovnaya  OK    OK    OK  UNNEEDED, same version exists in internal repository
316/1974clonotypeR 1.28.0  (landing page)Charles Plessy  OK    OK    OK  UNNEEDED, same version exists in internal repository
317/1974clst 1.38.0  (landing page)Noah Hoffman  OK    OK    WARNINGS  UNNEEDED, same version exists in internal repository
318/1974clstutils 1.38.0  (landing page)Noah Hoffman  OK    OK    WARNINGS  UNNEEDED, same version exists in internal repository
319/1974CluMSID 1.6.0  (landing page)Tobias Depke  OK    OK    OK  UNNEEDED, same version exists in internal repository
320/1974clustComp 1.18.0  (landing page)Aurora Torrente  OK    OK    OK  UNNEEDED, same version exists in internal repository
321/1974clusterExperiment 2.10.1  (landing page)Elizabeth Purdom  OK    OK    WARNINGS  UNNEEDED, same version exists in internal repository
322/1974ClusterJudge 1.12.1  (landing page)Adrian Pasculescu  OK    OK    OK  UNNEEDED, same version exists in internal repository
323/1974clusterProfiler 3.18.1  (landing page)Guangchuang Yu  OK    OK    OK  UNNEEDED, same version exists in internal repository
324/1974clusterSeq 1.14.0  (landing page)Thomas J. Hardcastle  OK    OK    OK  UNNEEDED, same version exists in internal repository
325/1974ClusterSignificance 1.18.0  (landing page)Jason T Serviss  OK    OK    OK  UNNEEDED, same version exists in internal repository
326/1974clusterStab 1.62.0  (landing page)James W. MacDonald  OK    OK    OK  UNNEEDED, same version exists in internal repository
327/1974clustifyr 1.2.0  (landing page)Rui Fu  OK    OK    OK  UNNEEDED, same version exists in internal repository
328/1974CMA 1.48.0  (landing page)Roman Hornung  OK    OK    OK  UNNEEDED, same version exists in internal repository
329/1974cmapR 1.2.1  (landing page)Ted Natoli  OK    OK    OK  UNNEEDED, same version exists in internal repository
330/1974cn.farms 1.38.0  (landing page)Andreas Mitterecker  OK    OK    OK  UNNEEDED, same version exists in internal repository
331/1974cn.mops 1.36.0  (landing page)Gundula Povysil  OK    OK    OK  UNNEEDED, same version exists in internal repository
332/1974CNAnorm 1.36.0  (landing page)Stefano Berri  OK    OK    OK  UNNEEDED, same version exists in internal repository
333/1974CNEr 1.26.0  (landing page)Ge Tan  OK    OK    WARNINGS  UNNEEDED, same version exists in internal repository
334/1974CNORdt 1.32.0  (landing page)A. MacNamara  OK    OK    OK  UNNEEDED, same version exists in internal repository
335/1974CNORfeeder 1.30.0  (landing page)E.Gjerga  OK    OK    OK  UNNEEDED, same version exists in internal repository
336/1974CNORfuzzy 1.32.0  (landing page)T. Cokelaer  OK    OK    OK  UNNEEDED, same version exists in internal repository
337/1974CNORode 1.32.0  (landing page)Enio Gjerga  OK    OK    WARNINGS  UNNEEDED, same version exists in internal repository
338/1974CNTools 1.46.0  (landing page)J. Zhang  OK    OK    OK  UNNEEDED, same version exists in internal repository
339/1974CNVfilteR 1.4.2  (landing page)Jose Marcos Moreno-Cabrera  OK    OK    OK  UNNEEDED, same version exists in internal repository
340/1974cnvGSA 1.34.0  (landing page)Joseph Lugo  OK    OK    OK  UNNEEDED, same version exists in internal repository
341/1974CNVPanelizer 1.22.0  (landing page)Thomas Wolf  OK    OK    OK  UNNEEDED, same version exists in internal repository
342/1974CNVRanger 1.6.1  (landing page)Ludwig Geistlinger  OK    OK    OK  UNNEEDED, same version exists in internal repository
343/1974CNVrd2 1.28.0  (landing page)Hoang Tan Nguyen  OK    OK    OK  UNNEEDED, same version exists in internal repository
344/1974CNVtools 1.84.0  (landing page)Chris Barnes  OK    ERROR  skipped
345/1974CoCiteStats 1.62.0  (landing page)Bioconductor Package Maintainer  OK    OK    OK  UNNEEDED, same version exists in internal repository
346/1974COCOA 2.4.0  (landing page)John Lawson  OK    OK    OK  UNNEEDED, same version exists in internal repository
347/1974codelink 1.58.0  (landing page)Diego Diez  OK    OK    OK  UNNEEDED, same version exists in internal repository
348/1974CODEX 1.22.0  (landing page)Yuchao Jiang  OK    OK    OK  UNNEEDED, same version exists in internal repository
349/1974coexnet 1.12.0  (landing page)Juan David Henao  OK    OK    OK  UNNEEDED, same version exists in internal repository
350/1974CoGAPS 3.10.0  (landing page)Elana J. Fertig  OK    OK    OK  UNNEEDED, same version exists in internal repository
351/1974cogena 1.24.0  (landing page)Zhilong Jia  OK    OK    WARNINGS  UNNEEDED, same version exists in internal repository
352/1974coGPS 1.34.0  (landing page)Yingying Wei  OK    OK    OK  UNNEEDED, same version exists in internal repository
353/1974COHCAP 1.36.0  (landing page)Charles Warden  OK    OK    OK  UNNEEDED, same version exists in internal repository
354/1974cola 1.6.0  (landing page)Zuguang Gu  OK    OK    OK  UNNEEDED, same version exists in internal repository
355/1974combi 1.2.0  (landing page)Joris Meys  OK    OK    OK  UNNEEDED, same version exists in internal repository
356/1974coMET 1.22.0  (landing page)Tiphaine Martin  OK    OK    OK  UNNEEDED, same version exists in internal repository
357/1974compartmap 1.8.0  (landing page)Benjamin Johnson  OK    OK    WARNINGS  UNNEEDED, same version exists in internal repository
358/1974COMPASS 1.28.0  (landing page)Greg Finak  OK    OK    OK  UNNEEDED, same version exists in internal repository
359/1974compcodeR 1.26.1  (landing page)Charlotte Soneson  OK    OK    WARNINGS  UNNEEDED, same version exists in internal repository
360/1974compEpiTools 1.24.0  (landing page)Kamal Kishore  OK    OK    OK  UNNEEDED, same version exists in internal repository
361/1974CompGO 1.26.0  (landing page)Ashley J. Waardenberg  OK    OK    OK  UNNEEDED, same version exists in internal repository
362/1974ComplexHeatmap 2.6.2  (landing page)Zuguang Gu  OK    OK    OK  UNNEEDED, same version exists in internal repository
363/1974CONFESS 1.18.0  (landing page)Diana LOW  OK    OK    WARNINGS  UNNEEDED, same version exists in internal repository
364/1974consensus 1.8.0  (landing page)Tim Peters  OK    OK    OK  UNNEEDED, same version exists in internal repository
365/1974ConsensusClusterPlus 1.54.0  (landing page)Matt Wilkerson  OK    OK    OK  UNNEEDED, same version exists in internal repository
366/1974consensusDE 1.8.0  (landing page)Ashley J. Waardenberg  OK    OK    OK  UNNEEDED, same version exists in internal repository
367/1974consensusOV 1.12.0  (landing page)Benjamin Haibe-Kains  OK    OK    OK  UNNEEDED, same version exists in internal repository
368/1974consensusSeekeR 1.18.0  (landing page)Astrid Deschenes  OK    OK    OK  UNNEEDED, same version exists in internal repository
369/1974contiBAIT 1.18.0  (landing page)Kieran O'Neill  OK    OK    WARNINGS  UNNEEDED, same version exists in internal repository
370/1974conumee 1.24.0  (landing page)Volker Hovestadt  OK    OK    OK  UNNEEDED, same version exists in internal repository
371/1974convert 1.66.0  (landing page)Yee Hwa (Jean) Yang  OK    OK    OK  UNNEEDED, same version exists in internal repository
372/1974copa 1.58.0  (landing page)James W. MacDonald  OK    OK    OK  UNNEEDED, same version exists in internal repository
373/1974copynumber 1.30.0  (landing page)Gro Nilsen  OK    OK    OK  UNNEEDED, same version exists in internal repository
374/1974CopyNumberPlots 1.6.0  (landing page)Bernat Gel  OK    OK    OK  UNNEEDED, same version exists in internal repository
375/1974CopywriteR 2.22.0  (landing page)Oscar Krijgsman  OK    OK    OK  UNNEEDED, same version exists in internal repository
376/1974coRdon 1.8.0  (landing page)Anamaria Elek  OK    OK    OK  UNNEEDED, same version exists in internal repository
377/1974CoRegFlux 1.6.0  (landing page)Pauline Trébulle and Mohamed Elati  OK    OK    ERROR  
378/1974CoRegNet 1.28.0  (landing page)Remy Nicolle  OK    OK    WARNINGS  UNNEEDED, same version exists in internal repository
379/1974CoreGx 1.2.0  (landing page)Benjamin Haibe-Kains  OK    OK    OK  UNNEEDED, same version exists in internal repository
380/1974Cormotif 1.36.0  (landing page)Yingying Wei  OK    OK    OK  UNNEEDED, same version exists in internal repository
381/1974CorMut 1.32.0  (landing page)Zhenpeng Li  OK    ERROR  skipped
382/1974corral 1.0.0  (landing page)Lauren Hsu  OK    OK    OK  UNNEEDED, same version exists in internal repository
383/1974CORREP 1.56.0  (landing page)Dongxiao Zhu  OK    OK    OK  UNNEEDED, same version exists in internal repository
384/1974coseq 1.14.0  (landing page)Andrea Rau  OK    OK    OK  UNNEEDED, same version exists in internal repository
385/1974cosmiq 1.24.0  (landing page)David Fischer  OK    OK    OK  UNNEEDED, same version exists in internal repository
386/1974COSNet 1.24.0  (landing page)Marco Frasca  OK    OK    OK  UNNEEDED, same version exists in internal repository
387/1974CountClust 1.18.0  (landing page)Kushal Dey  OK    OK    OK  UNNEEDED, same version exists in internal repository
388/1974countsimQC 1.8.1  (landing page)Charlotte Soneson  OK    OK    OK  UNNEEDED, same version exists in internal repository
389/1974covEB 1.16.0  (landing page)C. Pacini  OK    OK    OK  UNNEEDED, same version exists in internal repository
390/1974CoverageView 1.28.0  (landing page)Ernesto Lowy  OK    OK    OK  UNNEEDED, same version exists in internal repository
391/1974covRNA 1.16.0  (landing page)Lara Urban  OK    OK    OK  UNNEEDED, same version exists in internal repository
392/1974cpvSNP 1.22.0  (landing page)Caitlin McHugh  OK    OK    OK  UNNEEDED, same version exists in internal repository
393/1974cqn 1.36.0  (landing page)Kasper Daniel Hansen  OK    OK    OK  UNNEEDED, same version exists in internal repository
394/1974CRImage 1.38.0  (landing page)Henrik Failmezger , Yinyin Yuan  OK    OK    OK  UNNEEDED, same version exists in internal repository
395/1974CRISPRseek 1.30.1  (landing page)Lihua Julie Zhu  OK    OK    OK  UNNEEDED, same version exists in internal repository
396/1974crisprseekplus 1.16.0  (landing page)Alper Kucukural  OK    OK    OK  UNNEEDED, same version exists in internal repository
397/1974CrispRVariants 1.18.0  (landing page)Helen Lindsay  OK    OK    WARNINGS  UNNEEDED, same version exists in internal repository
398/1974crlmm 1.48.0  (landing page)Benilton S Carvalho  OK    OK    OK  UNNEEDED, same version exists in internal repository
399/1974CrossICC 1.4.0  (landing page)Yu Sun  ERROR    ERROR  skipped
400/1974crossmeta 1.16.1  (landing page)Alex Pickering  OK    OK    WARNINGS  UNNEEDED, same version exists in internal repository
401/1974CSAR 1.42.0  (landing page)Jose M Muino  OK    OK    OK  UNNEEDED, same version exists in internal repository
402/1974csaw 1.24.3  (landing page)Aaron Lun  OK    OK    OK  UNNEEDED, same version exists in internal repository
403/1974CSSP 1.28.0  (landing page)Chandler Zuo  OK    OK    OK  UNNEEDED, same version exists in internal repository
404/1974CSSQ 1.2.0  (landing page)Fan Lab at Georgia Institute of Technology  OK    OK    OK  UNNEEDED, same version exists in internal repository
405/1974ctc 1.64.0  (landing page)Antoine Lucas  OK    OK    OK  UNNEEDED, same version exists in internal repository
406/1974ctgGEM 1.2.0  (landing page)USD Biomedical Engineering  OK    OK    WARNINGS  UNNEEDED, same version exists in internal repository
407/1974cTRAP 1.8.0  (landing page)Nuno Saraiva-Agostinho  OK    OK    OK  UNNEEDED, same version exists in internal repository
408/1974ctsGE 1.16.0  (landing page)Michal Sharabi-Schwager  OK    OK    OK  UNNEEDED, same version exists in internal repository
409/1974cummeRbund 2.32.0  (landing page)Loyal A. Goff  OK    OK    WARNINGS  UNNEEDED, same version exists in internal repository
410/1974customCMPdb 1.0.0  (landing page)Yuzhu Duan  OK    OK    OK  UNNEEDED, same version exists in internal repository
411/1974customProDB 1.30.1  (landing page)Xiaojing Wang  OK    OK    OK  UNNEEDED, same version exists in internal repository
412/1974cycle 1.44.0  (landing page)Matthias Futschik  OK    OK    OK  UNNEEDED, same version exists in internal repository
413/1974cydar 1.14.1  (landing page)Aaron Lun  OK    OK    OK  UNNEEDED, same version exists in internal repository
414/1974CytoDx 1.10.0  (landing page)Zicheng Hu  OK    OK    OK  UNNEEDED, same version exists in internal repository
415/1974cytofast 1.6.0  (landing page)K.A. Stam  OK    OK    OK  UNNEEDED, same version exists in internal repository
416/1974cytolib 2.2.1  (landing page)Mike Jiang , Jake Wagner  OK    OK    OK  UNNEEDED, same version exists in internal repository
417/1974cytomapper 1.2.1  (landing page)Nils Eling  OK    OK    OK  UNNEEDED, same version exists in internal repository
418/1974CytoML 2.2.2  (landing page)Mike Jiang , Jake Wagner  OK    OK    WARNINGS  UNNEEDED, same version exists in internal repository
419/1974CytoTree 1.0.3  (landing page)Yuting Dai  OK    OK    OK  UNNEEDED, same version exists in internal repository
D
ABCDEFGHIJKLMNOPQRSTUVWXYZ
PackageMaintainerINSTALLBUILDCHECKBUILD BIN
420/1974dada2 1.18.0  (landing page)Benjamin Callahan  OK    OK    OK  UNNEEDED, same version exists in internal repository
421/1974dagLogo 1.28.1  (landing page)Jianhong Ou  OK    OK    OK  UNNEEDED, same version exists in internal repository
422/1974daMA 1.62.0  (landing page)Jobst Landgrebe  OK    OK    OK  UNNEEDED, same version exists in internal repository
423/1974DAMEfinder 1.2.0  (landing page)Stephany Orjuela  OK    OK    OK  UNNEEDED, same version exists in internal repository
424/1974DaMiRseq 2.2.0  (landing page)Mattia Chiesa  OK    OK    OK  UNNEEDED, same version exists in internal repository
425/1974DAPAR 1.22.9  (landing page)Samuel Wieczorek  OK    OK    OK  UNNEEDED, same version exists in internal repository
426/1974DART 1.38.0  (landing page)Charles Shijie Zheng  OK    OK    OK  UNNEEDED, same version exists in internal repository
427/1974dasper 1.0.0  (landing page)David Zhang  OK    OK    OK  UNNEEDED, same version exists in internal repository
428/1974DBChIP 1.34.0  (landing page)Kun Liang  OK    OK    WARNINGS  UNNEEDED, same version exists in internal repository
429/1974dcanr 1.6.0  (landing page)Dharmesh D. Bhuva  OK    OK    OK  UNNEEDED, same version exists in internal repository
430/1974dcGSA 1.18.0  (landing page)Jiehuan sun  OK    OK    WARNINGS  UNNEEDED, same version exists in internal repository
431/1974ddCt 1.46.0  (landing page)Jitao David Zhang  OK    OK    OK  UNNEEDED, same version exists in internal repository
432/1974ddPCRclust 1.10.0  (landing page)Benedikt G. Brink  OK    OK    OK  UNNEEDED, same version exists in internal repository
433/1974dearseq 1.2.0  (landing page)Boris P. Hejblum  OK    OK    OK  UNNEEDED, same version exists in internal repository
434/1974debCAM 1.8.0  (landing page)Lulu Chen  ERROR    ERROR  skipped
435/1974debrowser 1.18.3  (landing page)Alper Kucukural  OK    OK    OK  UNNEEDED, same version exists in internal repository
436/1974DECIPHER 2.18.1  (landing page)Erik Wright  OK    OK    OK  UNNEEDED, same version exists in internal repository
437/1974deco 1.6.0  (landing page)Francisco Jose Campos Laborie  OK    OK    OK  UNNEEDED, same version exists in internal repository
438/1974DEComplexDisease 1.10.0  (landing page)Guofeng Meng  OK    OK    OK  UNNEEDED, same version exists in internal repository
439/1974decompTumor2Sig 2.6.0  (landing page)Rosario M. Piro  OK    OK    OK  UNNEEDED, same version exists in internal repository
440/1974DeconRNASeq 1.32.0  (landing page)Ting Gong  OK    OK    OK  UNNEEDED, same version exists in internal repository
441/1974decontam 1.10.0  (landing page)Benjamin Callahan  OK    OK    OK  UNNEEDED, same version exists in internal repository
442/1974DeepBlueR 1.16.0  (landing page)Felipe Albrecht , Markus List  OK    OK    OK  UNNEEDED, same version exists in internal repository
443/1974deepSNV 1.36.0  (landing page)Moritz Gerstung  OK    OK    OK  UNNEEDED, same version exists in internal repository
444/1974DEFormats 1.18.0  (landing page)Andrzej Oleś  OK    OK    OK  UNNEEDED, same version exists in internal repository
445/1974DegNorm 1.0.0  (landing page)Ji-Ping Wang  OK    OK    OK  UNNEEDED, same version exists in internal repository
446/1974DEGraph 1.42.0  (landing page)Laurent Jacob  OK    OK    OK  UNNEEDED, same version exists in internal repository
447/1974DEGreport 1.26.0  (landing page)Lorena Pantano  OK    OK    OK  UNNEEDED, same version exists in internal repository
448/1974DEGseq 1.44.0  (landing page)Likun Wang  OK    OK    OK  UNNEEDED, same version exists in internal repository
449/1974DelayedArray 0.16.3  (landing page)Hervé Pagès  OK    OK    WARNINGS  UNNEEDED, same version exists in internal repository
450/1974DelayedDataFrame 1.6.0  (landing page)Qian Liu  OK    OK    OK  UNNEEDED, same version exists in internal repository
451/1974DelayedMatrixStats 1.12.3  (landing page)Peter Hickey  OK    OK    OK  UNNEEDED, same version exists in internal repository
452/1974deltaCaptureC 1.4.0  (landing page)Michael Shapiro  OK    OK    OK  UNNEEDED, same version exists in internal repository
453/1974deltaGseg 1.30.0  (landing page)Diana Low  OK    OK    OK  UNNEEDED, same version exists in internal repository
454/1974DeMAND 1.20.0  (landing page)Jung Hoon Woo , Mariano Alvarez  OK    OK    OK  UNNEEDED, same version exists in internal repository
455/1974DeMixT 1.6.0  (landing page)Shaolong Cao, Peng Yang  OK    OK    OK  UNNEEDED, same version exists in internal repository
456/1974densvis 1.00.6  (landing page)Alan O'Callaghan  OK    OK    OK  UNNEEDED, same version exists in internal repository
457/1974DEP 1.12.0  (landing page)Arne Smits  OK    OK    OK  UNNEEDED, same version exists in internal repository
458/1974DepecheR 1.6.0  (landing page)Jakob Theorell  OK    OK    OK  UNNEEDED, same version exists in internal repository
459/1974DEqMS 1.8.0  (landing page)Yafeng Zhu  OK    OK    OK  UNNEEDED, same version exists in internal repository
460/1974derfinder 1.24.2  (landing page)Leonardo Collado-Torres  OK    OK    OK  UNNEEDED, same version exists in internal repository
461/1974derfinderHelper 1.24.1  (landing page)Leonardo Collado-Torres  OK    OK    OK  UNNEEDED, same version exists in internal repository
462/1974derfinderPlot 1.24.1  (landing page)Leonardo Collado-Torres  OK    OK    OK  UNNEEDED, same version exists in internal repository
463/1974DEScan2 1.10.0  (landing page)Dario Righelli  OK    OK    WARNINGS  UNNEEDED, same version exists in internal repository
464/1974DESeq 1.42.0  (landing page)Simon Anders  OK    ERROR  skipped
465/1974DESeq2 1.30.1  (landing page)Michael Love  OK    OK    OK  UNNEEDED, same version exists in internal repository
466/1974DEsingle 1.10.0  (landing page)Zhun Miao  OK    OK    OK  UNNEEDED, same version exists in internal repository
467/1974destiny 3.4.0  (landing page)Philipp Angerer  OK    ERROR  skipped
468/1974DEsubs 1.16.0  (landing page)Aristidis G. Vrahatis , Panos Balomenos  OK    OK    OK  UNNEEDED, same version exists in internal repository
469/1974DEWSeq 1.4.4  (landing page)bioinformatics team Hentze  OK    OK    OK  UNNEEDED, same version exists in internal repository
470/1974DEXSeq 1.36.0  (landing page)Alejandro Reyes  OK    OK    OK  UNNEEDED, same version exists in internal repository
471/1974dexus 1.30.0  (landing page)Guenter Klambauer  OK    OK    OK  UNNEEDED, same version exists in internal repository
472/1974DFP 1.48.0  (landing page)Rodrigo Alvarez-Glez  OK    OK    OK  UNNEEDED, same version exists in internal repository
473/1974DIAlignR 1.2.0  (landing page)Shubham Gupta  OK    OK    OK  UNNEEDED, same version exists in internal repository
474/1974DiffBind 3.0.15  (landing page)Rory Stark  OK    OK    OK  UNNEEDED, same version exists in internal repository
475/1974diffcoexp 1.10.0  (landing page)Wenbin Wei  OK    OK    OK  UNNEEDED, same version exists in internal repository
476/1974diffcyt 1.10.0  (landing page)Lukas M. Weber  OK    OK    OK  UNNEEDED, same version exists in internal repository
477/1974diffGeneAnalysis 1.72.0  (landing page)Choudary Jagarlamudi  OK    OK    OK  UNNEEDED, same version exists in internal repository
478/1974diffHic 1.22.0  (landing page)Aaron Lun  OK    OK    OK  UNNEEDED, same version exists in internal repository
479/1974DiffLogo 2.14.0  (landing page)Hendrik Treutler  OK    OK    OK  UNNEEDED, same version exists in internal repository
480/1974diffloop 1.18.0  (landing page)Caleb Lareau  OK    OK    OK  UNNEEDED, same version exists in internal repository
481/1974diffuStats 1.10.2  (landing page)Sergio Picart-Armada  OK    OK    OK  UNNEEDED, same version exists in internal repository
482/1974diggit 1.22.0  (landing page)Mariano J Alvarez  OK    OK    WARNINGS  UNNEEDED, same version exists in internal repository
483/1974Director 1.16.0  (landing page)Katherine Icay  OK    OK    OK  UNNEEDED, same version exists in internal repository
484/1974DirichletMultinomial 1.32.0  (landing page)Martin Morgan  OK    OK    OK  UNNEEDED, same version exists in internal repository
485/1974discordant 1.14.0  (landing page)Charlotte Siska  OK    OK    WARNINGS  UNNEEDED, same version exists in internal repository
486/1974DiscoRhythm 1.6.0  (landing page)Matthew Carlucci  OK    OK    OK  UNNEEDED, same version exists in internal repository
487/1974distinct 1.2.0  (landing page)Simone Tiberi  OK    OK    OK  UNNEEDED, same version exists in internal repository
488/1974dittoSeq 1.2.6  (landing page)Daniel Bunis  OK    ERROR  skipped
489/1974divergence 1.6.0  (landing page)Wikum Dinalankara , Luigi Marchionni  OK    OK    OK  UNNEEDED, same version exists in internal repository
490/1974dks 1.36.0  (landing page)Jeffrey T. Leek  OK    OK    OK  UNNEEDED, same version exists in internal repository
491/1974DMCFB 1.4.0  (landing page)Farhad Shokoohi  OK    OK    OK  UNNEEDED, same version exists in internal repository
492/1974DMCHMM 1.12.0  (landing page)Farhad Shokoohi  OK    OK    OK  UNNEEDED, same version exists in internal repository
493/1974DMRcaller 1.22.0  (landing page)Nicolae Radu Zabet  OK    OK    OK  UNNEEDED, same version exists in internal repository
494/1974DMRcate 2.4.1  (landing page)Tim Peters  OK    OK    OK  UNNEEDED, same version exists in internal repository
495/1974DMRforPairs 1.26.0  (landing page)Martin Rijlaarsdam  OK    OK    OK  UNNEEDED, same version exists in internal repository
496/1974DMRScan 1.12.0  (landing page)Christian M Page  OK    OK    OK  UNNEEDED, same version exists in internal repository
497/1974dmrseq 1.10.1  (landing page)Keegan Korthauer  OK    OK    WARNINGS  UNNEEDED, same version exists in internal repository
498/1974DNABarcodeCompatibility 1.6.0  (landing page)Céline Trébeau  OK    OK    OK  UNNEEDED, same version exists in internal repository
499/1974DNABarcodes 1.20.0  (landing page)Tilo Buschmann  OK    OK    OK  UNNEEDED, same version exists in internal repository
500/1974DNAcopy 1.64.0  (landing page)Venkatraman E. Seshan  OK    OK    OK  UNNEEDED, same version exists in internal repository
501/1974DNAshapeR 1.18.0  (landing page)Tsu-Pei Chiu  OK    OK    OK  UNNEEDED, same version exists in internal repository
502/1974DominoEffect 1.10.1  (landing page)Marija Buljan  OK    OK    OK  UNNEEDED, same version exists in internal repository
503/1974doppelgangR 1.18.0  (landing page)Levi Waldron  OK    OK    OK  UNNEEDED, same version exists in internal repository
504/1974Doscheda 1.12.0  (landing page)Bruno Contrino  OK    OK    OK  UNNEEDED, same version exists in internal repository
505/1974DOSE 3.16.0  (landing page)Guangchuang Yu  OK    OK    OK  UNNEEDED, same version exists in internal repository
506/1974doseR 1.6.0  (landing page)ake.vastermark  OK    OK    OK  UNNEEDED, same version exists in internal repository
507/1974dpeak 1.2.0  (landing page)Dongjun Chung  OK    OK    OK  UNNEEDED, same version exists in internal repository
508/1974drawProteins 1.10.0  (landing page)Paul Brennan  OK    OK    OK  UNNEEDED, same version exists in internal repository
509/1974DRIMSeq 1.18.0  (landing page)Malgorzata Nowicka  OK    OK    WARNINGS  UNNEEDED, same version exists in internal repository
510/1974DriverNet 1.30.0  (landing page)Jiarui Ding  OK    OK    OK  UNNEEDED, same version exists in internal repository
511/1974DropletUtils 1.10.3  (landing page)Aaron Lun  OK    OK    OK  UNNEEDED, same version exists in internal repository
512/1974DrugVsDisease 2.32.0  (landing page)j. Saez-Rodriguez  OK    OK    OK  UNNEEDED, same version exists in internal repository
513/1974DSS 2.38.0  (landing page)Hao Wu , Hao Feng  OK    OK    OK  UNNEEDED, same version exists in internal repository
514/1974DTA 2.36.0  (landing page)Bjoern Schwalb  OK    OK    OK  UNNEEDED, same version exists in internal repository
515/1974dualKS 1.50.0  (landing page)Eric J. Kort  OK    OK    OK  UNNEEDED, same version exists in internal repository
516/1974Dune 1.2.0  (landing page)Hector Roux de Bezieux  OK    OK    OK  UNNEEDED, same version exists in internal repository
517/1974dupRadar 1.20.0  (landing page)Sergi Sayols , Holger Klein  OK    OK    OK  UNNEEDED, same version exists in internal repository
518/1974dyebias 1.50.0  (landing page)Philip Lijnzaad  OK    OK    OK  UNNEEDED, same version exists in internal repository
519/1974DynDoc 1.68.0  (landing page)Bioconductor Package Maintainer  OK    OK    OK  UNNEEDED, same version exists in internal repository
E
ABCDEFGHIJKLMNOPQRSTUVWXYZ
PackageMaintainerINSTALLBUILDCHECKBUILD BIN
520/1974EasyqpcR 1.32.0  (landing page)Le Pape Sylvain  ERROR    ERROR  skipped
521/1974easyreporting 1.2.0  (landing page)Dario Righelli  OK    OK    OK  UNNEEDED, same version exists in internal repository
522/1974easyRNASeq 2.26.0  (landing page)Nicolas Delhomme  OK    ERROR  skipped
523/1974EBarrays 2.54.0  (landing page)Ming Yuan  OK    OK    OK  UNNEEDED, same version exists in internal repository
524/1974EBcoexpress 1.34.0  (landing page)John A. Dawson  OK    OK    WARNINGS  UNNEEDED, same version exists in internal repository
525/1974EBImage 4.32.0  (landing page)Andrzej Oleś  OK    OK    OK  UNNEEDED, same version exists in internal repository
526/1974EBSEA 1.18.0  (landing page)Arfa Mehmood  OK    OK    OK  UNNEEDED, same version exists in internal repository
527/1974EBSeq 1.30.0  (landing page)Ning Leng  OK    OK    OK  UNNEEDED, same version exists in internal repository
528/1974EBSeqHMM 1.24.0  (landing page)Ning Leng  OK    OK    OK  UNNEEDED, same version exists in internal repository
529/1974ecolitk 1.62.0  (landing page)Laurent Gautier  OK    OK    WARNINGS  UNNEEDED, same version exists in internal repository
530/1974EDASeq 2.24.0  (landing page)Davide Risso  OK    OK    OK  UNNEEDED, same version exists in internal repository
531/1974EDDA 1.28.0  (landing page)Chia Kuan Hui Burton , Niranjan Nagarajan  OK    OK    WARNINGS  UNNEEDED, same version exists in internal repository
532/1974edge 2.22.0  (landing page)John D. Storey , Andrew J. Bass  OK    OK    WARNINGS  UNNEEDED, same version exists in internal repository
533/1974edgeR 3.32.1  (landing page)Yunshun Chen , Gordon Smyth , Aaron Lun , Mark Robinson  OK    OK    OK  UNNEEDED, same version exists in internal repository
534/1974eegc 1.16.0  (landing page)Xiaoyuan Zhou  OK    OK    WARNINGS  UNNEEDED, same version exists in internal repository
535/1974EGAD 1.18.0  (landing page)Sara Ballouz  OK    OK    WARNINGS  UNNEEDED, same version exists in internal repository
536/1974EGSEA 1.18.1  (landing page)Monther Alhamdoosh  OK    OK    OK  UNNEEDED, same version exists in internal repository
537/1974eiR 1.30.0  (landing page)Thomas Girke  OK    OK    OK  UNNEEDED, same version exists in internal repository
538/1974eisa 1.42.0  (landing page)Gabor Csardi  OK    OK    OK  UNNEEDED, same version exists in internal repository
539/1974eisaR 1.2.0  (landing page)Michael Stadler  OK    OK    OK  UNNEEDED, same version exists in internal repository
540/1974ELBOW 1.26.0  (landing page)Graham Alvare , Xiangli Zhang  OK    OK    OK  UNNEEDED, same version exists in internal repository
541/1974ELMER 2.14.0  (landing page)Tiago Chedraoui Silva  OK    OK    OK  UNNEEDED, same version exists in internal repository
542/1974EMDomics 2.20.0  (landing page)Sadhika Malladi and Daniel Schmolze  OK    OK    OK  UNNEEDED, same version exists in internal repository
543/1974EmpiricalBrownsMethod 1.18.0  (landing page)David Gibbs  OK    OK    OK  UNNEEDED, same version exists in internal repository
544/1974ENCODExplorer 2.16.0  (landing page)Charles Joly Beauparlant  OK    OK    ERROR  
545/1974EnhancedVolcano 1.8.0  (landing page)Kevin Blighe  OK    OK    OK  UNNEEDED, same version exists in internal repository
546/1974EnMCB 1.2.2  (landing page)Xin Yu  OK    OK    WARNINGS  UNNEEDED, same version exists in internal repository
547/1974ENmix 1.26.10  (landing page)Zongli Xu  OK    OK    OK  UNNEEDED, same version exists in internal repository
548/1974EnrichedHeatmap 1.20.0  (landing page)Zuguang Gu  OK    OK    OK  UNNEEDED, same version exists in internal repository
549/1974EnrichmentBrowser 2.20.7  (landing page)Ludwig Geistlinger  OK    OK    OK  UNNEEDED, same version exists in internal repository
550/1974enrichplot 1.10.2  (landing page)Guangchuang Yu  OK    OK    OK  UNNEEDED, same version exists in internal repository
551/1974enrichTF 1.6.0  (landing page)Zheng Wei  OK    OK    OK  UNNEEDED, same version exists in internal repository
552/1974ensembldb 2.14.1  (landing page)Johannes Rainer  OK    OK    OK  UNNEEDED, same version exists in internal repository
553/1974ensemblVEP 1.32.1  (landing page)Bioconductor Package Maintainer  OK    OK    OK  UNNEEDED, same version exists in internal repository
554/1974ENVISIONQuery 1.38.0  (landing page)Alex Lisovich , Roger Day  OK    OK    OK  UNNEEDED, same version exists in internal repository
555/1974EpiDISH 2.6.1  (landing page)Shijie C. Zheng  OK    OK    OK  UNNEEDED, same version exists in internal repository
556/1974epigenomix 1.30.0  (landing page)Hans-Ulrich Klein  OK    OK    OK  UNNEEDED, same version exists in internal repository
557/1974epihet 1.6.1  (landing page)Xiaowen Chen  OK    OK    OK  UNNEEDED, same version exists in internal repository
558/1974epiNEM 1.14.1  (landing page)Martin Pirkl  OK    OK    OK  UNNEEDED, same version exists in internal repository
559/1974EpiTxDb 1.2.1  (landing page)Felix G.M. Ernst  OK    OK    OK  UNNEEDED, same version exists in internal repository
560/1974epivizr 2.20.0  (landing page)Hector Corrada Bravo  OK    OK    OK  UNNEEDED, same version exists in internal repository
561/1974epivizrChart 1.12.0  (landing page)Hector Corrada Bravo  OK    OK    OK  UNNEEDED, same version exists in internal repository
562/1974epivizrData 1.18.0  (landing page)Hector Corrada Bravo  OK    OK    OK  UNNEEDED, same version exists in internal repository
563/1974epivizrServer 1.18.0  (landing page)Hector Corrada Bravo  OK    OK    OK  UNNEEDED, same version exists in internal repository
564/1974epivizrStandalone 1.18.0  (landing page)Hector Corrada Bravo  OK    OK    OK  UNNEEDED, same version exists in internal repository
565/1974erccdashboard 1.24.0  (landing page)Sarah Munro  OK    OK    OK  UNNEEDED, same version exists in internal repository
566/1974erma 1.6.0  (landing page)VJ Carey  OK    OK    OK  UNNEEDED, same version exists in internal repository
567/1974ERSSA 1.8.0  (landing page)Zixuan Shao  OK    OK    OK  UNNEEDED, same version exists in internal repository
568/1974esATAC 1.12.0  (landing page)Zheng Wei  OK    OK    OK  UNNEEDED, same version exists in internal repository
569/1974escape 1.0.1  (landing page)Nick Borcherding  OK    ERROR  skipped
570/1974esetVis 1.16.0  (landing page)Laure Cougnaud  OK    OK    OK  UNNEEDED, same version exists in internal repository
571/1974eudysbiome 1.20.0  (landing page)Xiaoyuan Zhou  OK    OK    OK  UNNEEDED, same version exists in internal repository
572/1974evaluomeR 1.6.6  (landing page)José Antonio Bernabé-Díaz  OK    OK    OK  UNNEEDED, same version exists in internal repository
573/1974EventPointer 2.8.0  (landing page)Juan Pablo Romero  OK    OK    OK  UNNEEDED, same version exists in internal repository
574/1974ExCluster 1.8.0  (landing page)R. Matthew Tanner  OK    OK    OK  UNNEEDED, same version exists in internal repository
575/1974ExiMiR 2.32.0  (landing page)Sylvain Gubian  OK    OK    OK  UNNEEDED, same version exists in internal repository
576/1974exomeCopy 1.36.0  (landing page)Michael Love  OK    OK    OK  UNNEEDED, same version exists in internal repository
577/1974exomePeak2 1.2.0  (landing page)Zhen Wei  OK    OK    OK  UNNEEDED, same version exists in internal repository
578/1974ExperimentHub 1.16.1  (landing page)Bioconductor Package Maintainer  OK    OK    OK  UNNEEDED, same version exists in internal repository
579/1974ExperimentHubData 1.16.1  (landing page)Bioconductor Package Maintainer  OK    OK    OK  UNNEEDED, same version exists in internal repository
580/1974ExperimentSubset 1.0.0  (landing page)Irzam Sarfraz  OK    OK    OK  UNNEEDED, same version exists in internal repository
581/1974explorase 1.54.0  (landing page)Michael Lawrence  ERROR    ERROR  skipped
582/1974ExploreModelMatrix 1.2.0  (landing page)Charlotte Soneson  OK    OK    OK  UNNEEDED, same version exists in internal repository
583/1974ExpressionAtlas 1.18.0  (landing page)Suhaib Mohammed  OK    OK    OK  UNNEEDED, same version exists in internal repository
584/1974ExpressionView 1.42.0  (landing page)Gabor Csardi  OK    OK    WARNINGS  UNNEEDED, same version exists in internal repository
F
ABCDEFGHIJKLMNOPQRSTUVWXYZ
PackageMaintainerINSTALLBUILDCHECKBUILD BIN
585/1974fabia 2.36.0  (landing page)Andreas Mitterecker  OK    OK    OK  UNNEEDED, same version exists in internal repository
586/1974factDesign 1.66.0  (landing page)Denise Scholtens  OK    OK    OK  UNNEEDED, same version exists in internal repository
587/1974FamAgg 1.18.0  (landing page)Johannes Rainer  OK    OK    OK  UNNEEDED, same version exists in internal repository
588/1974famat 1.0.0  (landing page)Emilie Secherre  OK    OK    OK  UNNEEDED, same version exists in internal repository
589/1974farms 1.42.0  (landing page)Djork-Arne Clevert  OK    OK    OK  UNNEEDED, same version exists in internal repository
590/1974fastLiquidAssociation 1.26.0  (landing page)Tina Gunderson  OK    OK    WARNINGS  UNNEEDED, same version exists in internal repository
591/1974FastqCleaner 1.8.0  (landing page)Leandro Roser  OK    OK    OK  UNNEEDED, same version exists in internal repository
592/1974fastseg 1.36.0  (landing page)Guenter Klambauer  OK    OK    WARNINGS  UNNEEDED, same version exists in internal repository
593/1974FCBF 1.8.0  (landing page)Tiago Lubiana  OK    OK    OK  UNNEEDED, same version exists in internal repository
594/1974fCCAC 1.16.0  (landing page)Pedro Madrigal  OK    OK    OK  UNNEEDED, same version exists in internal repository
595/1974fCI 1.20.0  (landing page)Shaojun Tang  OK    OK    OK  UNNEEDED, same version exists in internal repository
596/1974fcoex 1.4.0  (landing page)Tiago Lubiana  OK    OK    ERROR  
597/1974fcScan 1.4.0  (landing page)Pierre Khoueiry Abdullah El-Kurdi  OK    OK    OK  UNNEEDED, same version exists in internal repository
598/1974fdrame 1.62.0  (landing page)Effi Kenigsberg  OK    OK    OK  UNNEEDED, same version exists in internal repository
599/1974FELLA 1.10.0  (landing page)Sergio Picart-Armada  OK    OK    OK  UNNEEDED, same version exists in internal repository
600/1974ffpe 1.34.0  (landing page)Levi Waldron  OK    OK    OK  UNNEEDED, same version exists in internal repository
601/1974FGNet 3.24.0  (landing page)Sara Aibar  OK    OK    OK  UNNEEDED, same version exists in internal repository
602/1974fgsea 1.16.0  (landing page)Alexey Sergushichev  OK    OK    OK  UNNEEDED, same version exists in internal repository
603/1974FilterFFPE 1.0.0  (landing page)Lanying Wei  OK    OK    OK  UNNEEDED, same version exists in internal repository
604/1974FindMyFriends 1.20.0  (landing page)Thomas Lin Pedersen  OK    OK    WARNINGS  UNNEEDED, same version exists in internal repository
605/1974FISHalyseR 1.24.0  (landing page)Karesh Arunakirinathan  OK    OK    WARNINGS  UNNEEDED, same version exists in internal repository
606/1974fishpond 1.6.0  (landing page)Michael Love  OK    OK    OK  UNNEEDED, same version exists in internal repository
607/1974FitHiC 1.16.0  (landing page)Ruyu Tan  OK    OK    OK  UNNEEDED, same version exists in internal repository
608/1974flagme 1.46.0  (landing page)Mark Robinson , Riccardo Romoli  OK    OK    WARNINGS  UNNEEDED, same version exists in internal repository
609/1974flowAI 1.20.1  (landing page)Gianni Monaco  OK    OK    OK  UNNEEDED, same version exists in internal repository
610/1974flowBeads 1.28.0  (landing page)Nikolas Pontikos  OK    OK    WARNINGS  UNNEEDED, same version exists in internal repository
611/1974flowBin 1.26.0  (landing page)Kieran O'Neill  OK    OK    OK  UNNEEDED, same version exists in internal repository
612/1974flowcatchR 1.24.0  (landing page)Federico Marini  OK    OK    OK  UNNEEDED, same version exists in internal repository
613/1974flowCHIC 1.24.0  (landing page)Author: Joachim Schumann  OK    OK    OK  UNNEEDED, same version exists in internal repository
614/1974flowCL 1.28.1  (landing page)Justin Meskas  OK    OK    OK  UNNEEDED, same version exists in internal repository
615/1974flowClean 1.28.0  (landing page)Kipper Fletez-Brant  OK    OK    WARNINGS  UNNEEDED, same version exists in internal repository
616/1974flowClust 3.28.0  (landing page)Greg Finak , Mike Jiang , Jake Wagner  OK    OK    OK  UNNEEDED, same version exists in internal repository
617/1974flowCore 2.2.0  (landing page)Mike Jiang , Jake Wagner  OK    OK    OK  UNNEEDED, same version exists in internal repository
618/1974flowCut 1.0.0  (landing page)Justin Meskas  OK    OK    OK  UNNEEDED, same version exists in internal repository
619/1974flowCyBar 1.26.0  (landing page)Joachim Schumann  OK    OK    OK  UNNEEDED, same version exists in internal repository
620/1974flowDensity 1.24.0  (landing page)Mehrnoush Malek  OK    OK    WARNINGS  UNNEEDED, same version exists in internal repository
621/1974flowFit 1.28.0  (landing page)Davide Rambaldi  ERROR    ERROR  skipped
622/1974flowFP 1.48.0  (landing page)Herb Holyst  OK    OK    OK  UNNEEDED, same version exists in internal repository
623/1974flowMap 1.28.0  (landing page)Chiaowen Joyce Hsiao  OK    OK    WARNINGS  UNNEEDED, same version exists in internal repository
624/1974flowMatch 1.26.0  (landing page)Ariful Azad  OK    OK    OK  UNNEEDED, same version exists in internal repository
625/1974flowMeans 1.50.0  (landing page)Nima Aghaeepour  OK    OK    OK  UNNEEDED, same version exists in internal repository
626/1974flowMerge 2.38.0  (landing page)Greg Finak  OK    OK    OK  UNNEEDED, same version exists in internal repository
627/1974flowPeaks 1.36.0  (landing page)Yongchao Ge  OK    OK    OK  UNNEEDED, same version exists in internal repository
628/1974flowPloidy 1.16.0  (landing page)Tyler Smith  OK    OK    OK  UNNEEDED, same version exists in internal repository
629/1974flowPlots 1.38.0  (landing page)N. Hawkins  OK    OK    OK  UNNEEDED, same version exists in internal repository
630/1974FlowRepositoryR 1.22.0  (landing page)Josef Spidlen  OK    ERROR  skipped
631/1974FlowSOM 1.22.0  (landing page)Sofie Van Gassen  OK    OK    OK  UNNEEDED, same version exists in internal repository
632/1974flowSpecs 1.4.0  (landing page)Jakob Theorell  OK    OK    OK  UNNEEDED, same version exists in internal repository
633/1974flowSpy 1.4.0  (landing page)Yuting Dai  OK    OK    WARNINGS  UNNEEDED, same version exists in internal repository
634/1974flowStats 4.2.0  (landing page)Greg Finak , Mike Jiang , Jake Wagner  OK    OK    OK  UNNEEDED, same version exists in internal repository
635/1974flowTime 1.14.0  (landing page)R. Clay Wright  OK    OK    OK  UNNEEDED, same version exists in internal repository
636/1974flowTrans 1.42.0  (landing page)Greg Finak  OK    OK    OK  UNNEEDED, same version exists in internal repository
637/1974flowType 2.28.0  (landing page)Nima Aghaeepour  OK    OK    ERROR  
638/1974flowUtils 1.54.0  (landing page)Josef Spidlen  OK    OK    WARNINGS  UNNEEDED, same version exists in internal repository
639/1974flowViz 1.54.0  (landing page)Mike Jiang , Jake Wagner  OK    OK    OK  UNNEEDED, same version exists in internal repository
640/1974flowVS 1.22.4  (landing page)Ariful Azad  OK    OK    OK  UNNEEDED, same version exists in internal repository
641/1974flowWorkspace 4.2.0  (landing page)Greg Finak ,Mike Jiang ,Jake Wagner  OK    OK    WARNINGS  UNNEEDED, same version exists in internal repository
642/1974fmcsR 1.32.0  (landing page)Thomas Girke  OK    OK    OK  UNNEEDED, same version exists in internal repository
643/1974fmrs 1.0.0  (landing page)Farhad Shokoohi  OK    OK    OK  UNNEEDED, same version exists in internal repository
644/1974focalCall 1.24.0  (landing page)Oscar Krijgsman  OK    OK    ERROR  
645/1974FoldGO 1.8.0  (landing page)Daniil Wiebe  OK    OK    OK  UNNEEDED, same version exists in internal repository
646/1974FourCSeq 1.24.0  (landing page)Mike Smith  OK    OK    WARNINGS  UNNEEDED, same version exists in internal repository
647/1974FRASER 1.2.1  (landing page)Christian Mertes  OK    OK    OK  UNNEEDED, same version exists in internal repository
648/1974frenchFISH 1.2.0  (landing page)Adam Berman  OK    OK    OK  UNNEEDED, same version exists in internal repository
649/1974FRGEpistasis 1.26.0  (landing page)Futao Zhang  OK    OK    OK  UNNEEDED, same version exists in internal repository
650/1974frma 1.42.0  (landing page)Matthew N. McCall  OK    OK    OK  UNNEEDED, same version exists in internal repository
651/1974frmaTools 1.42.0  (landing page)Matthew N. McCall  OK    OK    OK  UNNEEDED, same version exists in internal repository
652/1974FScanR 1.0.0  (landing page)Xiao Chen  OK    OK    OK  UNNEEDED, same version exists in internal repository
653/1974FunChIP 1.16.0  (landing page)Alice Parodi  OK    OK    WARNINGS  UNNEEDED, same version exists in internal repository
654/1974FunciSNP 1.34.0  (landing page)Simon G. Coetzee  OK    OK    WARNINGS  UNNEEDED, same version exists in internal repository
655/1974funtooNorm 1.14.0  (landing page)Kathleen Klein  OK    OK    WARNINGS  UNNEEDED, same version exists in internal repository
G
ABCDEFGHIJKLMNOPQRSTUVWXYZ
PackageMaintainerINSTALLBUILDCHECKBUILD BIN
656/1974GA4GHclient 1.14.0  (landing page)Welliton Souza  OK    OK    OK  UNNEEDED, same version exists in internal repository
657/1974GA4GHshiny 1.12.0  (landing page)Welliton Souza  OK    OK    OK  UNNEEDED, same version exists in internal repository
658/1974gaga 2.36.0  (landing page)David Rossell  OK    OK    OK  UNNEEDED, same version exists in internal repository
659/1974gage 2.40.2  (landing page)Weijun Luo  OK    OK    WARNINGS  UNNEEDED, same version exists in internal repository
660/1974gaggle 1.58.0  (landing page)Christopher Bare  OK    OK    OK  UNNEEDED, same version exists in internal repository
661/1974gaia 2.34.0  (landing page)S. Morganella  OK    OK    OK  UNNEEDED, same version exists in internal repository
662/1974GAPGOM 1.6.0  (landing page)Rezvan Ehsani  OK    OK    OK  UNNEEDED, same version exists in internal repository
663/1974GAprediction 1.16.0  (landing page)Jon Bohlin  OK    OK    OK  UNNEEDED, same version exists in internal repository
664/1974garfield 1.18.0  (landing page)Valentina Iotchkova  OK    OK    OK  UNNEEDED, same version exists in internal repository
665/1974GARS 1.10.0  (landing page)Mattia Chiesa  OK    OK    OK  UNNEEDED, same version exists in internal repository
666/1974GateFinder 1.10.0  (landing page)Nima Aghaeepour  OK    OK    OK  UNNEEDED, same version exists in internal repository
667/1974gcapc 1.14.0  (landing page)Mingxiang Teng  OK    OK    OK  UNNEEDED, same version exists in internal repository
668/1974gcatest 1.20.0  (landing page)Wei Hao , John D. Storey  OK    OK    OK  UNNEEDED, same version exists in internal repository
669/1974gCrisprTools 1.18.0  (landing page)Russell Bainer  OK    OK    WARNINGS  UNNEEDED, same version exists in internal repository
670/1974gcrma 2.62.0  (landing page)Z. Wu  OK    OK    OK  UNNEEDED, same version exists in internal repository
671/1974GCSConnection 1.2.0  (landing page)Jiefei Wang  OK    OK    OK  UNNEEDED, same version exists in internal repository
672/1974GCSFilesystem 1.0.0  (landing page)Jiefei Wang  OK    OK    OK  UNNEEDED, same version exists in internal repository
673/1974GCSscore 1.4.0  (landing page)Guy M. Harris  OK    OK    OK  UNNEEDED, same version exists in internal repository
674/1974GDCRNATools 1.10.1  (landing page)Ruidong Li  OK    OK    OK  UNNEEDED, same version exists in internal repository
675/1974GDSArray 1.10.1  (landing page)Qian Liu  OK    OK    OK  UNNEEDED, same version exists in internal repository
676/1974gdsfmt 1.26.1  (landing page)Xiuwen Zheng  OK    OK    OK  UNNEEDED, same version exists in internal repository
677/1974GEM 1.16.0  (landing page)Hong Pan  OK    OK    OK  UNNEEDED, same version exists in internal repository
678/1974gemini 1.4.0  (landing page)Sidharth Jain  OK    OK    ERROR  
679/1974genArise 1.66.0  (landing page)IFC Development Team  OK    OK    WARNINGS  UNNEEDED, same version exists in internal repository
680/1974genbankr 1.18.0  (landing page)Gabriel Becker  OK    OK    OK  UNNEEDED, same version exists in internal repository
681/1974GeneAccord 1.8.0  (landing page)Ariane L. Moore  OK    OK    OK  UNNEEDED, same version exists in internal repository
682/1974GeneAnswers 2.32.0  (landing page)Lei Huang and Gang Feng  OK    OK    WARNINGS  UNNEEDED, same version exists in internal repository
683/1974geneAttribution 1.16.0  (landing page)Arthur Wuster  OK    OK    OK  UNNEEDED, same version exists in internal repository
684/1974GeneBreak 1.20.0  (landing page)Evert van den Broek  OK    OK    OK  UNNEEDED, same version exists in internal repository
685/1974geneClassifiers 1.14.0  (landing page)R Kuiper  OK    OK    OK  UNNEEDED, same version exists in internal repository
686/1974GeneExpressionSignature 1.36.0  (landing page)Yang Cao , Fei Li  OK    OK    WARNINGS  UNNEEDED, same version exists in internal repository
687/1974genefilter 1.72.1  (landing page)Bioconductor Package Maintainer  OK    OK    WARNINGS  UNNEEDED, same version exists in internal repository
688/1974genefu 2.22.1  (landing page)Benjamin Haibe-Kains  OK    OK    OK  UNNEEDED, same version exists in internal repository
689/1974GeneGA 1.40.0  (landing page)Zhenpeng Li  OK    OK    OK  UNNEEDED, same version exists in internal repository
690/1974GeneGeneInteR 1.16.0  (landing page)Mathieu Emily  OK    OK    OK  UNNEEDED, same version exists in internal repository
691/1974GeneMeta 1.62.0  (landing page)Bioconductor Package Maintainer  OK    OK    OK  UNNEEDED, same version exists in internal repository
692/1974GeneNetworkBuilder 1.32.0  (landing page)Jianhong Ou  OK    OK    OK  UNNEEDED, same version exists in internal repository
693/1974GeneOverlap 1.26.0  (landing page)António Miguel de Jesus Domingues, Max-Planck Institute for Cell Biology and Genetics  OK    OK    OK  UNNEEDED, same version exists in internal repository
694/1974geneplast 1.16.0  (landing page)Mauro Castro  OK    OK    WARNINGS  UNNEEDED, same version exists in internal repository
695/1974geneplotter 1.68.0  (landing page)Bioconductor Package Maintainer  OK    OK    OK  UNNEEDED, same version exists in internal repository
696/1974geneRecommender 1.62.0  (landing page)Greg Hather  OK    OK    OK  UNNEEDED, same version exists in internal repository
697/1974GeneRegionScan 1.46.0  (landing page)Lasse Folkersen  OK    OK    OK  UNNEEDED, same version exists in internal repository
698/1974geneRxCluster 1.26.0  (landing page)Charles Berry  OK    OK    OK  UNNEEDED, same version exists in internal repository
699/1974GeneSelectMMD 2.34.0  (landing page)Weiliang Qiu  OK    OK    WARNINGS  UNNEEDED, same version exists in internal repository
700/1974GENESIS 2.20.1  (landing page)Stephanie M. Gogarten  OK    OK    OK  UNNEEDED, same version exists in internal repository
701/1974GeneStructureTools 1.10.0  (landing page)Beth Signal  OK    OK    OK  UNNEEDED, same version exists in internal repository
702/1974geNetClassifier 1.30.0  (landing page)Sara Aibar  OK    OK    OK  UNNEEDED, same version exists in internal repository
703/1974GeneticsDesign 1.58.0  (landing page)The R Genetics Project  OK    OK    ERROR  
704/1974GeneticsPed 1.52.0  (landing page)David Henderson  OK    OK    OK  UNNEEDED, same version exists in internal repository
705/1974GeneTonic 1.2.0  (landing page)Federico Marini  OK    OK    OK  UNNEEDED, same version exists in internal repository
706/1974geneXtendeR 1.16.0  (landing page)Bohdan Khomtchouk  OK    OK    WARNINGS  UNNEEDED, same version exists in internal repository
707/1974GENIE3 1.12.0  (landing page)Van Anh Huynh-Thu  OK    OK    OK  UNNEEDED, same version exists in internal repository
708/1974genoCN 1.42.0  (landing page)Wei Sun  OK    OK    WARNINGS  UNNEEDED, same version exists in internal repository
709/1974GenoGAM 2.8.0  (landing page)Georg Stricker  OK    OK    WARNINGS  UNNEEDED, same version exists in internal repository
710/1974genomation 1.22.0  (landing page)Altuna Akalin , Vedran Franke  OK    OK    WARNINGS  UNNEEDED, same version exists in internal repository
711/1974GenomeInfoDb 1.26.7  (landing page)Bioconductor Package Maintainer  OK    OK    OK  UNNEEDED, same version exists in internal repository
712/1974genomeIntervals 1.46.0  (landing page)Julien Gagneur  OK    OK    OK  UNNEEDED, same version exists in internal repository
713/1974genomes 3.20.0  (landing page)Chris Stubben  OK    OK    OK  UNNEEDED, same version exists in internal repository
714/1974GenomicAlignments 1.26.0  (landing page)Bioconductor Package Maintainer  OK    OK    OK  UNNEEDED, same version exists in internal repository
715/1974GenomicDataCommons 1.14.0  (landing page)Sean Davis  OK    OK    WARNINGS  UNNEEDED, same version exists in internal repository
716/1974GenomicFeatures 1.42.3  (landing page)Bioconductor Package Maintainer  OK    OK    OK  UNNEEDED, same version exists in internal repository
717/1974GenomicFiles 1.26.0  (landing page)Bioconductor Package Maintainer  OK    OK    OK  UNNEEDED, same version exists in internal repository
718/1974GenomicInteractions 1.24.0  (landing page)Liz Ing-Simmons  OK    OK    OK  UNNEEDED, same version exists in internal repository
719/1974GenomicOZone 1.4.1  (landing page)Mingzhou Song  OK    OK    OK  UNNEEDED, same version exists in internal repository
720/1974GenomicRanges 1.42.0  (landing page)Bioconductor Package Maintainer  OK    OK    OK  UNNEEDED, same version exists in internal repository
721/1974GenomicScores 2.2.0  (landing page)Robert Castelo  OK    OK    OK  UNNEEDED, same version exists in internal repository
722/1974GenomicTuples 1.24.0  (landing page)Peter Hickey  OK    OK    OK  UNNEEDED, same version exists in internal repository
723/1974genoset 1.46.0  (landing page)Peter M. Haverty  OK    ERROR  skipped
724/1974genotypeeval 1.22.0  (landing page)Jennifer Tom  OK    OK    OK  UNNEEDED, same version exists in internal repository
725/1974genphen 1.18.0  (landing page)Simo Kitanovski  OK    ERROR  skipped
726/1974GenRank 1.18.0  (landing page)Chakravarthi Kanduri  OK    ERROR  skipped
727/1974GenVisR 1.22.1  (landing page)Zachary Skidmore  OK    OK    OK  UNNEEDED, same version exists in internal repository
728/1974GEOmetadb 1.52.0  (landing page)Jack Zhu  OK    OK    WARNINGS  UNNEEDED, same version exists in internal repository
729/1974GEOquery 2.58.0  (landing page)Sean Davis  OK    OK    OK  UNNEEDED, same version exists in internal repository
730/1974GEOsubmission 1.42.0  (landing page)Alexandre Kuhn  OK    OK    OK  UNNEEDED, same version exists in internal repository
731/1974gep2pep 1.10.0  (landing page)Francesco Napolitano  OK    OK    OK  UNNEEDED, same version exists in internal repository
732/1974gespeR 1.22.0  (landing page)Fabian Schmich  OK    OK    WARNINGS  UNNEEDED, same version exists in internal repository
733/1974getDEE2 1.0.0  (landing page)Mark Ziemann  OK    OK    OK  UNNEEDED, same version exists in internal repository
734/1974GEWIST 1.34.0  (landing page)Wei Q. Deng  OK    OK    OK  UNNEEDED, same version exists in internal repository
735/1974GGBase 3.52.0  (landing page)VJ Carey  OK    OK    WARNINGS  UNNEEDED, same version exists in internal repository
736/1974ggbio 1.38.0  (landing page)Michael Lawrence  OK    OK    OK  UNNEEDED, same version exists in internal repository
737/1974ggcyto 1.18.0  (landing page)Mike Jiang ,Jake Wagner  OK    OK    OK  UNNEEDED, same version exists in internal repository
738/1974GGPA 1.2.0  (landing page)Dongjun Chung  OK    OK    OK  UNNEEDED, same version exists in internal repository
739/1974GGtools 5.26.0  (landing page)VJ Carey  OK    OK    ERROR  
740/1974ggtree 2.4.2  (landing page)Guangchuang Yu  OK    OK    OK  UNNEEDED, same version exists in internal repository
741/1974ggtreeExtra 1.0.4  (landing page)Shuangbin Xu  OK    OK    OK  UNNEEDED, same version exists in internal repository
742/1974GIGSEA 1.8.0  (landing page)Shijia Zhu  OK    OK    OK  UNNEEDED, same version exists in internal repository
743/1974girafe 1.42.0  (landing page)J. Toedling  OK    OK    OK  UNNEEDED, same version exists in internal repository
744/1974GISPA 1.14.0  (landing page)Bhakti Dwivedi  OK    OK    OK  UNNEEDED, same version exists in internal repository
745/1974GLAD 2.54.0  (landing page)Philippe Hupe  OK    OK    OK  UNNEEDED, same version exists in internal repository
746/1974GladiaTOX 1.6.1  (landing page)PMP S.A. R Support  OK    OK    OK  UNNEEDED, same version exists in internal repository
747/1974Glimma 2.0.0  (landing page)Shian Su  OK    OK    OK  UNNEEDED, same version exists in internal repository
748/1974glmGamPoi 1.2.0  (landing page)Constantin Ahlmann-Eltze  OK    OK    OK  UNNEEDED, same version exists in internal repository
749/1974glmSparseNet 1.8.1  (landing page)André Veríssimo  OK    OK    OK  UNNEEDED, same version exists in internal repository
750/1974GlobalAncova 4.8.0  (landing page)Manuela Hummel  OK    OK    OK  UNNEEDED, same version exists in internal repository
751/1974globalSeq 1.18.0  (landing page)Armin Rauschenberger  OK    OK    OK  UNNEEDED, same version exists in internal repository
752/1974globaltest 5.44.0  (landing page)Jelle Goeman  OK    OK    OK  UNNEEDED, same version exists in internal repository
753/1974gmapR 1.32.0  (landing page)Michael Lawrence  OK    OK    WARNINGS  UNNEEDED, same version exists in internal repository
754/1974GmicR 1.4.0  (landing page)Richard Virgen-Slane  OK    OK    OK  UNNEEDED, same version exists in internal repository
755/1974gmoviz 1.2.0  (landing page)Kathleen Zeglinski  OK    OK    OK  UNNEEDED, same version exists in internal repository
756/1974GMRP 1.18.0  (landing page)Yuan-De Tan  OK    OK    WARNINGS  UNNEEDED, same version exists in internal repository
757/1974GNET2 1.6.0  (landing page)Chen Chen  OK    OK    OK  UNNEEDED, same version exists in internal repository
758/1974GOexpress 1.24.0  (landing page)Kevin Rue-Albrecht  OK    OK    OK  UNNEEDED, same version exists in internal repository
759/1974GOfuncR 1.10.0  (landing page)Steffi Grote  OK    OK    OK  UNNEEDED, same version exists in internal repository
760/1974GOFunction 1.38.0  (landing page)Jing Wang  OK    ERROR  skipped
761/1974GOpro 1.16.0  (landing page)Lidia Chrabaszcz  OK    OK    WARNINGS  UNNEEDED, same version exists in internal repository
762/1974goProfiles 1.52.0  (landing page)Alex Sanchez  OK    OK    OK  UNNEEDED, same version exists in internal repository
763/1974GOSemSim 2.16.1  (landing page)Guangchuang Yu  OK    OK    OK  UNNEEDED, same version exists in internal repository
764/1974goseq 1.42.0  (landing page)Matthew Young , Nadia Davidson  OK    OK    OK  UNNEEDED, same version exists in internal repository
765/1974GOSim 1.28.0  (landing page)Holger Froehlich  OK    OK    OK  UNNEEDED, same version exists in internal repository
766/1974goSTAG 1.14.2  (landing page)Brian D. Bennett  OK    OK    OK  UNNEEDED, same version exists in internal repository
767/1974GOstats 2.56.0  (landing page)Bioconductor Package Maintainer  OK    OK    OK  UNNEEDED, same version exists in internal repository
768/1974GOsummaries 2.26.0  (landing page)Raivo Kolde  OK    OK    OK  UNNEEDED, same version exists in internal repository
769/1974GOTHiC 1.26.0  (landing page)Borbala Mifsud  OK    OK    OK  UNNEEDED, same version exists in internal repository
770/1974goTools 1.64.0  (landing page)Agnes Paquet  OK    OK    OK  UNNEEDED, same version exists in internal repository
771/1974GPA 1.2.0  (landing page)Dongjun Chung  OK    OK    OK  UNNEEDED, same version exists in internal repository
772/1974gpart 1.8.0  (landing page)Sun Ah Kim  OK    OK    OK  UNNEEDED, same version exists in internal repository
773/1974gpls 1.62.0  (landing page)Bioconductor Package Maintainer  OK    OK    WARNINGS  UNNEEDED, same version exists in internal repository
774/1974gprege 1.34.0  (landing page)Alfredo Kalaitzis  OK    OK    OK  UNNEEDED, same version exists in internal repository
775/1974gpuMagic 1.6.0  (landing page)Jiefei Wang  OK    OK    OK  UNNEEDED, same version exists in internal repository
776/1974gQTLBase 1.22.0  (landing page)VJ Carey  ERROR    ERROR  skipped
777/1974gQTLstats 1.22.0  (landing page)VJ Carey  ERROR    ERROR  skipped
778/1974gramm4R 1.4.0  (landing page)Tianlu Chen  ERROR    ERROR  skipped
779/1974graper 1.6.0  (landing page)Britta