Back to Multiple platform build/check report for BioC 3.12
ABCDEFGH[I]JKLMNOPQRSTUVWXYZ

BUILD BIN report for isomiRs on tokay1

This page was generated on 2021-05-05 12:12:14 -0400 (Wed, 05 May 2021).

To the developers/maintainers of the isomiRs package:
Please make sure to use the following settings in order to reproduce any error or warning you see on this page.
Package 923/1974HostnameOS / ArchINSTALLBUILDCHECKBUILD BIN
isomiRs 1.18.1  (landing page)
Lorena Pantano
Snapshot Date: 2021-05-04 14:50:13 -0400 (Tue, 04 May 2021)
URL: https://git.bioconductor.org/packages/isomiRs
Branch: RELEASE_3_12
Last Commit: 3f07703
Last Changed Date: 2021-01-28 15:04:24 -0400 (Thu, 28 Jan 2021)
malbec1Linux (Ubuntu 18.04.5 LTS) / x86_64  OK    OK    OK  UNNEEDED, same version exists in internal repository
tokay1Windows Server 2012 R2 Standard / x64  OK    OK    OK    OK  UNNEEDED, same version exists in internal repository
merida1macOS 10.14.6 Mojave / x86_64  OK    OK    OK    OK  UNNEEDED, same version exists in internal repository

Summary

Package: isomiRs
Version: 1.18.1
Command: rm -rf isomiRs.buildbin-libdir && mkdir isomiRs.buildbin-libdir && C:\Users\biocbuild\bbs-3.12-bioc\R\bin\R.exe CMD INSTALL --merge-multiarch --build --library=isomiRs.buildbin-libdir isomiRs_1.18.1.tar.gz
StartedAt: 2021-05-05 09:25:02 -0400 (Wed, 05 May 2021)
EndedAt: 2021-05-05 09:26:25 -0400 (Wed, 05 May 2021)
EllapsedTime: 83.5 seconds
RetCode: 0
Status:   OK   
PackageFile: isomiRs_1.18.1.zip
PackageFileSize: 2.065 MiB

Command output

##############################################################################
##############################################################################
###
### Running command:
###
###   rm -rf isomiRs.buildbin-libdir && mkdir isomiRs.buildbin-libdir && C:\Users\biocbuild\bbs-3.12-bioc\R\bin\R.exe CMD INSTALL --merge-multiarch --build --library=isomiRs.buildbin-libdir isomiRs_1.18.1.tar.gz
###
##############################################################################
##############################################################################



install for i386

* installing *source* package 'isomiRs' ...
** using staged installation
** R
** data
*** moving datasets to lazyload DB
Registered S3 method overwritten by 'GGally':
  method from   
  +.gg   ggplot2
** inst
** byte-compile and prepare package for lazy loading
** help
*** installing help indices
  converting help for package 'isomiRs'
    finding HTML links ... done
    IsomirDataSeq                           html  
    IsomirDataSeqFromFiles                  html  
    IsomirDataSeqFromMirtop                 html  
    IsomirDataSeqFromRawData                html  
    counts                                  html  
    dat286.long                             html  
    design                                  html  
    ego                                     html  
    findTargets                             html  
    gene_ex_rse                             html  
    isoAnnotate                             html  
    isoCounts                               html  
    isoDE                                   html  
    isoNetwork                              html  
    isoNorm                                 html  
    isoPLSDA                                html  
    isoPLSDAplot                            html  
    isoPlot                                 html  
    isoPlotNet                              html  
    isoPlotPosition                         html  
    isoSelect                               html  
    isoTop                                  html  
    isomiRs-package                         html  
    ma_ex                                   html  
    mirData                                 html  
    mirTritation                            html  
    mirna2targetscan                        html  
    mirna_ex_rse                            html  
    updateIsomirDataSeq                     html  
** building package indices
** installing vignettes
** testing if installed package can be loaded from temporary location
** testing if installed package can be loaded from final location
** testing if installed package keeps a record of temporary installation path

install for x64

* installing *source* package 'isomiRs' ...
** testing if installed package can be loaded
* MD5 sums
packaged installation of 'isomiRs' as isomiRs_1.18.1.zip
* DONE (isomiRs)