Back to Multiple platform build/check report for BioC 3.12
ABCDEFGH[I]JKLMNOPQRSTUVWXYZ

Multiple platform build/check report for BioC 3.12

All results for package interactiveDisplayBase

This page was generated on 2021-05-05 12:08:57 -0400 (Wed, 05 May 2021).

Package 903/1974HostnameOS / ArchINSTALLBUILDCHECKBUILD BIN
interactiveDisplayBase 1.28.0  (landing page)
Shawn Balcome
Snapshot Date: 2021-05-04 14:50:13 -0400 (Tue, 04 May 2021)
URL: https://git.bioconductor.org/packages/interactiveDisplayBase
Branch: RELEASE_3_12
Last Commit: a74c02c
Last Changed Date: 2020-10-27 10:57:55 -0400 (Tue, 27 Oct 2020)
malbec1Linux (Ubuntu 18.04.5 LTS) / x86_64  OK    OK    OK  UNNEEDED, same version exists in internal repository
tokay1Windows Server 2012 R2 Standard / x64  OK    OK    OK    OK  UNNEEDED, same version exists in internal repository
merida1macOS 10.14.6 Mojave / x86_64  OK    OK    OK    OK  UNNEEDED, same version exists in internal repository

Results for Bioconductor software packages that depend directly on package interactiveDisplayBase

QUICK STATSOS / ArchINSTALLBUILDCHECKBUILD BIN
malbec1Linux (Ubuntu 18.04.5 LTS) / x86_64
002
002
0020
tokay1Windows Server 2012 R2 Standard / x64
002
002
0110
002
merida1macOS 10.14.6 Mojave / x86_64
002
002
0020
002
Package 1/2HostnameOS / ArchINSTALLBUILDCHECKBUILD BIN
AnnotationHub 2.22.1  (landing page)
Bioconductor Package Maintainer
Last Commit: 73fe9c7
Last Changed Date: 2021-04-16 08:28:19 -0400
malbec1Linux (Ubuntu 18.04.5 LTS) / x86_64  OK    OK    WARNINGS  UNNEEDED, same version exists in internal repository
tokay1Windows Server 2012 R2 Standard / x64  OK    OK    ERROR    OK  
merida1macOS 10.14.6 Mojave / x86_64  OK    OK    WARNINGS    OK  UNNEEDED, same version exists in internal repository
Package 2/2HostnameOS / ArchINSTALLBUILDCHECKBUILD BIN
interactiveDisplay 1.28.0  (landing page)
Shawn Balcome
Last Commit: 55ae0c4
Last Changed Date: 2020-10-27 10:53:47 -0400
malbec1Linux (Ubuntu 18.04.5 LTS) / x86_64  OK    OK    WARNINGS  UNNEEDED, same version exists in internal repository
tokay1Windows Server 2012 R2 Standard / x64  OK    OK    WARNINGS    OK  UNNEEDED, same version exists in internal repository
merida1macOS 10.14.6 Mojave / x86_64  OK    OK    WARNINGS    OK  UNNEEDED, same version exists in internal repository