Back to Multiple platform build/check report for BioC 3.12
ABCDEFG[H]IJKLMNOPQRSTUVWXYZ

BUILD BIN report for heatmaps on tokay1

This page was generated on 2021-05-05 12:12:05 -0400 (Wed, 05 May 2021).

To the developers/maintainers of the heatmaps package:
Please make sure to use the following settings in order to reproduce any error or warning you see on this page.
Package 821/1974HostnameOS / ArchINSTALLBUILDCHECKBUILD BIN
heatmaps 1.14.0  (landing page)
Malcolm Perry
Snapshot Date: 2021-05-04 14:50:13 -0400 (Tue, 04 May 2021)
URL: https://git.bioconductor.org/packages/heatmaps
Branch: RELEASE_3_12
Last Commit: 6e5cabd
Last Changed Date: 2020-10-27 11:24:04 -0400 (Tue, 27 Oct 2020)
malbec1Linux (Ubuntu 18.04.5 LTS) / x86_64  OK    OK    OK  UNNEEDED, same version exists in internal repository
tokay1Windows Server 2012 R2 Standard / x64  OK    OK    OK    OK  UNNEEDED, same version exists in internal repository
merida1macOS 10.14.6 Mojave / x86_64  OK    OK    OK    OK  UNNEEDED, same version exists in internal repository

Summary

Package: heatmaps
Version: 1.14.0
Command: rm -rf heatmaps.buildbin-libdir && mkdir heatmaps.buildbin-libdir && C:\Users\biocbuild\bbs-3.12-bioc\R\bin\R.exe CMD INSTALL --merge-multiarch --build --library=heatmaps.buildbin-libdir heatmaps_1.14.0.tar.gz
StartedAt: 2021-05-05 09:19:24 -0400 (Wed, 05 May 2021)
EndedAt: 2021-05-05 09:20:04 -0400 (Wed, 05 May 2021)
EllapsedTime: 40.3 seconds
RetCode: 0
Status:   OK   
PackageFile: heatmaps_1.14.0.zip
PackageFileSize: 8.382 MiB

Command output

##############################################################################
##############################################################################
###
### Running command:
###
###   rm -rf heatmaps.buildbin-libdir && mkdir heatmaps.buildbin-libdir && C:\Users\biocbuild\bbs-3.12-bioc\R\bin\R.exe CMD INSTALL --merge-multiarch --build --library=heatmaps.buildbin-libdir heatmaps_1.14.0.tar.gz
###
##############################################################################
##############################################################################



install for i386

* installing *source* package 'heatmaps' ...
** using staged installation
** R
** data
** inst
** byte-compile and prepare package for lazy loading
Creating a new generic function for 'scale' in package 'heatmaps'
** help
*** installing help indices
  converting help for package 'heatmaps'
    finding HTML links ... done
    CoverageHeatmap                         html  
    Heatmap-class                           html  
    Heatmap                                 html  
    HeatmapExamples                         html  
    PWMScanHeatmap                          html  
    PatternHeatmap                          html  
    coords                                  html  
    default_color                           html  
    getScale                                html  
    heatmapOptions                          html  
    image                                   html  
    label                                   html  
    length-Heatmap-method                   html  
    metadata                                html  
    nseq                                    html  
    plotHeatmap                             html  
    plotHeatmapList                         html  
    plotHeatmapMeta                         html  
    plotPatternDensityMap                   html  
    plot_clusters                           html  
    plot_legend                             html  
    rev-Heatmap-method                      html  
    scale                                   html  
    smoothHeatmap                           html  
    width-Heatmap-method                    html  
    xm                                      html  
    ym                                      html  
** building package indices
** installing vignettes
** testing if installed package can be loaded from temporary location
** testing if installed package can be loaded from final location
** testing if installed package keeps a record of temporary installation path

install for x64

* installing *source* package 'heatmaps' ...
** testing if installed package can be loaded
* MD5 sums
packaged installation of 'heatmaps' as heatmaps_1.14.0.zip
* DONE (heatmaps)