Back to Multiple platform build/check report for BioC 3.12
ABCDEF[G]HIJKLMNOPQRSTUVWXYZ

BUILD BIN report for graph on merida1

This page was generated on 2021-05-05 12:14:20 -0400 (Wed, 05 May 2021).

To the developers/maintainers of the graph package:
Please make sure to use the following settings in order to reproduce any error or warning you see on this page.
Package 780/1974HostnameOS / ArchINSTALLBUILDCHECKBUILD BIN
graph 1.68.0  (landing page)
Bioconductor Package Maintainer
Snapshot Date: 2021-05-04 14:50:13 -0400 (Tue, 04 May 2021)
URL: https://git.bioconductor.org/packages/graph
Branch: RELEASE_3_12
Last Commit: 03ad9ed
Last Changed Date: 2020-10-27 10:22:18 -0400 (Tue, 27 Oct 2020)
malbec1Linux (Ubuntu 18.04.5 LTS) / x86_64  OK    OK    OK  UNNEEDED, same version exists in internal repository
tokay1Windows Server 2012 R2 Standard / x64  OK    OK    OK    OK  UNNEEDED, same version exists in internal repository
merida1macOS 10.14.6 Mojave / x86_64  OK    OK    OK    OK  UNNEEDED, same version exists in internal repository

Summary

Package: graph
Version: 1.68.0
Command: rm -rf graph.buildbin-libdir && mkdir graph.buildbin-libdir && /Users/biocbuild/BBS/utils/build-universal.sh graph_1.68.0.tar.gz /Library/Frameworks/R.framework/Versions/Current/Resources/bin/R graph.buildbin-libdir
StartedAt: 2021-05-05 09:15:07 -0400 (Wed, 05 May 2021)
EndedAt: 2021-05-05 09:15:54 -0400 (Wed, 05 May 2021)
EllapsedTime: 46.4 seconds
RetCode: 0
Status:   OK  
PackageFile: graph_1.68.0.tgz
PackageFileSize: 1.55 MiB

Command output

##############################################################################
##############################################################################
###
### Running command:
###
###   rm -rf graph.buildbin-libdir && mkdir graph.buildbin-libdir && /Users/biocbuild/BBS/utils/build-universal.sh graph_1.68.0.tar.gz /Library/Frameworks/R.framework/Versions/Current/Resources/bin/R graph.buildbin-libdir
###
##############################################################################
##############################################################################


>>>>>>> 
>>>>>>> INSTALLATION WITH 'R CMD INSTALL --preclean --no-multiarch --library=graph.buildbin-libdir graph_1.68.0.tar.gz'
>>>>>>> 

* installing *source* package ‘graph’ ...
** using staged installation
** libs
clang -mmacosx-version-min=10.13 -I"/Library/Frameworks/R.framework/Resources/include" -DNDEBUG   -I/usr/local/include   -fPIC  -Wall -g -O2  -c graph.c -o graph.o
clang -mmacosx-version-min=10.13 -dynamiclib -Wl,-headerpad_max_install_names -undefined dynamic_lookup -single_module -multiply_defined suppress -L/Library/Frameworks/R.framework/Resources/lib -L/usr/local/lib -o graph.so graph.o -F/Library/Frameworks/R.framework/.. -framework R -Wl,-framework -Wl,CoreFoundation
mv graph.so BioC_graph.so
installing to /Users/biocbuild/bbs-3.12-bioc/meat/graph.buildbin-libdir/00LOCK-graph/00new/graph/libs
** R
** data
** inst
** byte-compile and prepare package for lazy loading
** help
*** installing help indices
** building package indices
** installing vignettes
** testing if installed package can be loaded from temporary location
** checking absolute paths in shared objects and dynamic libraries
** testing if installed package can be loaded from final location
** testing if installed package keeps a record of temporary installation path
* DONE (graph)


>>>>>>> 
>>>>>>> FIXING LINKS FOR graph.buildbin-libdir/graph/libs/BioC_graph.so
>>>>>>> 

install_name_tool -change "/usr/local/lib/libgcc_s.1.dylib" "/Library/Frameworks/R.framework/Versions/4.0/Resources/lib/libgcc_s.1.dylib" "graph.buildbin-libdir/graph/libs/BioC_graph.so"
install_name_tool -change "/usr/local/lib/libgfortran.5.dylib" "/Library/Frameworks/R.framework/Versions/4.0/Resources/lib/libgfortran.5.dylib" "graph.buildbin-libdir/graph/libs/BioC_graph.so"
install_name_tool -change "/usr/local/lib/libquadmath.0.dylib" "/Library/Frameworks/R.framework/Versions/4.0/Resources/lib/libquadmath.0.dylib" "graph.buildbin-libdir/graph/libs/BioC_graph.so"