Back to Multiple platform build/check report for BioC 3.12
ABCDEF[G]HIJKLMNOPQRSTUVWXYZ

BUILD report for genotypeeval on tokay1

This page was generated on 2021-05-05 12:12:00 -0400 (Wed, 05 May 2021).

To the developers/maintainers of the genotypeeval package:
Please make sure to use the following settings in order to reproduce any error or warning you see on this page.
Package 724/1974HostnameOS / ArchINSTALLBUILDCHECKBUILD BIN
genotypeeval 1.22.0  (landing page)
Jennifer Tom
Snapshot Date: 2021-05-04 14:50:13 -0400 (Tue, 04 May 2021)
URL: https://git.bioconductor.org/packages/genotypeeval
Branch: RELEASE_3_12
Last Commit: fdb3376
Last Changed Date: 2020-10-27 11:06:38 -0400 (Tue, 27 Oct 2020)
malbec1Linux (Ubuntu 18.04.5 LTS) / x86_64  OK    OK    OK  UNNEEDED, same version exists in internal repository
tokay1Windows Server 2012 R2 Standard / x64  OK    OK    OK    OK  YES, package does not exist in internal repository.
merida1macOS 10.14.6 Mojave / x86_64  OK    OK    OK    OK  UNNEEDED, same version exists in internal repository

Summary

Package: genotypeeval
Version: 1.22.0
Command: chmod a+r genotypeeval -R && C:\Users\biocbuild\bbs-3.12-bioc\R\bin\R.exe CMD build --keep-empty-dirs --no-resave-data genotypeeval
StartedAt: 2021-05-04 21:15:20 -0400 (Tue, 04 May 2021)
EndedAt: 2021-05-04 21:15:29 -0400 (Tue, 04 May 2021)
EllapsedTime: 9.0 seconds
RetCode: 0
Status:   OK   
PackageFile: genotypeeval_1.22.0.tar.gz
PackageFileSize: 403.4 KiB

Command output

##############################################################################
##############################################################################
###
### Running command:
###
###   chmod a+r genotypeeval -R && C:\Users\biocbuild\bbs-3.12-bioc\R\bin\R.exe CMD build --keep-empty-dirs --no-resave-data genotypeeval
###
##############################################################################
##############################################################################


* checking for file 'genotypeeval/DESCRIPTION' ... OK
* preparing 'genotypeeval':
* checking DESCRIPTION meta-information ... OK
* checking for LF line-endings in source and make files and shell scripts
* checking for empty or unneeded directories
* building 'genotypeeval_1.22.0.tar.gz'