Back to Multiple platform build/check report for BioC 3.12
ABCDEF[G]HIJKLMNOPQRSTUVWXYZ

Multiple platform build/check report for BioC 3.12

All results for package geneplotter

This page was generated on 2021-05-05 12:08:48 -0400 (Wed, 05 May 2021).

Package 695/1974HostnameOS / ArchINSTALLBUILDCHECKBUILD BIN
geneplotter 1.68.0  (landing page)
Bioconductor Package Maintainer
Snapshot Date: 2021-05-04 14:50:13 -0400 (Tue, 04 May 2021)
URL: https://git.bioconductor.org/packages/geneplotter
Branch: RELEASE_3_12
Last Commit: f1fea7e
Last Changed Date: 2020-10-27 10:21:46 -0400 (Tue, 27 Oct 2020)
malbec1Linux (Ubuntu 18.04.5 LTS) / x86_64  OK    OK    OK  UNNEEDED, same version exists in internal repository
tokay1Windows Server 2012 R2 Standard / x64  OK    OK    OK    OK  UNNEEDED, same version exists in internal repository
merida1macOS 10.14.6 Mojave / x86_64  OK    OK    OK    OK  UNNEEDED, same version exists in internal repository

Results for Bioconductor software packages that depend directly on package geneplotter

QUICK STATSOS / ArchINSTALLBUILDCHECKBUILD BIN
malbec1Linux (Ubuntu 18.04.5 LTS) / x86_64
0010
019
0117
tokay1Windows Server 2012 R2 Standard / x64
0010
019
0117
009
merida1macOS 10.14.6 Mojave / x86_64
0010
019
0117
009
Package 1/10HostnameOS / ArchINSTALLBUILDCHECKBUILD BIN
biocGraph 1.52.0  (landing page)
Florian Hahne
Last Commit: 0ffc853
Last Changed Date: 2020-10-27 10:31:29 -0400
malbec1Linux (Ubuntu 18.04.5 LTS) / x86_64  OK    OK    OK  UNNEEDED, same version exists in internal repository
tokay1Windows Server 2012 R2 Standard / x64  OK    OK    OK    OK  UNNEEDED, same version exists in internal repository
merida1macOS 10.14.6 Mojave / x86_64  OK    OK    OK    OK  UNNEEDED, same version exists in internal repository
Package 2/10HostnameOS / ArchINSTALLBUILDCHECKBUILD BIN
DESeq 1.42.0  (landing page)
Simon Anders
Last Commit: da76bc6
Last Changed Date: 2020-10-27 10:37:14 -0400
malbec1Linux (Ubuntu 18.04.5 LTS) / x86_64  OK    ERROR  skipped
tokay1Windows Server 2012 R2 Standard / x64  OK    ERROR  skippedskipped
merida1macOS 10.14.6 Mojave / x86_64  OK    ERROR  skippedskipped
Package 3/10HostnameOS / ArchINSTALLBUILDCHECKBUILD BIN
DESeq2 1.30.1  (landing page)
Michael Love
Last Commit: 340e674
Last Changed Date: 2021-02-19 14:26:47 -0400
malbec1Linux (Ubuntu 18.04.5 LTS) / x86_64  OK    OK    OK  UNNEEDED, same version exists in internal repository
tokay1Windows Server 2012 R2 Standard / x64  OK    OK    OK    OK  UNNEEDED, same version exists in internal repository
merida1macOS 10.14.6 Mojave / x86_64  OK    OK    OK    OK  UNNEEDED, same version exists in internal repository
Package 4/10HostnameOS / ArchINSTALLBUILDCHECKBUILD BIN
DEXSeq 1.36.0  (landing page)
Alejandro Reyes
Last Commit: f0a361a
Last Changed Date: 2020-10-27 10:41:49 -0400
malbec1Linux (Ubuntu 18.04.5 LTS) / x86_64  OK    OK    OK  UNNEEDED, same version exists in internal repository
tokay1Windows Server 2012 R2 Standard / x64  OK    OK    OK    OK  UNNEEDED, same version exists in internal repository
merida1macOS 10.14.6 Mojave / x86_64  OK    OK    OK    OK  UNNEEDED, same version exists in internal repository
Package 5/10HostnameOS / ArchINSTALLBUILDCHECKBUILD BIN
ENmix 1.26.10  (landing page)
Zongli Xu
Last Commit: c027267
Last Changed Date: 2021-05-01 21:12:03 -0400
malbec1Linux (Ubuntu 18.04.5 LTS) / x86_64  OK    OK    OK  UNNEEDED, same version exists in internal repository
tokay1Windows Server 2012 R2 Standard / x64  OK    OK    OK    OK  UNNEEDED, same version exists in internal repository
merida1macOS 10.14.6 Mojave / x86_64  OK    OK    OK    OK  UNNEEDED, same version exists in internal repository
Package 6/10HostnameOS / ArchINSTALLBUILDCHECKBUILD BIN
IsoGeneGUI 2.26.0  (landing page)
Setia Pramana
Last Commit: 5abb439
Last Changed Date: 2020-10-27 10:38:37 -0400
malbec1Linux (Ubuntu 18.04.5 LTS) / x86_64  OK    OK    OK  UNNEEDED, same version exists in internal repository
tokay1Windows Server 2012 R2 Standard / x64  OK    OK    OK    OK  UNNEEDED, same version exists in internal repository
merida1macOS 10.14.6 Mojave / x86_64  OK    OK    OK    OK  UNNEEDED, same version exists in internal repository
Package 7/10HostnameOS / ArchINSTALLBUILDCHECKBUILD BIN
JunctionSeq 1.20.0  (landing page)
Stephen Hartley
Last Commit: b47b4bb
Last Changed Date: 2020-10-27 11:10:31 -0400
malbec1Linux (Ubuntu 18.04.5 LTS) / x86_64  OK    OK    ERROR  
tokay1Windows Server 2012 R2 Standard / x64  OK    OK    ERROR    OK  
merida1macOS 10.14.6 Mojave / x86_64  OK    OK    ERROR    OK  
Package 8/10HostnameOS / ArchINSTALLBUILDCHECKBUILD BIN
MethylSeekR 1.30.0  (landing page)
Lukas Burger
Last Commit: f3dee06
Last Changed Date: 2020-10-27 10:49:03 -0400
malbec1Linux (Ubuntu 18.04.5 LTS) / x86_64  OK    OK    OK  UNNEEDED, same version exists in internal repository
tokay1Windows Server 2012 R2 Standard / x64  OK    OK    OK    OK  UNNEEDED, same version exists in internal repository
merida1macOS 10.14.6 Mojave / x86_64  OK    OK    OK    OK  UNNEEDED, same version exists in internal repository
Package 9/10HostnameOS / ArchINSTALLBUILDCHECKBUILD BIN
RNAinteract 1.38.0  (landing page)
Bernd Fischer
Last Commit: e6318ee
Last Changed Date: 2020-10-27 10:40:20 -0400
malbec1Linux (Ubuntu 18.04.5 LTS) / x86_64  OK    OK    OK  UNNEEDED, same version exists in internal repository
tokay1Windows Server 2012 R2 Standard / x64  OK    OK    OK    OK  UNNEEDED, same version exists in internal repository
merida1macOS 10.14.6 Mojave / x86_64  OK    OK    OK    OK  UNNEEDED, same version exists in internal repository
Package 10/10HostnameOS / ArchINSTALLBUILDCHECKBUILD BIN
RNAither 2.38.0  (landing page)
Lars Kaderali
Last Commit: c2ad330
Last Changed Date: 2020-10-27 10:34:29 -0400
malbec1Linux (Ubuntu 18.04.5 LTS) / x86_64  OK    OK    WARNINGS  UNNEEDED, same version exists in internal repository
tokay1Windows Server 2012 R2 Standard / x64  OK    OK    WARNINGS    OK  UNNEEDED, same version exists in internal repository
merida1macOS 10.14.6 Mojave / x86_64  OK    OK    WARNINGS    OK  UNNEEDED, same version exists in internal repository