Back to Multiple platform build/check report for BioC 3.12
ABCDEF[G]HIJKLMNOPQRSTUVWXYZ

BUILD report for geneXtendeR on merida1

This page was generated on 2021-05-05 12:14:17 -0400 (Wed, 05 May 2021).

To the developers/maintainers of the geneXtendeR package:
Please make sure to use the following settings in order to reproduce any error or warning you see on this page.
Package 706/1974HostnameOS / ArchINSTALLBUILDCHECKBUILD BIN
geneXtendeR 1.16.0  (landing page)
Bohdan Khomtchouk
Snapshot Date: 2021-05-04 14:50:13 -0400 (Tue, 04 May 2021)
URL: https://git.bioconductor.org/packages/geneXtendeR
Branch: RELEASE_3_12
Last Commit: 30dad28
Last Changed Date: 2020-10-27 11:18:19 -0400 (Tue, 27 Oct 2020)
malbec1Linux (Ubuntu 18.04.5 LTS) / x86_64  OK    OK    WARNINGS  UNNEEDED, same version exists in internal repository
tokay1Windows Server 2012 R2 Standard / x64  OK    OK    OK    OK  UNNEEDED, same version exists in internal repository
merida1macOS 10.14.6 Mojave / x86_64  OK    OK    OK    OK  UNNEEDED, same version exists in internal repository

Summary

Package: geneXtendeR
Version: 1.16.0
Command: /Library/Frameworks/R.framework/Versions/Current/Resources/bin/R CMD build --keep-empty-dirs --no-resave-data geneXtendeR
StartedAt: 2021-05-04 19:39:11 -0400 (Tue, 04 May 2021)
EndedAt: 2021-05-04 19:39:54 -0400 (Tue, 04 May 2021)
EllapsedTime: 42.9 seconds
RetCode: 0
Status:   OK  
PackageFile: geneXtendeR_1.16.0.tar.gz
PackageFileSize: 11.74 MiB

Command output

##############################################################################
##############################################################################
###
### Running command:
###
###   /Library/Frameworks/R.framework/Versions/Current/Resources/bin/R CMD build --keep-empty-dirs --no-resave-data geneXtendeR
###
##############################################################################
##############################################################################


* checking for file ‘geneXtendeR/DESCRIPTION’ ... OK
* preparing ‘geneXtendeR’:
* checking DESCRIPTION meta-information ... OK
* cleaning src
* checking for LF line-endings in source and make files and shell scripts
* checking for empty or unneeded directories
* building ‘geneXtendeR_1.16.0.tar.gz’