Back to Multiple platform build/check report for BioC 3.12
ABCDEF[G]HIJKLMNOPQRSTUVWXYZ

BUILD report for gcapc on merida1

This page was generated on 2021-05-05 12:14:14 -0400 (Wed, 05 May 2021).

To the developers/maintainers of the gcapc package:
Please make sure to use the following settings in order to reproduce any error or warning you see on this page.
Package 667/1974HostnameOS / ArchINSTALLBUILDCHECKBUILD BIN
gcapc 1.14.0  (landing page)
Mingxiang Teng
Snapshot Date: 2021-05-04 14:50:13 -0400 (Tue, 04 May 2021)
URL: https://git.bioconductor.org/packages/gcapc
Branch: RELEASE_3_12
Last Commit: 6c7d83d
Last Changed Date: 2020-10-27 11:20:02 -0400 (Tue, 27 Oct 2020)
malbec1Linux (Ubuntu 18.04.5 LTS) / x86_64  OK    OK    OK  UNNEEDED, same version exists in internal repository
tokay1Windows Server 2012 R2 Standard / x64  OK    OK    WARNINGS    OK  UNNEEDED, same version exists in internal repository
merida1macOS 10.14.6 Mojave / x86_64  OK    OK    OK    OK  UNNEEDED, same version exists in internal repository

Summary

Package: gcapc
Version: 1.14.0
Command: /Library/Frameworks/R.framework/Versions/Current/Resources/bin/R CMD build --keep-empty-dirs --no-resave-data gcapc
StartedAt: 2021-05-04 19:35:01 -0400 (Tue, 04 May 2021)
EndedAt: 2021-05-04 19:39:01 -0400 (Tue, 04 May 2021)
EllapsedTime: 239.3 seconds
RetCode: 0
Status:   OK  
PackageFile: gcapc_1.14.0.tar.gz
PackageFileSize: 3.762 MiB

Command output

##############################################################################
##############################################################################
###
### Running command:
###
###   /Library/Frameworks/R.framework/Versions/Current/Resources/bin/R CMD build --keep-empty-dirs --no-resave-data gcapc
###
##############################################################################
##############################################################################


* checking for file ‘gcapc/DESCRIPTION’ ... OK
* preparing ‘gcapc’:
* checking DESCRIPTION meta-information ... OK
* installing the package to build vignettes
* creating vignettes ... OK
* checking for LF line-endings in source and make files and shell scripts
* checking for empty or unneeded directories
* building ‘gcapc_1.14.0.tar.gz’