Back to Multiple platform build/check report for BioC 3.12
ABCDE[F]GHIJKLMNOPQRSTUVWXYZ

BUILD BIN report for flowSpecs on tokay1

This page was generated on 2021-05-05 12:11:54 -0400 (Wed, 05 May 2021).

To the developers/maintainers of the flowSpecs package:
Please make sure to use the following settings in order to reproduce any error or warning you see on this page.
Package 632/1974HostnameOS / ArchINSTALLBUILDCHECKBUILD BIN
flowSpecs 1.4.0  (landing page)
Jakob Theorell
Snapshot Date: 2021-05-04 14:50:13 -0400 (Tue, 04 May 2021)
URL: https://git.bioconductor.org/packages/flowSpecs
Branch: RELEASE_3_12
Last Commit: 8ad2220
Last Changed Date: 2020-10-27 11:49:28 -0400 (Tue, 27 Oct 2020)
malbec1Linux (Ubuntu 18.04.5 LTS) / x86_64  OK    OK    OK  UNNEEDED, same version exists in internal repository
tokay1Windows Server 2012 R2 Standard / x64  OK    OK    OK    OK  UNNEEDED, same version exists in internal repository
merida1macOS 10.14.6 Mojave / x86_64  OK    OK    OK    OK  UNNEEDED, same version exists in internal repository

Summary

Package: flowSpecs
Version: 1.4.0
Command: rm -rf flowSpecs.buildbin-libdir && mkdir flowSpecs.buildbin-libdir && C:\Users\biocbuild\bbs-3.12-bioc\R\bin\R.exe CMD INSTALL --merge-multiarch --build --library=flowSpecs.buildbin-libdir flowSpecs_1.4.0.tar.gz
StartedAt: 2021-05-05 09:08:56 -0400 (Wed, 05 May 2021)
EndedAt: 2021-05-05 09:09:42 -0400 (Wed, 05 May 2021)
EllapsedTime: 45.6 seconds
RetCode: 0
Status:   OK   
PackageFile: flowSpecs_1.4.0.zip
PackageFileSize: 3.31 MiB

Command output

##############################################################################
##############################################################################
###
### Running command:
###
###   rm -rf flowSpecs.buildbin-libdir && mkdir flowSpecs.buildbin-libdir && C:\Users\biocbuild\bbs-3.12-bioc\R\bin\R.exe CMD INSTALL --merge-multiarch --build --library=flowSpecs.buildbin-libdir flowSpecs_1.4.0.tar.gz
###
##############################################################################
##############################################################################



install for i386

* installing *source* package 'flowSpecs' ...
** using staged installation
** R
** data
** inst
** byte-compile and prepare package for lazy loading
** help
*** installing help indices
  converting help for package 'flowSpecs'
    finding HTML links ... done
    arcTrans                                html  
    corrMatCreate                           html  
    correctUnmix                            html  
    flowSet2LongDf                          html  
    flowSpecs-package                       html  
    fullPanel                               html  
    newExprs-set                            html  
    oneVsAllPlot                            html  
    peakIdenti                              html  
    peakNorm                                html  
    specMat                                 html  
    specMatCalc                             html  
    specUnmix                               html  
    unmixCtrls                              html  
** building package indices
** installing vignettes
** testing if installed package can be loaded from temporary location
** testing if installed package can be loaded from final location
** testing if installed package keeps a record of temporary installation path

install for x64

* installing *source* package 'flowSpecs' ...
** testing if installed package can be loaded
* MD5 sums
packaged installation of 'flowSpecs' as flowSpecs_1.4.0.zip
* DONE (flowSpecs)