Back to Multiple platform build/check report for BioC 3.12
ABCDE[F]GHIJKLMNOPQRSTUVWXYZ

INSTALL report for flowBin on merida1

This page was generated on 2021-05-05 12:14:12 -0400 (Wed, 05 May 2021).

To the developers/maintainers of the flowBin package:
Please make sure to use the following settings in order to reproduce any error or warning you see on this page.
Package 611/1974HostnameOS / ArchINSTALLBUILDCHECKBUILD BIN
flowBin 1.26.0  (landing page)
Kieran O'Neill
Snapshot Date: 2021-05-04 14:50:13 -0400 (Tue, 04 May 2021)
URL: https://git.bioconductor.org/packages/flowBin
Branch: RELEASE_3_12
Last Commit: 9c939b6
Last Changed Date: 2020-10-27 10:54:14 -0400 (Tue, 27 Oct 2020)
malbec1Linux (Ubuntu 18.04.5 LTS) / x86_64  OK    OK    OK  UNNEEDED, same version exists in internal repository
tokay1Windows Server 2012 R2 Standard / x64  OK    OK    OK    OK  UNNEEDED, same version exists in internal repository
merida1macOS 10.14.6 Mojave / x86_64  OK    OK    OK    OK  UNNEEDED, same version exists in internal repository

Summary

Package: flowBin
Version: 1.26.0
Command: /Library/Frameworks/R.framework/Versions/Current/Resources/bin/R CMD INSTALL flowBin
StartedAt: 2021-05-04 16:28:00 -0400 (Tue, 04 May 2021)
EndedAt: 2021-05-04 16:28:36 -0400 (Tue, 04 May 2021)
EllapsedTime: 35.9 seconds
RetCode: 0
Status:   OK  

Command output

##############################################################################
##############################################################################
###
### Running command:
###
###   /Library/Frameworks/R.framework/Versions/Current/Resources/bin/R CMD INSTALL flowBin
###
##############################################################################
##############################################################################


* installing to library ‘/Library/Frameworks/R.framework/Versions/4.0/Resources/library’
* installing *source* package ‘flowBin’ ...
** using staged installation
** R
** data
** inst
** byte-compile and prepare package for lazy loading
** help
*** installing help indices
** building package indices
** installing vignettes
** testing if installed package can be loaded from temporary location
** testing if installed package can be loaded from final location
** testing if installed package keeps a record of temporary installation path
* DONE (flowBin)